BEGIN:VCALENDAR
VERSION:2.0
PRODID:-//Sapelo Hammock Golf Club - ECPv6.15.18//NONSGML v1.0//EN
CALSCALE:GREGORIAN
METHOD:PUBLISH
X-ORIGINAL-URL:https://www.sapelohammockgolfclub.com
X-WR-CALDESC:Events for Sapelo Hammock Golf Club
REFRESH-INTERVAL;VALUE=DURATION:PT1H
X-Robots-Tag:noindex
X-PUBLISHED-TTL:PT1H
BEGIN:VTIMEZONE
TZID:America/New_York
BEGIN:DAYLIGHT
TZOFFSETFROM:-0500
TZOFFSETTO:-0400
TZNAME:EDT
DTSTART:20280312T070000
END:DAYLIGHT
BEGIN:STANDARD
TZOFFSETFROM:-0400
TZOFFSETTO:-0500
TZNAME:EST
DTSTART:20281105T060000
END:STANDARD
BEGIN:DAYLIGHT
TZOFFSETFROM:-0500
TZOFFSETTO:-0400
TZNAME:EDT
DTSTART:20290311T070000
END:DAYLIGHT
BEGIN:STANDARD
TZOFFSETFROM:-0400
TZOFFSETTO:-0500
TZNAME:EST
DTSTART:20291104T060000
END:STANDARD
BEGIN:DAYLIGHT
TZOFFSETFROM:-0500
TZOFFSETTO:-0400
TZNAME:EDT
DTSTART:20300310T070000
END:DAYLIGHT
BEGIN:STANDARD
TZOFFSETFROM:-0400
TZOFFSETTO:-0500
TZNAME:EST
DTSTART:20301103T060000
END:STANDARD
BEGIN:DAYLIGHT
TZOFFSETFROM:-0500
TZOFFSETTO:-0400
TZNAME:EDT
DTSTART:20310309T070000
END:DAYLIGHT
BEGIN:STANDARD
TZOFFSETFROM:-0400
TZOFFSETTO:-0500
TZNAME:EST
DTSTART:20311102T060000
END:STANDARD
END:VTIMEZONE
BEGIN:VEVENT
DTSTART;TZID=America/New_York:20290615T173000
DTEND;TZID=America/New_York:20290615T200000
DTSTAMP:20260420T215047
CREATED:20250801T170518Z
LAST-MODIFIED:20250801T170518Z
UID:10001613-1876239000-1876248000@www.sapelohammockgolfclub.com
SUMMARY:Cocktails & Sunsets
DESCRIPTION:Cocktails & Sunsets 5:30 pm – 8:00 pm  
URL:https://www.sapelohammockgolfclub.com/event/cocktails-sunsets-80/2029-06-15/
CATEGORIES:Event
END:VEVENT
BEGIN:VEVENT
DTSTART;TZID=America/New_York:20290622T173000
DTEND;TZID=America/New_York:20290622T200000
DTSTAMP:20260420T215047
CREATED:20250801T170518Z
LAST-MODIFIED:20250801T170518Z
UID:10001614-1876843800-1876852800@www.sapelohammockgolfclub.com
SUMMARY:Cocktails & Sunsets
DESCRIPTION:Cocktails & Sunsets 5:30 pm – 8:00 pm  
URL:https://www.sapelohammockgolfclub.com/event/cocktails-sunsets-80/2029-06-22/
CATEGORIES:Event
END:VEVENT
BEGIN:VEVENT
DTSTART;TZID=America/New_York:20290629T173000
DTEND;TZID=America/New_York:20290629T200000
DTSTAMP:20260420T215047
CREATED:20250801T170518Z
LAST-MODIFIED:20250801T170518Z
UID:10001615-1877448600-1877457600@www.sapelohammockgolfclub.com
SUMMARY:Cocktails & Sunsets
DESCRIPTION:Cocktails & Sunsets 5:30 pm – 8:00 pm  
URL:https://www.sapelohammockgolfclub.com/event/cocktails-sunsets-80/2029-06-29/
CATEGORIES:Event
END:VEVENT
BEGIN:VEVENT
DTSTART;TZID=America/New_York:20290706T173000
DTEND;TZID=America/New_York:20290706T200000
DTSTAMP:20260420T215047
CREATED:20250801T170518Z
LAST-MODIFIED:20250801T170518Z
UID:10001616-1878053400-1878062400@www.sapelohammockgolfclub.com
SUMMARY:Cocktails & Sunsets
DESCRIPTION:Cocktails & Sunsets 5:30 pm – 8:00 pm  
URL:https://www.sapelohammockgolfclub.com/event/cocktails-sunsets-80/2029-07-06/
CATEGORIES:Event
END:VEVENT
BEGIN:VEVENT
DTSTART;TZID=America/New_York:20290713T173000
DTEND;TZID=America/New_York:20290713T200000
DTSTAMP:20260420T215047
CREATED:20250801T170518Z
LAST-MODIFIED:20250801T170518Z
UID:10001617-1878658200-1878667200@www.sapelohammockgolfclub.com
SUMMARY:Cocktails & Sunsets
DESCRIPTION:Cocktails & Sunsets 5:30 pm – 8:00 pm  
URL:https://www.sapelohammockgolfclub.com/event/cocktails-sunsets-80/2029-07-13/
CATEGORIES:Event
END:VEVENT
BEGIN:VEVENT
DTSTART;TZID=America/New_York:20290720T173000
DTEND;TZID=America/New_York:20290720T200000
DTSTAMP:20260420T215047
CREATED:20250801T170518Z
LAST-MODIFIED:20250801T170518Z
UID:10001618-1879263000-1879272000@www.sapelohammockgolfclub.com
SUMMARY:Cocktails & Sunsets
DESCRIPTION:Cocktails & Sunsets 5:30 pm – 8:00 pm  
URL:https://www.sapelohammockgolfclub.com/event/cocktails-sunsets-80/2029-07-20/
CATEGORIES:Event
END:VEVENT
BEGIN:VEVENT
DTSTART;TZID=America/New_York:20290727T173000
DTEND;TZID=America/New_York:20290727T200000
DTSTAMP:20260420T215047
CREATED:20250801T170518Z
LAST-MODIFIED:20250801T170518Z
UID:10001619-1879867800-1879876800@www.sapelohammockgolfclub.com
SUMMARY:Cocktails & Sunsets
DESCRIPTION:Cocktails & Sunsets 5:30 pm – 8:00 pm  
URL:https://www.sapelohammockgolfclub.com/event/cocktails-sunsets-80/2029-07-27/
CATEGORIES:Event
END:VEVENT
BEGIN:VEVENT
DTSTART;TZID=America/New_York:20290803T173000
DTEND;TZID=America/New_York:20290803T200000
DTSTAMP:20260420T215047
CREATED:20250801T170518Z
LAST-MODIFIED:20250801T170518Z
UID:10001620-1880472600-1880481600@www.sapelohammockgolfclub.com
SUMMARY:Cocktails & Sunsets
DESCRIPTION:Cocktails & Sunsets 5:30 pm – 8:00 pm  
URL:https://www.sapelohammockgolfclub.com/event/cocktails-sunsets-80/2029-08-03/
CATEGORIES:Event
END:VEVENT
BEGIN:VEVENT
DTSTART;TZID=America/New_York:20290810T173000
DTEND;TZID=America/New_York:20290810T200000
DTSTAMP:20260420T215047
CREATED:20250801T170518Z
LAST-MODIFIED:20250801T170518Z
UID:10001621-1881077400-1881086400@www.sapelohammockgolfclub.com
SUMMARY:Cocktails & Sunsets
DESCRIPTION:Cocktails & Sunsets 5:30 pm – 8:00 pm  
URL:https://www.sapelohammockgolfclub.com/event/cocktails-sunsets-80/2029-08-10/
CATEGORIES:Event
END:VEVENT
BEGIN:VEVENT
DTSTART;TZID=America/New_York:20290817T173000
DTEND;TZID=America/New_York:20290817T200000
DTSTAMP:20260420T215047
CREATED:20250801T170518Z
LAST-MODIFIED:20250801T170518Z
UID:10001622-1881682200-1881691200@www.sapelohammockgolfclub.com
SUMMARY:Cocktails & Sunsets
DESCRIPTION:Cocktails & Sunsets 5:30 pm – 8:00 pm  
URL:https://www.sapelohammockgolfclub.com/event/cocktails-sunsets-80/2029-08-17/
CATEGORIES:Event
END:VEVENT
BEGIN:VEVENT
DTSTART;TZID=America/New_York:20290824T173000
DTEND;TZID=America/New_York:20290824T200000
DTSTAMP:20260420T215047
CREATED:20250801T170518Z
LAST-MODIFIED:20250801T170518Z
UID:10001623-1882287000-1882296000@www.sapelohammockgolfclub.com
SUMMARY:Cocktails & Sunsets
DESCRIPTION:Cocktails & Sunsets 5:30 pm – 8:00 pm  
URL:https://www.sapelohammockgolfclub.com/event/cocktails-sunsets-80/2029-08-24/
CATEGORIES:Event
END:VEVENT
BEGIN:VEVENT
DTSTART;TZID=America/New_York:20290831T173000
DTEND;TZID=America/New_York:20290831T200000
DTSTAMP:20260420T215047
CREATED:20250801T170518Z
LAST-MODIFIED:20250801T170518Z
UID:10001624-1882891800-1882900800@www.sapelohammockgolfclub.com
SUMMARY:Cocktails & Sunsets
DESCRIPTION:Cocktails & Sunsets 5:30 pm – 8:00 pm  
URL:https://www.sapelohammockgolfclub.com/event/cocktails-sunsets-80/2029-08-31/
CATEGORIES:Event
END:VEVENT
BEGIN:VEVENT
DTSTART;TZID=America/New_York:20290907T173000
DTEND;TZID=America/New_York:20290907T200000
DTSTAMP:20260420T215047
CREATED:20250801T170518Z
LAST-MODIFIED:20250801T170518Z
UID:10001625-1883496600-1883505600@www.sapelohammockgolfclub.com
SUMMARY:Cocktails & Sunsets
DESCRIPTION:Cocktails & Sunsets 5:30 pm – 8:00 pm  
URL:https://www.sapelohammockgolfclub.com/event/cocktails-sunsets-80/2029-09-07/
CATEGORIES:Event
END:VEVENT
BEGIN:VEVENT
DTSTART;TZID=America/New_York:20290914T173000
DTEND;TZID=America/New_York:20290914T200000
DTSTAMP:20260420T215047
CREATED:20250801T170518Z
LAST-MODIFIED:20250801T170518Z
UID:10001626-1884101400-1884110400@www.sapelohammockgolfclub.com
SUMMARY:Cocktails & Sunsets
DESCRIPTION:Cocktails & Sunsets 5:30 pm – 8:00 pm  
URL:https://www.sapelohammockgolfclub.com/event/cocktails-sunsets-80/2029-09-14/
CATEGORIES:Event
END:VEVENT
BEGIN:VEVENT
DTSTART;TZID=America/New_York:20290921T173000
DTEND;TZID=America/New_York:20290921T200000
DTSTAMP:20260420T215047
CREATED:20250801T170518Z
LAST-MODIFIED:20250801T170518Z
UID:10001627-1884706200-1884715200@www.sapelohammockgolfclub.com
SUMMARY:Cocktails & Sunsets
DESCRIPTION:Cocktails & Sunsets 5:30 pm – 8:00 pm  
URL:https://www.sapelohammockgolfclub.com/event/cocktails-sunsets-80/2029-09-21/
CATEGORIES:Event
END:VEVENT
BEGIN:VEVENT
DTSTART;TZID=America/New_York:20290928T173000
DTEND;TZID=America/New_York:20290928T200000
DTSTAMP:20260420T215047
CREATED:20250801T170518Z
LAST-MODIFIED:20250801T170518Z
UID:10001628-1885311000-1885320000@www.sapelohammockgolfclub.com
SUMMARY:Cocktails & Sunsets
DESCRIPTION:Cocktails & Sunsets 5:30 pm – 8:00 pm  
URL:https://www.sapelohammockgolfclub.com/event/cocktails-sunsets-80/2029-09-28/
CATEGORIES:Event
END:VEVENT
BEGIN:VEVENT
DTSTART;TZID=America/New_York:20291005T173000
DTEND;TZID=America/New_York:20291005T200000
DTSTAMP:20260420T215047
CREATED:20250801T170518Z
LAST-MODIFIED:20250801T170518Z
UID:10001629-1885915800-1885924800@www.sapelohammockgolfclub.com
SUMMARY:Cocktails & Sunsets
DESCRIPTION:Cocktails & Sunsets 5:30 pm – 8:00 pm  
URL:https://www.sapelohammockgolfclub.com/event/cocktails-sunsets-80/2029-10-05/
CATEGORIES:Event
END:VEVENT
BEGIN:VEVENT
DTSTART;TZID=America/New_York:20291012T173000
DTEND;TZID=America/New_York:20291012T200000
DTSTAMP:20260420T215047
CREATED:20250801T170518Z
LAST-MODIFIED:20250801T170518Z
UID:10001630-1886520600-1886529600@www.sapelohammockgolfclub.com
SUMMARY:Cocktails & Sunsets
DESCRIPTION:Cocktails & Sunsets 5:30 pm – 8:00 pm  
URL:https://www.sapelohammockgolfclub.com/event/cocktails-sunsets-80/2029-10-12/
CATEGORIES:Event
END:VEVENT
BEGIN:VEVENT
DTSTART;TZID=America/New_York:20291019T173000
DTEND;TZID=America/New_York:20291019T200000
DTSTAMP:20260420T215047
CREATED:20250801T170518Z
LAST-MODIFIED:20250801T170518Z
UID:10001631-1887125400-1887134400@www.sapelohammockgolfclub.com
SUMMARY:Cocktails & Sunsets
DESCRIPTION:Cocktails & Sunsets 5:30 pm – 8:00 pm  
URL:https://www.sapelohammockgolfclub.com/event/cocktails-sunsets-80/2029-10-19/
CATEGORIES:Event
END:VEVENT
BEGIN:VEVENT
DTSTART;TZID=America/New_York:20291026T173000
DTEND;TZID=America/New_York:20291026T200000
DTSTAMP:20260420T215047
CREATED:20250801T170518Z
LAST-MODIFIED:20250801T170518Z
UID:10001632-1887730200-1887739200@www.sapelohammockgolfclub.com
SUMMARY:Cocktails & Sunsets
DESCRIPTION:Cocktails & Sunsets 5:30 pm – 8:00 pm  
URL:https://www.sapelohammockgolfclub.com/event/cocktails-sunsets-80/2029-10-26/
CATEGORIES:Event
END:VEVENT
BEGIN:VEVENT
DTSTART;TZID=America/New_York:20291102T173000
DTEND;TZID=America/New_York:20291102T200000
DTSTAMP:20260420T215047
CREATED:20250801T170518Z
LAST-MODIFIED:20250801T170518Z
UID:10001633-1888335000-1888344000@www.sapelohammockgolfclub.com
SUMMARY:Cocktails & Sunsets
DESCRIPTION:Cocktails & Sunsets 5:30 pm – 8:00 pm  
URL:https://www.sapelohammockgolfclub.com/event/cocktails-sunsets-80/2029-11-02/
CATEGORIES:Event
END:VEVENT
BEGIN:VEVENT
DTSTART;TZID=America/New_York:20291109T173000
DTEND;TZID=America/New_York:20291109T200000
DTSTAMP:20260420T215048
CREATED:20250801T170518Z
LAST-MODIFIED:20250801T170518Z
UID:10001634-1888939800-1888948800@www.sapelohammockgolfclub.com
SUMMARY:Cocktails & Sunsets
DESCRIPTION:Cocktails & Sunsets 5:30 pm – 8:00 pm  
URL:https://www.sapelohammockgolfclub.com/event/cocktails-sunsets-80/2029-11-09/
CATEGORIES:Event
END:VEVENT
BEGIN:VEVENT
DTSTART;TZID=America/New_York:20291116T173000
DTEND;TZID=America/New_York:20291116T200000
DTSTAMP:20260420T215048
CREATED:20250801T170518Z
LAST-MODIFIED:20250801T170518Z
UID:10001635-1889544600-1889553600@www.sapelohammockgolfclub.com
SUMMARY:Cocktails & Sunsets
DESCRIPTION:Cocktails & Sunsets 5:30 pm – 8:00 pm  
URL:https://www.sapelohammockgolfclub.com/event/cocktails-sunsets-80/2029-11-16/
CATEGORIES:Event
END:VEVENT
BEGIN:VEVENT
DTSTART;TZID=America/New_York:20291123T173000
DTEND;TZID=America/New_York:20291123T200000
DTSTAMP:20260420T215048
CREATED:20250801T170518Z
LAST-MODIFIED:20250801T170518Z
UID:10001636-1890149400-1890158400@www.sapelohammockgolfclub.com
SUMMARY:Cocktails & Sunsets
DESCRIPTION:Cocktails & Sunsets 5:30 pm – 8:00 pm  
URL:https://www.sapelohammockgolfclub.com/event/cocktails-sunsets-80/2029-11-23/
CATEGORIES:Event
END:VEVENT
BEGIN:VEVENT
DTSTART;TZID=America/New_York:20291130T173000
DTEND;TZID=America/New_York:20291130T200000
DTSTAMP:20260420T215048
CREATED:20250801T170518Z
LAST-MODIFIED:20250801T170518Z
UID:10001637-1890754200-1890763200@www.sapelohammockgolfclub.com
SUMMARY:Cocktails & Sunsets
DESCRIPTION:Cocktails & Sunsets 5:30 pm – 8:00 pm  
URL:https://www.sapelohammockgolfclub.com/event/cocktails-sunsets-80/2029-11-30/
CATEGORIES:Event
END:VEVENT
BEGIN:VEVENT
DTSTART;TZID=America/New_York:20291207T173000
DTEND;TZID=America/New_York:20291207T200000
DTSTAMP:20260420T215048
CREATED:20250801T170518Z
LAST-MODIFIED:20250801T170518Z
UID:10001638-1891359000-1891368000@www.sapelohammockgolfclub.com
SUMMARY:Cocktails & Sunsets
DESCRIPTION:Cocktails & Sunsets 5:30 pm – 8:00 pm  
URL:https://www.sapelohammockgolfclub.com/event/cocktails-sunsets-80/2029-12-07/
CATEGORIES:Event
END:VEVENT
BEGIN:VEVENT
DTSTART;TZID=America/New_York:20291214T173000
DTEND;TZID=America/New_York:20291214T200000
DTSTAMP:20260420T215048
CREATED:20250801T170518Z
LAST-MODIFIED:20250801T170518Z
UID:10001639-1891963800-1891972800@www.sapelohammockgolfclub.com
SUMMARY:Cocktails & Sunsets
DESCRIPTION:Cocktails & Sunsets 5:30 pm – 8:00 pm  
URL:https://www.sapelohammockgolfclub.com/event/cocktails-sunsets-80/2029-12-14/
CATEGORIES:Event
END:VEVENT
BEGIN:VEVENT
DTSTART;TZID=America/New_York:20291221T173000
DTEND;TZID=America/New_York:20291221T200000
DTSTAMP:20260420T215048
CREATED:20250801T170518Z
LAST-MODIFIED:20250801T170518Z
UID:10001640-1892568600-1892577600@www.sapelohammockgolfclub.com
SUMMARY:Cocktails & Sunsets
DESCRIPTION:Cocktails & Sunsets 5:30 pm – 8:00 pm  
URL:https://www.sapelohammockgolfclub.com/event/cocktails-sunsets-80/2029-12-21/
CATEGORIES:Event
END:VEVENT
BEGIN:VEVENT
DTSTART;TZID=America/New_York:20291228T173000
DTEND;TZID=America/New_York:20291228T200000
DTSTAMP:20260420T215048
CREATED:20250801T170518Z
LAST-MODIFIED:20250801T170518Z
UID:10001641-1893173400-1893182400@www.sapelohammockgolfclub.com
SUMMARY:Cocktails & Sunsets
DESCRIPTION:Cocktails & Sunsets 5:30 pm – 8:00 pm  
URL:https://www.sapelohammockgolfclub.com/event/cocktails-sunsets-80/2029-12-28/
CATEGORIES:Event
END:VEVENT
BEGIN:VEVENT
DTSTART;TZID=America/New_York:20300104T173000
DTEND;TZID=America/New_York:20300104T200000
DTSTAMP:20260420T215048
CREATED:20250801T170518Z
LAST-MODIFIED:20250801T170518Z
UID:10001642-1893778200-1893787200@www.sapelohammockgolfclub.com
SUMMARY:Cocktails & Sunsets
DESCRIPTION:Cocktails & Sunsets 5:30 pm – 8:00 pm  
URL:https://www.sapelohammockgolfclub.com/event/cocktails-sunsets-80/2030-01-04/
CATEGORIES:Event
END:VEVENT
END:VCALENDAR