BEGIN:VCALENDAR
VERSION:2.0
PRODID:-//Sapelo Hammock Golf Club - ECPv6.15.18//NONSGML v1.0//EN
CALSCALE:GREGORIAN
METHOD:PUBLISH
X-WR-CALNAME:Sapelo Hammock Golf Club
X-ORIGINAL-URL:https://www.sapelohammockgolfclub.com
X-WR-CALDESC:Events for Sapelo Hammock Golf Club
REFRESH-INTERVAL;VALUE=DURATION:PT1H
X-Robots-Tag:noindex
X-PUBLISHED-TTL:PT1H
BEGIN:VTIMEZONE
TZID:America/New_York
BEGIN:DAYLIGHT
TZOFFSETFROM:-0500
TZOFFSETTO:-0400
TZNAME:EDT
DTSTART:20250309T070000
END:DAYLIGHT
BEGIN:STANDARD
TZOFFSETFROM:-0400
TZOFFSETTO:-0500
TZNAME:EST
DTSTART:20251102T060000
END:STANDARD
BEGIN:DAYLIGHT
TZOFFSETFROM:-0500
TZOFFSETTO:-0400
TZNAME:EDT
DTSTART:20260308T070000
END:DAYLIGHT
BEGIN:STANDARD
TZOFFSETFROM:-0400
TZOFFSETTO:-0500
TZNAME:EST
DTSTART:20261101T060000
END:STANDARD
BEGIN:DAYLIGHT
TZOFFSETFROM:-0500
TZOFFSETTO:-0400
TZNAME:EDT
DTSTART:20270314T070000
END:DAYLIGHT
BEGIN:STANDARD
TZOFFSETFROM:-0400
TZOFFSETTO:-0500
TZNAME:EST
DTSTART:20271107T060000
END:STANDARD
END:VTIMEZONE
BEGIN:VEVENT
DTSTART;TZID=America/New_York:20260501T173000
DTEND;TZID=America/New_York:20260501T200000
DTSTAMP:20260425T051933
CREATED:20250801T170518Z
LAST-MODIFIED:20250801T170518Z
UID:10001450-1777656600-1777665600@www.sapelohammockgolfclub.com
SUMMARY:Cocktails & Sunsets
DESCRIPTION:Cocktails & Sunsets 5:30 pm – 8:00 pm  
URL:https://www.sapelohammockgolfclub.com/event/cocktails-sunsets-80/2026-05-01/
CATEGORIES:Event
END:VEVENT
BEGIN:VEVENT
DTSTART;TZID=America/New_York:20260502T173000
DTEND;TZID=America/New_York:20260502T173000
DTSTAMP:20260425T051933
CREATED:20260416T171805Z
LAST-MODIFIED:20260416T171805Z
UID:10001729-1777743000-1777743000@www.sapelohammockgolfclub.com
SUMMARY:Owner / Member Dinner
DESCRIPTION:Owner / Member Dinner \nKentucky Derby Party
URL:https://www.sapelohammockgolfclub.com/event/owner-member-dinner-4/
END:VEVENT
BEGIN:VEVENT
DTSTART;TZID=America/New_York:20260504T170000
DTEND;TZID=America/New_York:20260504T200000
DTSTAMP:20260425T051933
CREATED:20260416T172410Z
LAST-MODIFIED:20260416T172433Z
UID:10001734-1777914000-1777924800@www.sapelohammockgolfclub.com
SUMMARY:Monday Night Dinners
DESCRIPTION:Monday Night Dinners – 5:00 pm to 8:00 pm Weekly \nCall for Reservations
URL:https://www.sapelohammockgolfclub.com/event/monday-night-dinners/2026-05-04/
END:VEVENT
BEGIN:VEVENT
DTSTART;TZID=America/New_York:20260508T090000
DTEND;TZID=America/New_York:20260508T090000
DTSTAMP:20260425T051933
CREATED:20260416T171856Z
LAST-MODIFIED:20260416T172039Z
UID:10001730-1778230800-1778230800@www.sapelohammockgolfclub.com
SUMMARY:CADDA Outing
DESCRIPTION:CADDA Outing \nCourse closed until completion of play
URL:https://www.sapelohammockgolfclub.com/event/cadda-outing-2/
END:VEVENT
BEGIN:VEVENT
DTSTART;TZID=America/New_York:20260508T173000
DTEND;TZID=America/New_York:20260508T200000
DTSTAMP:20260425T051933
CREATED:20250801T170518Z
LAST-MODIFIED:20250801T170518Z
UID:10001451-1778261400-1778270400@www.sapelohammockgolfclub.com
SUMMARY:Cocktails & Sunsets
DESCRIPTION:Cocktails & Sunsets 5:30 pm – 8:00 pm  
URL:https://www.sapelohammockgolfclub.com/event/cocktails-sunsets-80/2026-05-08/
CATEGORIES:Event
END:VEVENT
BEGIN:VEVENT
DTSTART;TZID=America/New_York:20260511T170000
DTEND;TZID=America/New_York:20260511T200000
DTSTAMP:20260425T051933
CREATED:20260416T172410Z
LAST-MODIFIED:20260416T172433Z
UID:10001735-1778518800-1778529600@www.sapelohammockgolfclub.com
SUMMARY:Monday Night Dinners
DESCRIPTION:Monday Night Dinners – 5:00 pm to 8:00 pm Weekly \nCall for Reservations
URL:https://www.sapelohammockgolfclub.com/event/monday-night-dinners/2026-05-11/
END:VEVENT
BEGIN:VEVENT
DTSTART;TZID=America/New_York:20260515T173000
DTEND;TZID=America/New_York:20260515T200000
DTSTAMP:20260425T051933
CREATED:20250801T170518Z
LAST-MODIFIED:20250801T170518Z
UID:10001452-1778866200-1778875200@www.sapelohammockgolfclub.com
SUMMARY:Cocktails & Sunsets
DESCRIPTION:Cocktails & Sunsets 5:30 pm – 8:00 pm  
URL:https://www.sapelohammockgolfclub.com/event/cocktails-sunsets-80/2026-05-15/
CATEGORIES:Event
END:VEVENT
BEGIN:VEVENT
DTSTART;TZID=America/New_York:20260516T173000
DTEND;TZID=America/New_York:20260516T173000
DTSTAMP:20260425T051933
CREATED:20260416T171955Z
LAST-MODIFIED:20260416T171955Z
UID:10001731-1778952600-1778952600@www.sapelohammockgolfclub.com
SUMMARY:NeSmith Couples Dinner
DESCRIPTION:NeSmith Couples Dinner \nPrivate Event
URL:https://www.sapelohammockgolfclub.com/event/nesmith-couples-dinner/
END:VEVENT
BEGIN:VEVENT
DTSTART;TZID=America/New_York:20260517T090000
DTEND;TZID=America/New_York:20260517T090000
DTSTAMP:20260425T051933
CREATED:20260416T172134Z
LAST-MODIFIED:20260416T172134Z
UID:10001732-1779008400-1779008400@www.sapelohammockgolfclub.com
SUMMARY:NeSmith Couples Championship
DESCRIPTION:NeSmith Couples Championship \nCourse Closed until Completion of Play
URL:https://www.sapelohammockgolfclub.com/event/nesmith-couples-championship/
END:VEVENT
BEGIN:VEVENT
DTSTART;TZID=America/New_York:20260518T170000
DTEND;TZID=America/New_York:20260518T200000
DTSTAMP:20260425T051933
CREATED:20260416T172410Z
LAST-MODIFIED:20260416T172433Z
UID:10001736-1779123600-1779134400@www.sapelohammockgolfclub.com
SUMMARY:Monday Night Dinners
DESCRIPTION:Monday Night Dinners – 5:00 pm to 8:00 pm Weekly \nCall for Reservations
URL:https://www.sapelohammockgolfclub.com/event/monday-night-dinners/2026-05-18/
END:VEVENT
BEGIN:VEVENT
DTSTART;TZID=America/New_York:20260522T173000
DTEND;TZID=America/New_York:20260522T200000
DTSTAMP:20260425T051933
CREATED:20250801T170518Z
LAST-MODIFIED:20250801T170518Z
UID:10001453-1779471000-1779480000@www.sapelohammockgolfclub.com
SUMMARY:Cocktails & Sunsets
DESCRIPTION:Cocktails & Sunsets 5:30 pm – 8:00 pm  
URL:https://www.sapelohammockgolfclub.com/event/cocktails-sunsets-80/2026-05-22/
CATEGORIES:Event
END:VEVENT
BEGIN:VEVENT
DTSTART;TZID=America/New_York:20260523T150000
DTEND;TZID=America/New_York:20260523T150000
DTSTAMP:20260425T051933
CREATED:20260416T172237Z
LAST-MODIFIED:20260416T172237Z
UID:10001733-1779548400-1779548400@www.sapelohammockgolfclub.com
SUMMARY:Shoot-out Series #2
DESCRIPTION:Shoot-out Series #2 \n 
URL:https://www.sapelohammockgolfclub.com/event/shoot-out-series-2/
END:VEVENT
BEGIN:VEVENT
DTSTART;TZID=America/New_York:20260525T170000
DTEND;TZID=America/New_York:20260525T200000
DTSTAMP:20260425T051933
CREATED:20260416T172410Z
LAST-MODIFIED:20260416T172433Z
UID:10001737-1779728400-1779739200@www.sapelohammockgolfclub.com
SUMMARY:Monday Night Dinners
DESCRIPTION:Monday Night Dinners – 5:00 pm to 8:00 pm Weekly \nCall for Reservations
URL:https://www.sapelohammockgolfclub.com/event/monday-night-dinners/2026-05-25/
END:VEVENT
BEGIN:VEVENT
DTSTART;TZID=America/New_York:20260529T173000
DTEND;TZID=America/New_York:20260529T200000
DTSTAMP:20260425T051933
CREATED:20250801T170518Z
LAST-MODIFIED:20250801T170518Z
UID:10001454-1780075800-1780084800@www.sapelohammockgolfclub.com
SUMMARY:Cocktails & Sunsets
DESCRIPTION:Cocktails & Sunsets 5:30 pm – 8:00 pm  
URL:https://www.sapelohammockgolfclub.com/event/cocktails-sunsets-80/2026-05-29/
CATEGORIES:Event
END:VEVENT
BEGIN:VEVENT
DTSTART;TZID=America/New_York:20260601T170000
DTEND;TZID=America/New_York:20260601T200000
DTSTAMP:20260425T051933
CREATED:20260416T173101Z
LAST-MODIFIED:20260416T173101Z
UID:10001766-1780333200-1780344000@www.sapelohammockgolfclub.com
SUMMARY:Monday Night Dinners
DESCRIPTION:Monday Night Dinners – 5:00 pm to 8:00 pm – Weekly \nCall for Reservations
URL:https://www.sapelohammockgolfclub.com/event/monday-night-dinners-2/2026-06-01/
END:VEVENT
BEGIN:VEVENT
DTSTART;TZID=America/New_York:20260605T173000
DTEND;TZID=America/New_York:20260605T173000
DTSTAMP:20260425T051933
CREATED:20260416T172554Z
LAST-MODIFIED:20260416T172554Z
UID:10001738-1780680600-1780680600@www.sapelohammockgolfclub.com
SUMMARY:Beautification Tournament Dinner
DESCRIPTION:Beautification Tournament Dinner
URL:https://www.sapelohammockgolfclub.com/event/beautification-tournament-dinner-2/
END:VEVENT
BEGIN:VEVENT
DTSTART;TZID=America/New_York:20260606T090000
DTEND;TZID=America/New_York:20260606T090000
DTSTAMP:20260425T051933
CREATED:20260416T172648Z
LAST-MODIFIED:20260416T172648Z
UID:10001739-1780736400-1780736400@www.sapelohammockgolfclub.com
SUMMARY:Beautification Tournament
DESCRIPTION:Beautification Tournament \nCourse Closed until Completion of Play
URL:https://www.sapelohammockgolfclub.com/event/beautification-tournament-2/
END:VEVENT
BEGIN:VEVENT
DTSTART;VALUE=DATE:20260608
DTEND;VALUE=DATE:20260610
DTSTAMP:20260425T051933
CREATED:20260416T172725Z
LAST-MODIFIED:20260416T172725Z
UID:10001740-1780876800-1781049599@www.sapelohammockgolfclub.com
SUMMARY:Greens Aerification
DESCRIPTION:Greens Aerification
URL:https://www.sapelohammockgolfclub.com/event/greens-aerification-4/
END:VEVENT
BEGIN:VEVENT
DTSTART;TZID=America/New_York:20260608T170000
DTEND;TZID=America/New_York:20260608T200000
DTSTAMP:20260425T051933
CREATED:20260416T173101Z
LAST-MODIFIED:20260416T173101Z
UID:10001767-1780938000-1780948800@www.sapelohammockgolfclub.com
SUMMARY:Monday Night Dinners
DESCRIPTION:Monday Night Dinners – 5:00 pm to 8:00 pm – Weekly \nCall for Reservations
URL:https://www.sapelohammockgolfclub.com/event/monday-night-dinners-2/2026-06-08/
END:VEVENT
BEGIN:VEVENT
DTSTART;TZID=America/New_York:20260612T173000
DTEND;TZID=America/New_York:20260612T200000
DTSTAMP:20260425T051933
CREATED:20250801T170518Z
LAST-MODIFIED:20250801T170518Z
UID:10001456-1781285400-1781294400@www.sapelohammockgolfclub.com
SUMMARY:Cocktails & Sunsets
DESCRIPTION:Cocktails & Sunsets 5:30 pm – 8:00 pm  
URL:https://www.sapelohammockgolfclub.com/event/cocktails-sunsets-80/2026-06-12/
CATEGORIES:Event
END:VEVENT
BEGIN:VEVENT
DTSTART;TZID=America/New_York:20260615T170000
DTEND;TZID=America/New_York:20260615T200000
DTSTAMP:20260425T051933
CREATED:20260416T173101Z
LAST-MODIFIED:20260416T173101Z
UID:10001768-1781542800-1781553600@www.sapelohammockgolfclub.com
SUMMARY:Monday Night Dinners
DESCRIPTION:Monday Night Dinners – 5:00 pm to 8:00 pm – Weekly \nCall for Reservations
URL:https://www.sapelohammockgolfclub.com/event/monday-night-dinners-2/2026-06-15/
END:VEVENT
BEGIN:VEVENT
DTSTART;TZID=America/New_York:20260619T173000
DTEND;TZID=America/New_York:20260619T200000
DTSTAMP:20260425T051933
CREATED:20250801T170518Z
LAST-MODIFIED:20250801T170518Z
UID:10001457-1781890200-1781899200@www.sapelohammockgolfclub.com
SUMMARY:Cocktails & Sunsets
DESCRIPTION:Cocktails & Sunsets 5:30 pm – 8:00 pm  
URL:https://www.sapelohammockgolfclub.com/event/cocktails-sunsets-80/2026-06-19/
CATEGORIES:Event
END:VEVENT
BEGIN:VEVENT
DTSTART;TZID=America/New_York:20260622T170000
DTEND;TZID=America/New_York:20260622T200000
DTSTAMP:20260425T051933
CREATED:20260416T173101Z
LAST-MODIFIED:20260416T173101Z
UID:10001769-1782147600-1782158400@www.sapelohammockgolfclub.com
SUMMARY:Monday Night Dinners
DESCRIPTION:Monday Night Dinners – 5:00 pm to 8:00 pm – Weekly \nCall for Reservations
URL:https://www.sapelohammockgolfclub.com/event/monday-night-dinners-2/2026-06-22/
END:VEVENT
BEGIN:VEVENT
DTSTART;TZID=America/New_York:20260626T173000
DTEND;TZID=America/New_York:20260626T200000
DTSTAMP:20260425T051933
CREATED:20250801T170518Z
LAST-MODIFIED:20250801T170518Z
UID:10001458-1782495000-1782504000@www.sapelohammockgolfclub.com
SUMMARY:Cocktails & Sunsets
DESCRIPTION:Cocktails & Sunsets 5:30 pm – 8:00 pm  
URL:https://www.sapelohammockgolfclub.com/event/cocktails-sunsets-80/2026-06-26/
CATEGORIES:Event
END:VEVENT
BEGIN:VEVENT
DTSTART;TZID=America/New_York:20260627T150000
DTEND;TZID=America/New_York:20260627T150000
DTSTAMP:20260425T051933
CREATED:20260416T172948Z
LAST-MODIFIED:20260416T172948Z
UID:10001765-1782572400-1782572400@www.sapelohammockgolfclub.com
SUMMARY:Shoot-out Series #3
DESCRIPTION:Shoot-out Series #3
URL:https://www.sapelohammockgolfclub.com/event/shoot-out-series-3/
END:VEVENT
BEGIN:VEVENT
DTSTART;TZID=America/New_York:20260629T170000
DTEND;TZID=America/New_York:20260629T200000
DTSTAMP:20260425T051933
CREATED:20260416T173101Z
LAST-MODIFIED:20260416T173101Z
UID:10001770-1782752400-1782763200@www.sapelohammockgolfclub.com
SUMMARY:Monday Night Dinners
DESCRIPTION:Monday Night Dinners – 5:00 pm to 8:00 pm – Weekly \nCall for Reservations
URL:https://www.sapelohammockgolfclub.com/event/monday-night-dinners-2/2026-06-29/
END:VEVENT
BEGIN:VEVENT
DTSTART;TZID=America/New_York:20260703T173000
DTEND;TZID=America/New_York:20260703T200000
DTSTAMP:20260425T051933
CREATED:20250801T170518Z
LAST-MODIFIED:20250801T170518Z
UID:10001459-1783099800-1783108800@www.sapelohammockgolfclub.com
SUMMARY:Cocktails & Sunsets
DESCRIPTION:Cocktails & Sunsets 5:30 pm – 8:00 pm  
URL:https://www.sapelohammockgolfclub.com/event/cocktails-sunsets-80/2026-07-03/
CATEGORIES:Event
END:VEVENT
BEGIN:VEVENT
DTSTART;TZID=America/New_York:20260710T173000
DTEND;TZID=America/New_York:20260710T200000
DTSTAMP:20260425T051933
CREATED:20250801T170518Z
LAST-MODIFIED:20250801T170518Z
UID:10001460-1783704600-1783713600@www.sapelohammockgolfclub.com
SUMMARY:Cocktails & Sunsets
DESCRIPTION:Cocktails & Sunsets 5:30 pm – 8:00 pm  
URL:https://www.sapelohammockgolfclub.com/event/cocktails-sunsets-80/2026-07-10/
CATEGORIES:Event
END:VEVENT
BEGIN:VEVENT
DTSTART;TZID=America/New_York:20260717T173000
DTEND;TZID=America/New_York:20260717T200000
DTSTAMP:20260425T051933
CREATED:20250801T170518Z
LAST-MODIFIED:20250801T170518Z
UID:10001461-1784309400-1784318400@www.sapelohammockgolfclub.com
SUMMARY:Cocktails & Sunsets
DESCRIPTION:Cocktails & Sunsets 5:30 pm – 8:00 pm  
URL:https://www.sapelohammockgolfclub.com/event/cocktails-sunsets-80/2026-07-17/
CATEGORIES:Event
END:VEVENT
BEGIN:VEVENT
DTSTART;TZID=America/New_York:20260724T173000
DTEND;TZID=America/New_York:20260724T200000
DTSTAMP:20260425T051933
CREATED:20250801T170518Z
LAST-MODIFIED:20250801T170518Z
UID:10001462-1784914200-1784923200@www.sapelohammockgolfclub.com
SUMMARY:Cocktails & Sunsets
DESCRIPTION:Cocktails & Sunsets 5:30 pm – 8:00 pm  
URL:https://www.sapelohammockgolfclub.com/event/cocktails-sunsets-80/2026-07-24/
CATEGORIES:Event
END:VEVENT
END:VCALENDAR