BEGIN:VCALENDAR
VERSION:2.0
PRODID:-//Sapelo Hammock Golf Club - ECPv6.15.18//NONSGML v1.0//EN
CALSCALE:GREGORIAN
METHOD:PUBLISH
X-WR-CALNAME:Sapelo Hammock Golf Club
X-ORIGINAL-URL:https://www.sapelohammockgolfclub.com
X-WR-CALDESC:Events for Sapelo Hammock Golf Club
REFRESH-INTERVAL;VALUE=DURATION:PT1H
X-Robots-Tag:noindex
X-PUBLISHED-TTL:PT1H
BEGIN:VTIMEZONE
TZID:America/New_York
BEGIN:DAYLIGHT
TZOFFSETFROM:-0500
TZOFFSETTO:-0400
TZNAME:EDT
DTSTART:20240310T070000
END:DAYLIGHT
BEGIN:STANDARD
TZOFFSETFROM:-0400
TZOFFSETTO:-0500
TZNAME:EST
DTSTART:20241103T060000
END:STANDARD
BEGIN:DAYLIGHT
TZOFFSETFROM:-0500
TZOFFSETTO:-0400
TZNAME:EDT
DTSTART:20250309T070000
END:DAYLIGHT
BEGIN:STANDARD
TZOFFSETFROM:-0400
TZOFFSETTO:-0500
TZNAME:EST
DTSTART:20251102T060000
END:STANDARD
BEGIN:DAYLIGHT
TZOFFSETFROM:-0500
TZOFFSETTO:-0400
TZNAME:EDT
DTSTART:20260308T070000
END:DAYLIGHT
BEGIN:STANDARD
TZOFFSETFROM:-0400
TZOFFSETTO:-0500
TZNAME:EST
DTSTART:20261101T060000
END:STANDARD
END:VTIMEZONE
BEGIN:VEVENT
DTSTART;TZID=America/New_York:20250516T173000
DTEND;TZID=America/New_York:20250516T200000
DTSTAMP:20260419T181914
CREATED:20250331T171938Z
LAST-MODIFIED:20250331T171938Z
UID:10001391-1747416600-1747425600@www.sapelohammockgolfclub.com
SUMMARY:Cocktails & Sunsets
DESCRIPTION:May 9th Cocktails & Sunsets 5:30 – 8:00 pm
URL:https://www.sapelohammockgolfclub.com/event/cocktails-sunsets-73/2025-05-16/
CATEGORIES:Event
END:VEVENT
BEGIN:VEVENT
DTSTART;TZID=America/New_York:20250509T173000
DTEND;TZID=America/New_York:20250509T200000
DTSTAMP:20260419T181914
CREATED:20250331T171938Z
LAST-MODIFIED:20250331T171938Z
UID:10001390-1746811800-1746820800@www.sapelohammockgolfclub.com
SUMMARY:Cocktails & Sunsets
DESCRIPTION:May 9th Cocktails & Sunsets 5:30 – 8:00 pm
URL:https://www.sapelohammockgolfclub.com/event/cocktails-sunsets-73/2025-05-09/
CATEGORIES:Event
END:VEVENT
BEGIN:VEVENT
DTSTART;TZID=America/New_York:20250503T170000
DTEND;TZID=America/New_York:20250503T200000
DTSTAMP:20260419T181914
CREATED:20250331T171627Z
LAST-MODIFIED:20250331T171651Z
UID:10001389-1746291600-1746302400@www.sapelohammockgolfclub.com
SUMMARY:Member Dinner – Kentucky Derby Party
DESCRIPTION:May 3rd Member Dinner – Kentucky Derby Party\n5:00 pm Cocktails – Bourbon Tasting – Cigar Bar – And More!
URL:https://www.sapelohammockgolfclub.com/event/member-dinner-kentucky-derby-party/
CATEGORIES:Event
END:VEVENT
BEGIN:VEVENT
DTSTART;TZID=America/New_York:20250502T090000
DTEND;TZID=America/New_York:20250502T090000
DTSTAMP:20260419T181914
CREATED:20250331T171530Z
LAST-MODIFIED:20250331T171530Z
UID:10001388-1746176400-1746176400@www.sapelohammockgolfclub.com
SUMMARY:Veteran Carriers Tournament
DESCRIPTION:May 2nd Veteran Carriers Tournament 9:30 am Shotgun\nCourse Closed until Completion of Play
URL:https://www.sapelohammockgolfclub.com/event/veteran-carriers-tournament/
CATEGORIES:Event
END:VEVENT
BEGIN:VEVENT
DTSTART;TZID=America/New_York:20250501T180000
DTEND;TZID=America/New_York:20250501T180000
DTSTAMP:20260419T181914
CREATED:20250331T171422Z
LAST-MODIFIED:20250331T171422Z
UID:10001387-1746122400-1746122400@www.sapelohammockgolfclub.com
SUMMARY:Veteran Carriers Sponsor & Volunteer Dinner
DESCRIPTION:May 1st Veteran Carriers Sponsor & Volunteer Dinner 6:00 pm
URL:https://www.sapelohammockgolfclub.com/event/veteran-carriers-sponsor-volunteer-dinner/
CATEGORIES:Event
END:VEVENT
BEGIN:VEVENT
DTSTART;TZID=America/New_York:20250425T173000
DTEND;TZID=America/New_York:20250425T200000
DTSTAMP:20260419T181914
CREATED:20250303T164443Z
LAST-MODIFIED:20250331T171327Z
UID:10001380-1745602200-1745611200@www.sapelohammockgolfclub.com
SUMMARY:Cocktails & Sunsets
DESCRIPTION:
URL:https://www.sapelohammockgolfclub.com/event/cocktails-sunsets-71/
CATEGORIES:Event
END:VEVENT
BEGIN:VEVENT
DTSTART;TZID=America/New_York:20250422T090000
DTEND;TZID=America/New_York:20250423T090000
DTSTAMP:20260419T181914
CREATED:20250303T164402Z
LAST-MODIFIED:20250331T171239Z
UID:10001379-1745312400-1745398800@www.sapelohammockgolfclub.com
SUMMARY:Savannah Women’s Golf Association
DESCRIPTION:9:00 am Shotgun \nCourse Closed until Completion of Play both days. 
URL:https://www.sapelohammockgolfclub.com/event/savannah-womens-golf-association/
CATEGORIES:Event
END:VEVENT
BEGIN:VEVENT
DTSTART;TZID=America/New_York:20250418T173000
DTEND;TZID=America/New_York:20250418T200000
DTSTAMP:20260419T181914
CREATED:20250303T164223Z
LAST-MODIFIED:20250331T171158Z
UID:10001377-1744997400-1745006400@www.sapelohammockgolfclub.com
SUMMARY:Cocktails & Sunsets
DESCRIPTION:
URL:https://www.sapelohammockgolfclub.com/event/cocktails-sunsets-70/
CATEGORIES:Event
END:VEVENT
BEGIN:VEVENT
DTSTART;TZID=America/New_York:20250416T150000
DTEND;TZID=America/New_York:20250416T150000
DTSTAMP:20260419T181914
CREATED:20250331T171008Z
LAST-MODIFIED:20250331T171008Z
UID:10001386-1744815600-1744815600@www.sapelohammockgolfclub.com
SUMMARY:MCA High School Match
DESCRIPTION:
URL:https://www.sapelohammockgolfclub.com/event/mca-high-school-match-2/2025-04-16/
CATEGORIES:Event
END:VEVENT
BEGIN:VEVENT
DTSTART;TZID=America/New_York:20250414T150000
DTEND;TZID=America/New_York:20250414T150000
DTSTAMP:20260419T181914
CREATED:20250331T170549Z
LAST-MODIFIED:20250331T170549Z
UID:10001383-1744642800-1744642800@www.sapelohammockgolfclub.com
SUMMARY:MCA High School Match
DESCRIPTION:
URL:https://www.sapelohammockgolfclub.com/event/mca-high-school-match/
CATEGORIES:Event
END:VEVENT
BEGIN:VEVENT
DTSTART;TZID=America/New_York:20250411T173000
DTEND;TZID=America/New_York:20250411T200000
DTSTAMP:20260419T181914
CREATED:20250331T170705Z
LAST-MODIFIED:20250331T170705Z
UID:10001384-1744392600-1744401600@www.sapelohammockgolfclub.com
SUMMARY:Cocktails & Sunsets
DESCRIPTION:April 11th Cocktails & Sunsets 5:30 – 8:00 pm
URL:https://www.sapelohammockgolfclub.com/event/cocktails-sunsets-72/
CATEGORIES:Event
END:VEVENT
BEGIN:VEVENT
DTSTART;TZID=America/New_York:20250409T150000
DTEND;TZID=America/New_York:20250409T150000
DTSTAMP:20260419T181914
CREATED:20250331T171008Z
LAST-MODIFIED:20250331T171008Z
UID:10001385-1744210800-1744210800@www.sapelohammockgolfclub.com
SUMMARY:MCA High School Match
DESCRIPTION:
URL:https://www.sapelohammockgolfclub.com/event/mca-high-school-match-2/2025-04-09/
CATEGORIES:Event
END:VEVENT
BEGIN:VEVENT
DTSTART;VALUE=DATE:20250405
DTEND;VALUE=DATE:20250406
DTSTAMP:20260419T181914
CREATED:20250303T164048Z
LAST-MODIFIED:20250331T170441Z
UID:10001375-1743811200-1743897599@www.sapelohammockgolfclub.com
SUMMARY:MGA Match Play Begins
DESCRIPTION:
URL:https://www.sapelohammockgolfclub.com/event/mga-match-play-begins/
CATEGORIES:Event
END:VEVENT
BEGIN:VEVENT
DTSTART;TZID=America/New_York:20250404T173000
DTEND;TZID=America/New_York:20250404T200000
DTSTAMP:20260419T181914
CREATED:20250303T164025Z
LAST-MODIFIED:20250331T170412Z
UID:10001374-1743787800-1743796800@www.sapelohammockgolfclub.com
SUMMARY:Cocktails & Sunsets
DESCRIPTION:
URL:https://www.sapelohammockgolfclub.com/event/cocktails-sunsets-69/
CATEGORIES:Event
END:VEVENT
BEGIN:VEVENT
DTSTART;TZID=America/New_York:20250404T150000
DTEND;TZID=America/New_York:20250404T170000
DTSTAMP:20260419T181914
CREATED:20241202T155529Z
LAST-MODIFIED:20250331T164914Z
UID:10001328-1743778800-1743786000@www.sapelohammockgolfclub.com
SUMMARY:Pre-Masters
DESCRIPTION:April 4th Pre-Masters Par 3 $30 entry fee  \n3:00 pm Shotgun 
URL:https://www.sapelohammockgolfclub.com/event/pre-masters/
CATEGORIES:Tournament
END:VEVENT
BEGIN:VEVENT
DTSTART;TZID=America/New_York:20250402T170000
DTEND;TZID=America/New_York:20250402T170000
DTSTAMP:20260419T181914
CREATED:20250331T170229Z
LAST-MODIFIED:20250331T170350Z
UID:10001382-1743613200-1743613200@www.sapelohammockgolfclub.com
SUMMARY:Pre-Masters Champion Dinner
DESCRIPTION:
URL:https://www.sapelohammockgolfclub.com/event/pre-masters-champion-dinner/
CATEGORIES:Event
END:VEVENT
BEGIN:VEVENT
DTSTART;VALUE=DATE:20250329
DTEND;VALUE=DATE:20250330
DTSTAMP:20260419T181914
CREATED:20250303T163744Z
LAST-MODIFIED:20250303T163744Z
UID:10001373-1743206400-1743292799@www.sapelohammockgolfclub.com
SUMMARY:Masonic Home Outing
DESCRIPTION:Course opens after play 
URL:https://www.sapelohammockgolfclub.com/event/masonic-home-outing/
END:VEVENT
BEGIN:VEVENT
DTSTART;TZID=America/New_York:20250328T173000
DTEND;TZID=America/New_York:20250328T200000
DTSTAMP:20260419T181914
CREATED:20250303T163709Z
LAST-MODIFIED:20250303T163709Z
UID:10001372-1743183000-1743192000@www.sapelohammockgolfclub.com
SUMMARY:Cocktails & Sunsets
DESCRIPTION:
URL:https://www.sapelohammockgolfclub.com/event/cocktails-sunsets-68/
END:VEVENT
BEGIN:VEVENT
DTSTART;TZID=America/New_York:20250323T130000
DTEND;TZID=America/New_York:20250323T170000
DTSTAMP:20260419T181914
CREATED:20250303T163625Z
LAST-MODIFIED:20250303T163625Z
UID:10001371-1742734800-1742749200@www.sapelohammockgolfclub.com
SUMMARY:U. S. Kids Golf Tournament
DESCRIPTION:1:00 pm Tee Times 
URL:https://www.sapelohammockgolfclub.com/event/u-s-kids-golf-tournament-2/
END:VEVENT
BEGIN:VEVENT
DTSTART;VALUE=DATE:20250322
DTEND;VALUE=DATE:20250323
DTSTAMP:20260419T181914
CREATED:20250303T163529Z
LAST-MODIFIED:20250303T163529Z
UID:10001370-1742601600-1742687999@www.sapelohammockgolfclub.com
SUMMARY:Friends of Shellman Bluff St. Paty’s Day Parade
DESCRIPTION:
URL:https://www.sapelohammockgolfclub.com/event/friends-of-shellman-bluff-st-patys-day-parade/
END:VEVENT
BEGIN:VEVENT
DTSTART;TZID=America/New_York:20250321T173000
DTEND;TZID=America/New_York:20250321T200000
DTSTAMP:20260419T181914
CREATED:20250303T163434Z
LAST-MODIFIED:20250303T163434Z
UID:10001369-1742578200-1742587200@www.sapelohammockgolfclub.com
SUMMARY:Cocktails & Sunsets Pop-Up Party
DESCRIPTION:Pre-Parade Party 
URL:https://www.sapelohammockgolfclub.com/event/cocktails-sunsets-pop-up-party/
END:VEVENT
BEGIN:VEVENT
DTSTART;TZID=America/New_York:20250315T080000
DTEND;TZID=America/New_York:20250316T170000
DTSTAMP:20260419T181914
CREATED:20241202T155321Z
LAST-MODIFIED:20241202T155321Z
UID:10001327-1742025600-1742144400@www.sapelohammockgolfclub.com
SUMMARY:Member-Member Championship
DESCRIPTION:March  15th-16th Member-Member Championship $30 per Player entry fee 
URL:https://www.sapelohammockgolfclub.com/event/member-member-championship/
END:VEVENT
BEGIN:VEVENT
DTSTART;TZID=America/New_York:20250314T173000
DTEND;TZID=America/New_York:20250314T200000
DTSTAMP:20260419T181914
CREATED:20250303T163332Z
LAST-MODIFIED:20250303T163332Z
UID:10001368-1741973400-1741982400@www.sapelohammockgolfclub.com
SUMMARY:Cocktails & Sunsets
DESCRIPTION:
URL:https://www.sapelohammockgolfclub.com/event/cocktails-sunsets-67/
END:VEVENT
BEGIN:VEVENT
DTSTART;TZID=America/New_York:20250307T173000
DTEND;TZID=America/New_York:20250307T200000
DTSTAMP:20260419T181914
CREATED:20250303T163223Z
LAST-MODIFIED:20250303T163223Z
UID:10001367-1741368600-1741377600@www.sapelohammockgolfclub.com
SUMMARY:Cocktails & Sunsets
DESCRIPTION:Musical Entertainment by David Fettke 
URL:https://www.sapelohammockgolfclub.com/event/cocktails-sunsets-66/
END:VEVENT
BEGIN:VEVENT
DTSTART;VALUE=DATE:20250303
DTEND;VALUE=DATE:20250305
DTSTAMP:20260419T181914
CREATED:20250303T163121Z
LAST-MODIFIED:20250303T163121Z
UID:10001366-1740960000-1741132799@www.sapelohammockgolfclub.com
SUMMARY:Georgia PGA Seniors – Sapelo Hammock Senior Classic
DESCRIPTION:Course Closed both days until completion of play.
URL:https://www.sapelohammockgolfclub.com/event/georgia-pga-seniors-sapelo-hammock-senior-classic/
END:VEVENT
BEGIN:VEVENT
DTSTART;TZID=America/New_York:20250228T173000
DTEND;TZID=America/New_York:20250228T200000
DTSTAMP:20260419T181914
CREATED:20250114T154653Z
LAST-MODIFIED:20250114T154653Z
UID:10001365-1740763800-1740772800@www.sapelohammockgolfclub.com
SUMMARY:Cocktails & Sunsets
DESCRIPTION:Cocktails & Sunsets 5:30 pm – 8:00 pm
URL:https://www.sapelohammockgolfclub.com/event/cocktails-sunsets-65/
END:VEVENT
BEGIN:VEVENT
DTSTART;TZID=America/New_York:20250223T120000
DTEND;TZID=America/New_York:20250223T120000
DTSTAMP:20260419T181914
CREATED:20250114T154444Z
LAST-MODIFIED:20250114T154444Z
UID:10001364-1740312000-1740312000@www.sapelohammockgolfclub.com
SUMMARY:5 Club Tournament
DESCRIPTION:5 Club Tournament 12:00 pm Shotgun
URL:https://www.sapelohammockgolfclub.com/event/5-club-tournament-2/
END:VEVENT
BEGIN:VEVENT
DTSTART;VALUE=DATE:20250222
DTEND;VALUE=DATE:20250223
DTSTAMP:20260419T181914
CREATED:20250114T154223Z
LAST-MODIFIED:20250121T145214Z
UID:10001363-1740182400-1740268799@www.sapelohammockgolfclub.com
SUMMARY:MGA Pig Pickin'
DESCRIPTION:MGA Pig Pickin’ \nMen’s Golf Association Members and Guest
URL:https://www.sapelohammockgolfclub.com/event/mga-pig-pickin/
END:VEVENT
BEGIN:VEVENT
DTSTART;TZID=America/New_York:20250221T173000
DTEND;TZID=America/New_York:20250221T200000
DTSTAMP:20260419T181914
CREATED:20250114T154145Z
LAST-MODIFIED:20250114T154145Z
UID:10001362-1740159000-1740168000@www.sapelohammockgolfclub.com
SUMMARY:Cocktails & Sunsets
DESCRIPTION:Cocktails & Sunsets  5:30 pm – 8:00 pm
URL:https://www.sapelohammockgolfclub.com/event/cocktails-sunsets-64/
END:VEVENT
BEGIN:VEVENT
DTSTART;TZID=America/New_York:20250216T090000
DTEND;TZID=America/New_York:20250216T090000
DTSTAMP:20260419T181914
CREATED:20250114T154045Z
LAST-MODIFIED:20250121T145125Z
UID:10001361-1739696400-1739696400@www.sapelohammockgolfclub.com
SUMMARY:Coastal Senior Am Tour
DESCRIPTION:Coastal Senior Am Tour 9:00 am Shotgun \nCourse Closed until after the 1st Tee Clears
URL:https://www.sapelohammockgolfclub.com/event/coastal-senior-am-tour-course-closed/
END:VEVENT
END:VCALENDAR