BEGIN:VCALENDAR
VERSION:2.0
PRODID:-//Sapelo Hammock Golf Club - ECPv6.15.18//NONSGML v1.0//EN
CALSCALE:GREGORIAN
METHOD:PUBLISH
X-WR-CALNAME:Sapelo Hammock Golf Club
X-ORIGINAL-URL:https://www.sapelohammockgolfclub.com
X-WR-CALDESC:Events for Sapelo Hammock Golf Club
REFRESH-INTERVAL;VALUE=DURATION:PT1H
X-Robots-Tag:noindex
X-PUBLISHED-TTL:PT1H
BEGIN:VTIMEZONE
TZID:America/New_York
BEGIN:DAYLIGHT
TZOFFSETFROM:-0500
TZOFFSETTO:-0400
TZNAME:EDT
DTSTART:20240310T070000
END:DAYLIGHT
BEGIN:STANDARD
TZOFFSETFROM:-0400
TZOFFSETTO:-0500
TZNAME:EST
DTSTART:20241103T060000
END:STANDARD
BEGIN:DAYLIGHT
TZOFFSETFROM:-0500
TZOFFSETTO:-0400
TZNAME:EDT
DTSTART:20250309T070000
END:DAYLIGHT
BEGIN:STANDARD
TZOFFSETFROM:-0400
TZOFFSETTO:-0500
TZNAME:EST
DTSTART:20251102T060000
END:STANDARD
BEGIN:DAYLIGHT
TZOFFSETFROM:-0500
TZOFFSETTO:-0400
TZNAME:EDT
DTSTART:20260308T070000
END:DAYLIGHT
BEGIN:STANDARD
TZOFFSETFROM:-0400
TZOFFSETTO:-0500
TZNAME:EST
DTSTART:20261101T060000
END:STANDARD
END:VTIMEZONE
BEGIN:VEVENT
DTSTART;TZID=America/New_York:20250912T173000
DTEND;TZID=America/New_York:20250912T200000
DTSTAMP:20260419T131456
CREATED:20250801T170518Z
LAST-MODIFIED:20250801T170518Z
UID:10001417-1757698200-1757707200@www.sapelohammockgolfclub.com
SUMMARY:Cocktails & Sunsets
DESCRIPTION:Cocktails & Sunsets 5:30 pm – 8:00 pm  
URL:https://www.sapelohammockgolfclub.com/event/cocktails-sunsets-80/2025-09-12/
CATEGORIES:Event
END:VEVENT
BEGIN:VEVENT
DTSTART;TZID=America/New_York:20250910T120000
DTEND;TZID=America/New_York:20250910T120000
DTSTAMP:20260419T131456
CREATED:20250801T171431Z
LAST-MODIFIED:20250801T171431Z
UID:10001675-1757505600-1757505600@www.sapelohammockgolfclub.com
SUMMARY:W.E.S. Luncheon
DESCRIPTION:
URL:https://www.sapelohammockgolfclub.com/event/w-e-s-luncheon-2/
CATEGORIES:Event
END:VEVENT
BEGIN:VEVENT
DTSTART;VALUE=DATE:20250906
DTEND;VALUE=DATE:20250908
DTSTAMP:20260419T131456
CREATED:20241202T160038Z
LAST-MODIFIED:20250801T171315Z
UID:10001333-1757116800-1757289599@www.sapelohammockgolfclub.com
SUMMARY:Club Championship
DESCRIPTION:September 6-7th Club Championship $50 entry fee 
URL:https://www.sapelohammockgolfclub.com/event/club-championship/
CATEGORIES:Tournament
END:VEVENT
BEGIN:VEVENT
DTSTART;TZID=America/New_York:20250905T173000
DTEND;TZID=America/New_York:20250905T200000
DTSTAMP:20260419T131456
CREATED:20250801T170518Z
LAST-MODIFIED:20250801T170518Z
UID:10001416-1757093400-1757102400@www.sapelohammockgolfclub.com
SUMMARY:Cocktails & Sunsets
DESCRIPTION:Cocktails & Sunsets 5:30 pm – 8:00 pm  
URL:https://www.sapelohammockgolfclub.com/event/cocktails-sunsets-80/2025-09-05/
CATEGORIES:Event
END:VEVENT
BEGIN:VEVENT
DTSTART;VALUE=DATE:20250901
DTEND;VALUE=DATE:20250902
DTSTAMP:20260419T131456
CREATED:20250801T171155Z
LAST-MODIFIED:20250801T171155Z
UID:10001674-1756684800-1756771199@www.sapelohammockgolfclub.com
SUMMARY:Labor Day
DESCRIPTION:
URL:https://www.sapelohammockgolfclub.com/event/labor-day/
CATEGORIES:Holiday
END:VEVENT
BEGIN:VEVENT
DTSTART;TZID=America/New_York:20250829T173000
DTEND;TZID=America/New_York:20250829T200000
DTSTAMP:20260419T131456
CREATED:20250801T170518Z
LAST-MODIFIED:20250801T170518Z
UID:10001415-1756488600-1756497600@www.sapelohammockgolfclub.com
SUMMARY:Cocktails & Sunsets
DESCRIPTION:Cocktails & Sunsets 5:30 pm – 8:00 pm  
URL:https://www.sapelohammockgolfclub.com/event/cocktails-sunsets-80/2025-08-29/
CATEGORIES:Event
END:VEVENT
BEGIN:VEVENT
DTSTART;TZID=America/New_York:20250822T173000
DTEND;TZID=America/New_York:20250822T200000
DTSTAMP:20260419T131456
CREATED:20250801T170744Z
LAST-MODIFIED:20250801T170744Z
UID:10001414-1755883800-1755892800@www.sapelohammockgolfclub.com
SUMMARY:Cocktails & Sunsets
DESCRIPTION:Cocktails & Sunsets 5:30 pm – 8:00 pm   \nMessy Buns Food truck on site
URL:https://www.sapelohammockgolfclub.com/event/cocktails-sunsets-80-2/
CATEGORIES:Event
END:VEVENT
BEGIN:VEVENT
DTSTART;TZID=America/New_York:20250821T173000
DTEND;TZID=America/New_York:20250821T173000
DTSTAMP:20260419T131456
CREATED:20250801T171050Z
LAST-MODIFIED:20250801T171050Z
UID:10001673-1755797400-1755797400@www.sapelohammockgolfclub.com
SUMMARY:Darien / McIntosh County Chamber
DESCRIPTION:Business After Hours
URL:https://www.sapelohammockgolfclub.com/event/darien-mcintosh-county-chamber/
CATEGORIES:Event
END:VEVENT
BEGIN:VEVENT
DTSTART;VALUE=DATE:20250818
DTEND;VALUE=DATE:20250819
DTSTAMP:20260419T131456
CREATED:20250801T170947Z
LAST-MODIFIED:20250801T170947Z
UID:10001672-1755475200-1755561599@www.sapelohammockgolfclub.com
SUMMARY:GAPGA Playing Ability Test
DESCRIPTION:
URL:https://www.sapelohammockgolfclub.com/event/gapga-playing-ability-test/
CATEGORIES:Event
END:VEVENT
BEGIN:VEVENT
DTSTART;TZID=America/New_York:20250817T080000
DTEND;TZID=America/New_York:20250817T170000
DTSTAMP:20260419T131456
CREATED:20241202T155959Z
LAST-MODIFIED:20250331T165442Z
UID:10001332-1755417600-1755450000@www.sapelohammockgolfclub.com
SUMMARY:SHGC Putting Championship
DESCRIPTION:August 17th SHGC Putting Championship $10 entry fee 
URL:https://www.sapelohammockgolfclub.com/event/shgc-putting-championship/
CATEGORIES:Tournament
END:VEVENT
BEGIN:VEVENT
DTSTART;TZID=America/New_York:20250815T173000
DTEND;TZID=America/New_York:20250815T200000
DTSTAMP:20260419T131456
CREATED:20250801T170518Z
LAST-MODIFIED:20250801T170518Z
UID:10001413-1755279000-1755288000@www.sapelohammockgolfclub.com
SUMMARY:Cocktails & Sunsets
DESCRIPTION:Cocktails & Sunsets 5:30 pm – 8:00 pm  
URL:https://www.sapelohammockgolfclub.com/event/cocktails-sunsets-80/2025-08-15/
CATEGORIES:Event
END:VEVENT
BEGIN:VEVENT
DTSTART;TZID=America/New_York:20250808T173000
DTEND;TZID=America/New_York:20250808T200000
DTSTAMP:20260419T131456
CREATED:20250801T170518Z
LAST-MODIFIED:20250801T170518Z
UID:10001412-1754674200-1754683200@www.sapelohammockgolfclub.com
SUMMARY:Cocktails & Sunsets
DESCRIPTION:Cocktails & Sunsets 5:30 pm – 8:00 pm  
URL:https://www.sapelohammockgolfclub.com/event/cocktails-sunsets-80/2025-08-08/
CATEGORIES:Event
END:VEVENT
BEGIN:VEVENT
DTSTART;TZID=America/New_York:20250801T173000
DTEND;TZID=America/New_York:20250801T200000
DTSTAMP:20260419T131456
CREATED:20250801T170518Z
LAST-MODIFIED:20250801T170518Z
UID:10001411-1754069400-1754078400@www.sapelohammockgolfclub.com
SUMMARY:Cocktails & Sunsets
DESCRIPTION:Cocktails & Sunsets 5:30 pm – 8:00 pm  
URL:https://www.sapelohammockgolfclub.com/event/cocktails-sunsets-80/2025-08-01/
CATEGORIES:Event
END:VEVENT
BEGIN:VEVENT
DTSTART;TZID=America/New_York:20250725T173000
DTEND;TZID=America/New_York:20250725T200000
DTSTAMP:20260419T131456
CREATED:20250801T170518Z
LAST-MODIFIED:20250801T170518Z
UID:10001410-1753464600-1753473600@www.sapelohammockgolfclub.com
SUMMARY:Cocktails & Sunsets
DESCRIPTION:Cocktails & Sunsets 5:30 pm – 8:00 pm  
URL:https://www.sapelohammockgolfclub.com/event/cocktails-sunsets-80/2025-07-25/
CATEGORIES:Event
END:VEVENT
BEGIN:VEVENT
DTSTART;TZID=America/New_York:20250725T173000
DTEND;TZID=America/New_York:20250725T200000
DTSTAMP:20260419T131456
CREATED:20250602T181705Z
LAST-MODIFIED:20250602T181705Z
UID:10001409-1753464600-1753473600@www.sapelohammockgolfclub.com
SUMMARY:Cocktails & Sunsets
DESCRIPTION:Cocktails & Sunsets 5:30 pm – 8:00 pm  
URL:https://www.sapelohammockgolfclub.com/event/cocktails-sunsets-79/
CATEGORIES:Event
END:VEVENT
BEGIN:VEVENT
DTSTART;VALUE=DATE:20250721
DTEND;VALUE=DATE:20250725
DTSTAMP:20260419T131456
CREATED:20250602T181623Z
LAST-MODIFIED:20250602T181623Z
UID:10001408-1753056000-1753401599@www.sapelohammockgolfclub.com
SUMMARY:Junior Golf Academy
DESCRIPTION:Junior Golf Academy July 21-24
URL:https://www.sapelohammockgolfclub.com/event/junior-golf-academy-2/
CATEGORIES:Tournament
END:VEVENT
BEGIN:VEVENT
DTSTART;TZID=America/New_York:20250718T173000
DTEND;TZID=America/New_York:20250718T200000
DTSTAMP:20260419T131456
CREATED:20250602T181527Z
LAST-MODIFIED:20250602T181535Z
UID:10001407-1752859800-1752868800@www.sapelohammockgolfclub.com
SUMMARY:Cocktails & Sunsets
DESCRIPTION:Cocktails & Sunsets 5:30 – 8:00 pm 
URL:https://www.sapelohammockgolfclub.com/event/cocktails-sunsets-78/
CATEGORIES:Event
END:VEVENT
BEGIN:VEVENT
DTSTART;TZID=America/New_York:20250714T090000
DTEND;TZID=America/New_York:20250714T090000
DTSTAMP:20260419T131456
CREATED:20250602T181445Z
LAST-MODIFIED:20250602T181445Z
UID:10001406-1752483600-1752483600@www.sapelohammockgolfclub.com
SUMMARY:Under Armour Junior Tournament
DESCRIPTION:Course Closed until 1 hour after last tee time \nUnder Armour Junior Tournament 9:00 am
URL:https://www.sapelohammockgolfclub.com/event/under-armour-junior-tournament/
CATEGORIES:Tournament
END:VEVENT
BEGIN:VEVENT
DTSTART;TZID=America/New_York:20250711T173000
DTEND;TZID=America/New_York:20250711T200000
DTSTAMP:20260419T131456
CREATED:20250602T181209Z
LAST-MODIFIED:20250602T181209Z
UID:10001405-1752255000-1752264000@www.sapelohammockgolfclub.com
SUMMARY:Cocktails & Sunsets
DESCRIPTION:Cocktails & Sunsets 5:30 pm to 8:00 pm
URL:https://www.sapelohammockgolfclub.com/event/cocktails-sunsets-77/
CATEGORIES:Event
END:VEVENT
BEGIN:VEVENT
DTSTART;TZID=America/New_York:20250710T090000
DTEND;TZID=America/New_York:20250710T090000
DTSTAMP:20260419T131456
CREATED:20250602T181116Z
LAST-MODIFIED:20250602T181116Z
UID:10001404-1752138000-1752138000@www.sapelohammockgolfclub.com
SUMMARY:CLASP Play Day
DESCRIPTION:CLASP Play Day  9:00 am Shotgun 
URL:https://www.sapelohammockgolfclub.com/event/clasp-play-day/
CATEGORIES:Tournament
END:VEVENT
BEGIN:VEVENT
DTSTART;TZID=America/New_York:20250704T173000
DTEND;TZID=America/New_York:20250704T173000
DTSTAMP:20260419T131456
CREATED:20250602T181011Z
LAST-MODIFIED:20250602T181011Z
UID:10001403-1751650200-1751650200@www.sapelohammockgolfclub.com
SUMMARY:Owner / Member Cookout
DESCRIPTION:Out on an Island Tournament Owner / Member Cookout 5:30 pm 
URL:https://www.sapelohammockgolfclub.com/event/owner-member-cookout/
CATEGORIES:Event
END:VEVENT
BEGIN:VEVENT
DTSTART;TZID=America/New_York:20250704T090000
DTEND;TZID=America/New_York:20250704T090000
DTSTAMP:20260419T131456
CREATED:20241202T155919Z
LAST-MODIFIED:20250602T180902Z
UID:10001331-1751619600-1751619600@www.sapelohammockgolfclub.com
SUMMARY:Out on an Island Tournament
DESCRIPTION:July 4th Out on an Island Tournament  $25 entry fee 9:00 am \nOwner / Member Cookout 5:30 pm 
URL:https://www.sapelohammockgolfclub.com/event/out-on-an-island-2/
CATEGORIES:Tournament
END:VEVENT
BEGIN:VEVENT
DTSTART;TZID=America/New_York:20250629T130000
DTEND;TZID=America/New_York:20250629T130000
DTSTAMP:20260419T131456
CREATED:20241202T155835Z
LAST-MODIFIED:20250602T182512Z
UID:10001330-1751202000-1751202000@www.sapelohammockgolfclub.com
SUMMARY:NeSmith Couples Championship
DESCRIPTION:Click to download the NeSmith Couples Entry Form \nJune 29th NeSmith Couples Championship $20 team entry 1:00 pm Shotgun
URL:https://www.sapelohammockgolfclub.com/event/couples-championship-2/
CATEGORIES:Tournament
ATTACH;FMTTYPE=image/png:https://www.sapelohammockgolfclub.com/wp-content/uploads/sites/8829/2024/12/NeSmith-Couples-Entry-Form-1.png
END:VEVENT
BEGIN:VEVENT
DTSTART;VALUE=DATE:20250628
DTEND;VALUE=DATE:20250629
DTSTAMP:20260419T131456
CREATED:20250602T180633Z
LAST-MODIFIED:20250602T180633Z
UID:10001402-1751068800-1751155199@www.sapelohammockgolfclub.com
SUMMARY:NeSmith Couples Championship Cocktail Party
DESCRIPTION:NeSmith Couples Championship Cocktail Party
URL:https://www.sapelohammockgolfclub.com/event/nesmith-couples-championship-cocktail-party/
CATEGORIES:Event
END:VEVENT
BEGIN:VEVENT
DTSTART;TZID=America/New_York:20250627T170000
DTEND;TZID=America/New_York:20250627T200000
DTSTAMP:20260419T131456
CREATED:20250602T180523Z
LAST-MODIFIED:20250602T180549Z
UID:10001401-1751043600-1751054400@www.sapelohammockgolfclub.com
SUMMARY:Cocktails & Sunsets
DESCRIPTION:Cocktails & Sunsets 5:30 pm – 8:00 pm 
URL:https://www.sapelohammockgolfclub.com/event/cocktails-sunsets-76/
CATEGORIES:Event
END:VEVENT
BEGIN:VEVENT
DTSTART;VALUE=DATE:20250621
DTEND;VALUE=DATE:20250622
DTSTAMP:20260419T131456
CREATED:20250602T180237Z
LAST-MODIFIED:20250602T180246Z
UID:10001400-1750464000-1750550399@www.sapelohammockgolfclub.com
SUMMARY:MCA Class Reunion – Private Event
DESCRIPTION:MCA Class Reunion – Private Event 
URL:https://www.sapelohammockgolfclub.com/event/mca-class-reunion-private-event/
CATEGORIES:Event
END:VEVENT
BEGIN:VEVENT
DTSTART;TZID=America/New_York:20250620T170000
DTEND;TZID=America/New_York:20250620T200000
DTSTAMP:20260419T131456
CREATED:20250602T180156Z
LAST-MODIFIED:20250602T180308Z
UID:10001399-1750438800-1750449600@www.sapelohammockgolfclub.com
SUMMARY:Cocktails & Sunsets
DESCRIPTION:Cocktails & Sunsets 5:30 pm – 8:00 pm
URL:https://www.sapelohammockgolfclub.com/event/cocktails-sunsets-75/
CATEGORIES:Event
END:VEVENT
BEGIN:VEVENT
DTSTART;TZID=America/New_York:20250613T170000
DTEND;TZID=America/New_York:20250613T200000
DTSTAMP:20260419T131456
CREATED:20250602T180055Z
LAST-MODIFIED:20250602T180327Z
UID:10001398-1749834000-1749844800@www.sapelohammockgolfclub.com
SUMMARY:Cocktails & Sunsets
DESCRIPTION:Cocktails & Sunsets 5:30 pm – 8:00 pm
URL:https://www.sapelohammockgolfclub.com/event/cocktails-sunsets-74/
CATEGORIES:Event
END:VEVENT
BEGIN:VEVENT
DTSTART;VALUE=DATE:20250609
DTEND;VALUE=DATE:20250611
DTSTAMP:20260419T131456
CREATED:20250602T180002Z
LAST-MODIFIED:20250602T180346Z
UID:10001397-1749427200-1749599999@www.sapelohammockgolfclub.com
SUMMARY:Greens Aerification
DESCRIPTION:Greens Aerification June 9th & 10th 
URL:https://www.sapelohammockgolfclub.com/event/greens-aerification-3/
CATEGORIES:Event
END:VEVENT
BEGIN:VEVENT
DTSTART;TZID=America/New_York:20250607T090000
DTEND;TZID=America/New_York:20250607T170000
DTSTAMP:20260419T131456
CREATED:20250331T165206Z
LAST-MODIFIED:20250602T175859Z
UID:10001381-1749286800-1749315600@www.sapelohammockgolfclub.com
SUMMARY:SHGC Beautification Tournament
DESCRIPTION:Course Closed until Completion of Play  \n$125.00 per player
URL:https://www.sapelohammockgolfclub.com/event/shgc-beautification-tournament/
CATEGORIES:Tournament
END:VEVENT
END:VCALENDAR