BEGIN:VCALENDAR
VERSION:2.0
PRODID:-//Sapelo Hammock Golf Club - ECPv6.15.18//NONSGML v1.0//EN
CALSCALE:GREGORIAN
METHOD:PUBLISH
X-WR-CALNAME:Sapelo Hammock Golf Club
X-ORIGINAL-URL:https://www.sapelohammockgolfclub.com
X-WR-CALDESC:Events for Sapelo Hammock Golf Club
REFRESH-INTERVAL;VALUE=DURATION:PT1H
X-Robots-Tag:noindex
X-PUBLISHED-TTL:PT1H
BEGIN:VTIMEZONE
TZID:America/New_York
BEGIN:DAYLIGHT
TZOFFSETFROM:-0500
TZOFFSETTO:-0400
TZNAME:EDT
DTSTART:20220313T070000
END:DAYLIGHT
BEGIN:STANDARD
TZOFFSETFROM:-0400
TZOFFSETTO:-0500
TZNAME:EST
DTSTART:20221106T060000
END:STANDARD
BEGIN:DAYLIGHT
TZOFFSETFROM:-0500
TZOFFSETTO:-0400
TZNAME:EDT
DTSTART:20230312T070000
END:DAYLIGHT
BEGIN:STANDARD
TZOFFSETFROM:-0400
TZOFFSETTO:-0500
TZNAME:EST
DTSTART:20231105T060000
END:STANDARD
BEGIN:DAYLIGHT
TZOFFSETFROM:-0500
TZOFFSETTO:-0400
TZNAME:EDT
DTSTART:20240310T070000
END:DAYLIGHT
BEGIN:STANDARD
TZOFFSETFROM:-0400
TZOFFSETTO:-0500
TZNAME:EST
DTSTART:20241103T060000
END:STANDARD
END:VTIMEZONE
BEGIN:VEVENT
DTSTART;TZID=America/New_York:20231123T040000
DTEND;TZID=America/New_York:20231123T050000
DTSTAMP:20260420T160720
CREATED:20230804T040658Z
LAST-MODIFIED:20230804T040658Z
UID:10000039-1700712000-1700715600@www.sapelohammockgolfclub.com
SUMMARY:Thanksgiving Day
DESCRIPTION:
URL:https://www.sapelohammockgolfclub.com/event/thanksgiving-day/
END:VEVENT
BEGIN:VEVENT
DTSTART;VALUE=DATE:20231119
DTEND;VALUE=DATE:20231121
DTSTAMP:20260420T160720
CREATED:20230804T040611Z
LAST-MODIFIED:20230804T040611Z
UID:10000038-1700420400-1700506799@www.sapelohammockgolfclub.com
SUMMARY:SEGIA Event
DESCRIPTION:
URL:https://www.sapelohammockgolfclub.com/event/segia-event/
END:VEVENT
BEGIN:VEVENT
DTSTART;VALUE=DATE:20231116
DTEND;VALUE=DATE:20231118
DTSTAMP:20260420T160720
CREATED:20230804T040723Z
LAST-MODIFIED:20230804T040723Z
UID:10000040-1700161200-1700247599@www.sapelohammockgolfclub.com
SUMMARY:Owner / Member Dinner – Oyster Roast
DESCRIPTION:
URL:https://www.sapelohammockgolfclub.com/event/owner-member-dinner-oyster-roast/
END:VEVENT
BEGIN:VEVENT
DTSTART;TZID=America/New_York:20231113T040000
DTEND;TZID=America/New_York:20231113T040000
DTSTAMP:20260420T160720
CREATED:20230804T040546Z
LAST-MODIFIED:20230804T040546Z
UID:10000037-1699848000-1699848000@www.sapelohammockgolfclub.com
SUMMARY:SEGIA Event – Trident Lakes Golf Course
DESCRIPTION:
URL:https://www.sapelohammockgolfclub.com/event/segia-event-trident-lakes-golf-course/
END:VEVENT
BEGIN:VEVENT
DTSTART;VALUE=DATE:20231112
DTEND;VALUE=DATE:20231114
DTSTAMP:20260420T160720
CREATED:20230804T040524Z
LAST-MODIFIED:20230804T040524Z
UID:10000036-1699815600-1699901999@www.sapelohammockgolfclub.com
SUMMARY:Georgia PGA South Chapter Pro-Am – Country Club of Columbus\, Columbus\, GA
DESCRIPTION:
URL:https://www.sapelohammockgolfclub.com/event/georgia-pga-south-chapter-pro-am-country-club-of-columbus-columbus-ga/
END:VEVENT
BEGIN:VEVENT
DTSTART;TZID=America/New_York:20231110T113000
DTEND;TZID=America/New_York:20231110T113000
DTSTAMP:20260420T160720
CREATED:20230804T034846Z
LAST-MODIFIED:20230804T034846Z
UID:10000011-1699615800-1699615800@www.sapelohammockgolfclub.com
SUMMARY:Cocktails & Sunsets
DESCRIPTION:
URL:https://www.sapelohammockgolfclub.com/event/cocktails-sunsets-11/
END:VEVENT
BEGIN:VEVENT
DTSTART;VALUE=DATE:20231105
DTEND;VALUE=DATE:20231107
DTSTAMP:20260420T160720
CREATED:20230804T040429Z
LAST-MODIFIED:20230804T040429Z
UID:10000035-1699210800-1699297199@www.sapelohammockgolfclub.com
SUMMARY:GAPGA Seniors Division – Mullins Cup Matches
DESCRIPTION:
URL:https://www.sapelohammockgolfclub.com/event/gapga-seniors-division-mullins-cup-matches/
END:VEVENT
BEGIN:VEVENT
DTSTART;TZID=America/New_York:20231103T123000
DTEND;TZID=America/New_York:20231103T123000
DTSTAMP:20260420T160720
CREATED:20230804T034752Z
LAST-MODIFIED:20230804T034752Z
UID:10000010-1699014600-1699014600@www.sapelohammockgolfclub.com
SUMMARY:Cocktails & Sunsets
DESCRIPTION:
URL:https://www.sapelohammockgolfclub.com/event/cocktails-sunsets-10/
END:VEVENT
BEGIN:VEVENT
DTSTART;TZID=America/New_York:20231101T050000
DTEND;TZID=America/New_York:20231101T050000
DTSTAMP:20260420T160720
CREATED:20230804T040403Z
LAST-MODIFIED:20230804T040403Z
UID:10000034-1698814800-1698814800@www.sapelohammockgolfclub.com
SUMMARY:SOAR Charity Outing
DESCRIPTION:
URL:https://www.sapelohammockgolfclub.com/event/soar-charity-outing/
END:VEVENT
BEGIN:VEVENT
DTSTART;TZID=America/New_York:20231031T050000
DTEND;TZID=America/New_York:20231031T050000
DTSTAMP:20260420T160720
CREATED:20230804T040245Z
LAST-MODIFIED:20230804T040245Z
UID:10000033-1698728400-1698728400@www.sapelohammockgolfclub.com
SUMMARY:LGA Halloween Tournament
DESCRIPTION:
URL:https://www.sapelohammockgolfclub.com/event/lga-halloween-tournament/
END:VEVENT
BEGIN:VEVENT
DTSTART;VALUE=DATE:20231029
DTEND;VALUE=DATE:20231031
DTSTAMP:20260420T160720
CREATED:20230804T040212Z
LAST-MODIFIED:20230804T040212Z
UID:10000032-1698609600-1698695999@www.sapelohammockgolfclub.com
SUMMARY:Georgia PGA South Chapter Pro-Am – Georgia Southern University Golf Course\, Statesboro\, GA
DESCRIPTION:
URL:https://www.sapelohammockgolfclub.com/event/georgia-pga-south-chapter-pro-am-georgia-southern-university-golf-course-statesboro-ga/
END:VEVENT
BEGIN:VEVENT
DTSTART;TZID=America/New_York:20231027T133000
DTEND;TZID=America/New_York:20231027T133000
DTSTAMP:20260420T160720
CREATED:20230804T034654Z
LAST-MODIFIED:20230804T034654Z
UID:10000009-1698413400-1698413400@www.sapelohammockgolfclub.com
SUMMARY:Cocktails & Sunsets
DESCRIPTION:
URL:https://www.sapelohammockgolfclub.com/event/cocktails-sunsets-9/
END:VEVENT
BEGIN:VEVENT
DTSTART;TZID=America/New_York:20231027T123000
DTEND;TZID=America/New_York:20231027T123000
DTSTAMP:20260420T160720
CREATED:20230928T235850Z
LAST-MODIFIED:20230929T000009Z
UID:10000048-1698409800-1698409800@www.sapelohammockgolfclub.com
SUMMARY:Sapelo Hammock Speaker Series - Ray Williams
DESCRIPTION:
URL:https://www.sapelohammockgolfclub.com/event/sapelo-hammock-speaker-series-ray-williams/
END:VEVENT
BEGIN:VEVENT
DTSTART;VALUE=DATE:20231019
DTEND;VALUE=DATE:20231021
DTSTAMP:20260420T160720
CREATED:20230804T040132Z
LAST-MODIFIED:20230804T040132Z
UID:10000031-1697745600-1697831999@www.sapelohammockgolfclub.com
SUMMARY:Coastal Community Health Charity Golf Classic
DESCRIPTION:
URL:https://www.sapelohammockgolfclub.com/event/coastal-community-health-charity-golf-classic/
END:VEVENT
BEGIN:VEVENT
DTSTART;TZID=America/New_York:20231016T050000
DTEND;TZID=America/New_York:20231016T050000
DTSTAMP:20260420T160720
CREATED:20230804T040050Z
LAST-MODIFIED:20230804T040050Z
UID:10000030-1697432400-1697432400@www.sapelohammockgolfclub.com
SUMMARY:SEGIA Event – Blueberry Plantation Golf Club
DESCRIPTION:
URL:https://www.sapelohammockgolfclub.com/event/segia-event-blueberry-plantation-golf-club/
END:VEVENT
BEGIN:VEVENT
DTSTART;TZID=America/New_York:20231014T050000
DTEND;TZID=America/New_York:20231014T050000
DTSTAMP:20260420T160720
CREATED:20230928T235449Z
LAST-MODIFIED:20230928T235803Z
UID:10000047-1697259600-1697259600@www.sapelohammockgolfclub.com
SUMMARY:SNF Outing
DESCRIPTION:
URL:https://www.sapelohammockgolfclub.com/event/snf-outing/
END:VEVENT
BEGIN:VEVENT
DTSTART;VALUE=DATE:20231013
DTEND;VALUE=DATE:20231015
DTSTAMP:20260420T160720
CREATED:20230804T040022Z
LAST-MODIFIED:20230804T040022Z
UID:10000029-1697227200-1697313599@www.sapelohammockgolfclub.com
SUMMARY:Owner / Member Dinner – Dinner & Dancing Under the Stars
DESCRIPTION:
URL:https://www.sapelohammockgolfclub.com/event/owner-member-dinner-dinner-dancing-under-the-stars/
END:VEVENT
BEGIN:VEVENT
DTSTART;TZID=America/New_York:20231013T133000
DTEND;TZID=America/New_York:20231013T160000
DTSTAMP:20260420T160720
CREATED:20230928T235404Z
LAST-MODIFIED:20230928T235404Z
UID:10000046-1697203800-1697212800@www.sapelohammockgolfclub.com
SUMMARY:Sunsets & Cocktails
DESCRIPTION:
URL:https://www.sapelohammockgolfclub.com/event/sunsets-cocktails/
END:VEVENT
BEGIN:VEVENT
DTSTART;VALUE=DATE:20231008
DTEND;VALUE=DATE:20231010
DTSTAMP:20260420T160720
CREATED:20230804T040001Z
LAST-MODIFIED:20230804T040001Z
UID:10000028-1696795200-1696881599@www.sapelohammockgolfclub.com
SUMMARY:GAPGA Seniors Division – Tour Championship
DESCRIPTION:
URL:https://www.sapelohammockgolfclub.com/event/gapga-seniors-division-tour-championship/
END:VEVENT
BEGIN:VEVENT
DTSTART;VALUE=DATE:20231006
DTEND;VALUE=DATE:20231008
DTSTAMP:20260420T160720
CREATED:20230804T035941Z
LAST-MODIFIED:20230804T035941Z
UID:10000027-1696622400-1696708799@www.sapelohammockgolfclub.com
SUMMARY:Member-Member / Member-Guest
DESCRIPTION:
URL:https://www.sapelohammockgolfclub.com/event/member-member-member-guest/
END:VEVENT
BEGIN:VEVENT
DTSTART;TZID=America/New_York:20231006T133000
DTEND;TZID=America/New_York:20231006T133000
DTSTAMP:20260420T160720
CREATED:20230804T034625Z
LAST-MODIFIED:20230804T034625Z
UID:10000008-1696599000-1696599000@www.sapelohammockgolfclub.com
SUMMARY:Cocktails & Sunsets
DESCRIPTION:
URL:https://www.sapelohammockgolfclub.com/event/cocktails-sunsets-8/
END:VEVENT
BEGIN:VEVENT
DTSTART;TZID=America/New_York:20230930T050000
DTEND;TZID=America/New_York:20230930T050000
DTSTAMP:20260420T160720
CREATED:20230804T035909Z
LAST-MODIFIED:20230911T204610Z
UID:10000026-1696050000-1696050000@www.sapelohammockgolfclub.com
SUMMARY:Darien - McIntosh Chamber Outing
DESCRIPTION:
URL:https://www.sapelohammockgolfclub.com/event/chamber-of-commerce-outing/
END:VEVENT
BEGIN:VEVENT
DTSTART;TZID=America/New_York:20230929T133000
DTEND;TZID=America/New_York:20230929T133000
DTSTAMP:20260420T160720
CREATED:20230804T034544Z
LAST-MODIFIED:20230804T034544Z
UID:10000007-1695994200-1695994200@www.sapelohammockgolfclub.com
SUMMARY:Cocktails & Sunsets
DESCRIPTION:
URL:https://www.sapelohammockgolfclub.com/event/cocktails-sunsets-7/
END:VEVENT
BEGIN:VEVENT
DTSTART;VALUE=DATE:20230921
DTEND;VALUE=DATE:20230923
DTSTAMP:20260420T160720
CREATED:20230804T035828Z
LAST-MODIFIED:20230804T035828Z
UID:10000025-1695326400-1695412799@www.sapelohammockgolfclub.com
SUMMARY:Owner / Member Dinner – Italian Night
DESCRIPTION:
URL:https://www.sapelohammockgolfclub.com/event/owner-member-dinner-italian-night/
END:VEVENT
BEGIN:VEVENT
DTSTART;TZID=America/New_York:20230918T050000
DTEND;TZID=America/New_York:20230918T050000
DTSTAMP:20260420T160720
CREATED:20230804T035714Z
LAST-MODIFIED:20230804T035714Z
UID:10000024-1695013200-1695013200@www.sapelohammockgolfclub.com
SUMMARY:SEGIA Event – Jekyll Island Golf Club
DESCRIPTION:
URL:https://www.sapelohammockgolfclub.com/event/segia-event-jekyll-island-golf-club/
END:VEVENT
BEGIN:VEVENT
DTSTART;VALUE=DATE:20230917
DTEND;VALUE=DATE:20230919
DTSTAMP:20260420T160720
CREATED:20230804T035635Z
LAST-MODIFIED:20230804T035635Z
UID:10000023-1694980800-1695067199@www.sapelohammockgolfclub.com
SUMMARY:Georgia PGA Seniors – Veteran Carriers Senior Classic
DESCRIPTION:
URL:https://www.sapelohammockgolfclub.com/event/georgia-pga-seniors-veteran-carriers-senior-classic/
END:VEVENT
BEGIN:VEVENT
DTSTART;TZID=America/New_York:20230915T133000
DTEND;TZID=America/New_York:20230915T133000
DTSTAMP:20260420T160720
CREATED:20230804T034515Z
LAST-MODIFIED:20230804T034515Z
UID:10000006-1694784600-1694784600@www.sapelohammockgolfclub.com
SUMMARY:Cocktails & Sunsets
DESCRIPTION:
URL:https://www.sapelohammockgolfclub.com/event/cocktails-sunsets-6/
END:VEVENT
BEGIN:VEVENT
DTSTART;VALUE=DATE:20230910
DTEND;VALUE=DATE:20230913
DTSTAMP:20260420T160720
CREATED:20230911T204444Z
LAST-MODIFIED:20230911T204444Z
UID:10000045-1694376000-1694548799@www.sapelohammockgolfclub.com
SUMMARY:MGA - Ryder Cup Matches
DESCRIPTION:
URL:https://www.sapelohammockgolfclub.com/event/mga-matches/
END:VEVENT
BEGIN:VEVENT
DTSTART;VALUE=DATE:20230908
DTEND;VALUE=DATE:20230911
DTSTAMP:20260420T160720
CREATED:20230804T035551Z
LAST-MODIFIED:20230911T204530Z
UID:10000022-1694203200-1694375999@www.sapelohammockgolfclub.com
SUMMARY:Sapelo Hammock Club Championship Weekend
DESCRIPTION:
URL:https://www.sapelohammockgolfclub.com/event/sapelo-hammock-club-championship-weekend/
END:VEVENT
BEGIN:VEVENT
DTSTART;TZID=America/New_York:20230908T133000
DTEND;TZID=America/New_York:20230908T133000
DTSTAMP:20260420T160720
CREATED:20230804T034453Z
LAST-MODIFIED:20230804T034453Z
UID:10000005-1694179800-1694179800@www.sapelohammockgolfclub.com
SUMMARY:Cocktails & Sunsets
DESCRIPTION:
URL:https://www.sapelohammockgolfclub.com/event/cocktails-sunsets-5/
END:VEVENT
END:VCALENDAR