BEGIN:VCALENDAR
VERSION:2.0
PRODID:-//Sapelo Hammock Golf Club - ECPv6.15.18//NONSGML v1.0//EN
CALSCALE:GREGORIAN
METHOD:PUBLISH
X-ORIGINAL-URL:https://www.sapelohammockgolfclub.com
X-WR-CALDESC:Events for Sapelo Hammock Golf Club
REFRESH-INTERVAL;VALUE=DURATION:PT1H
X-Robots-Tag:noindex
X-PUBLISHED-TTL:PT1H
BEGIN:VTIMEZONE
TZID:America/New_York
BEGIN:DAYLIGHT
TZOFFSETFROM:-0500
TZOFFSETTO:-0400
TZNAME:EDT
DTSTART:20220313T070000
END:DAYLIGHT
BEGIN:STANDARD
TZOFFSETFROM:-0400
TZOFFSETTO:-0500
TZNAME:EST
DTSTART:20221106T060000
END:STANDARD
BEGIN:DAYLIGHT
TZOFFSETFROM:-0500
TZOFFSETTO:-0400
TZNAME:EDT
DTSTART:20230312T070000
END:DAYLIGHT
BEGIN:STANDARD
TZOFFSETFROM:-0400
TZOFFSETTO:-0500
TZNAME:EST
DTSTART:20231105T060000
END:STANDARD
BEGIN:DAYLIGHT
TZOFFSETFROM:-0500
TZOFFSETTO:-0400
TZNAME:EDT
DTSTART:20240310T070000
END:DAYLIGHT
BEGIN:STANDARD
TZOFFSETFROM:-0400
TZOFFSETTO:-0500
TZNAME:EST
DTSTART:20241103T060000
END:STANDARD
BEGIN:DAYLIGHT
TZOFFSETFROM:-0500
TZOFFSETTO:-0400
TZNAME:EDT
DTSTART:20250309T070000
END:DAYLIGHT
BEGIN:STANDARD
TZOFFSETFROM:-0400
TZOFFSETTO:-0500
TZNAME:EST
DTSTART:20251102T060000
END:STANDARD
END:VTIMEZONE
BEGIN:VEVENT
DTSTART;TZID=America/New_York:20240405T110000
DTEND;TZID=America/New_York:20240405T170000
DTSTAMP:20260420T115412
CREATED:20240111T012057Z
LAST-MODIFIED:20240311T224120Z
UID:10000069-1712314800-1712336400@www.sapelohammockgolfclub.com
SUMMARY:Pre-Masters Par 3 Tournament & Champions Dinner
DESCRIPTION:6:00 pm dinner
URL:https://www.sapelohammockgolfclub.com/event/pre-masters-par-3-tournament-champions-dinner/
END:VEVENT
BEGIN:VEVENT
DTSTART;TZID=America/New_York:20240405T040000
DTEND;TZID=America/New_York:20240405T130000
DTSTAMP:20260420T115412
CREATED:20240404T201517Z
LAST-MODIFIED:20240404T202602Z
UID:10000512-1712289600-1712322000@www.sapelohammockgolfclub.com
SUMMARY:Cocktails & Sunsets
DESCRIPTION:
URL:https://www.sapelohammockgolfclub.com/event/cocktails-sunsets-57/
END:VEVENT
BEGIN:VEVENT
DTSTART;TZID=America/New_York:20240329T133000
DTEND;TZID=America/New_York:20240329T153000
DTSTAMP:20260420T115412
CREATED:20240111T010057Z
LAST-MODIFIED:20240111T010057Z
UID:10000065-1711719000-1711726200@www.sapelohammockgolfclub.com
SUMMARY:Cocktails & Sunsets
DESCRIPTION:
URL:https://www.sapelohammockgolfclub.com/event/cocktails-sunsets-26/
END:VEVENT
BEGIN:VEVENT
DTSTART;TZID=America/New_York:20240322T133000
DTEND;TZID=America/New_York:20240322T153000
DTSTAMP:20260420T115412
CREATED:20240111T010044Z
LAST-MODIFIED:20240311T223829Z
UID:10000064-1711114200-1711121400@www.sapelohammockgolfclub.com
SUMMARY:Cocktails & Sunsets
DESCRIPTION:
URL:https://www.sapelohammockgolfclub.com/event/cocktails-sunsets-25/
END:VEVENT
BEGIN:VEVENT
DTSTART;TZID=America/New_York:20240316T130000
DTEND;TZID=America/New_York:20240316T150000
DTSTAMP:20260420T115412
CREATED:20240202T182902Z
LAST-MODIFIED:20240202T182902Z
UID:10000141-1710594000-1710601200@www.sapelohammockgolfclub.com
SUMMARY:Chris Mitchell Reception
DESCRIPTION:
URL:https://www.sapelohammockgolfclub.com/event/chris-mitchell-reception/
END:VEVENT
BEGIN:VEVENT
DTSTART;TZID=America/New_York:20240315T133000
DTEND;TZID=America/New_York:20240315T153000
DTSTAMP:20260420T115412
CREATED:20240111T010028Z
LAST-MODIFIED:20240311T223736Z
UID:10000063-1710509400-1710516600@www.sapelohammockgolfclub.com
SUMMARY:Cocktails & Sunsets
DESCRIPTION:
URL:https://www.sapelohammockgolfclub.com/event/cocktails-sunsets-24/
END:VEVENT
BEGIN:VEVENT
DTSTART;TZID=America/New_York:20240313T083000
DTEND;TZID=America/New_York:20240313T110000
DTSTAMP:20260420T115412
CREATED:20240202T182808Z
LAST-MODIFIED:20240202T182808Z
UID:10000140-1710318600-1710327600@www.sapelohammockgolfclub.com
SUMMARY:W.E.S. Luncheon
DESCRIPTION:
URL:https://www.sapelohammockgolfclub.com/event/w-e-s-luncheon/
END:VEVENT
BEGIN:VEVENT
DTSTART;TZID=America/New_York:20240310T090000
DTEND;TZID=America/New_York:20240310T130000
DTSTAMP:20260420T115412
CREATED:20240111T010316Z
LAST-MODIFIED:20240203T010245Z
UID:10000068-1710061200-1710075600@www.sapelohammockgolfclub.com
SUMMARY:2 Player Scramble
DESCRIPTION:
URL:https://www.sapelohammockgolfclub.com/event/2-player-scramble/
END:VEVENT
BEGIN:VEVENT
DTSTART;TZID=America/New_York:20240308T123000
DTEND;TZID=America/New_York:20240308T160000
DTSTAMP:20260420T115412
CREATED:20240111T010253Z
LAST-MODIFIED:20240220T203814Z
UID:10000067-1709901000-1709913600@www.sapelohammockgolfclub.com
SUMMARY:Owner/Member Dinner - Soup & Sandwich Gourmet
DESCRIPTION:
URL:https://www.sapelohammockgolfclub.com/event/owner-member-dinner-soup-sandwich-gourmet/
END:VEVENT
BEGIN:VEVENT
DTSTART;TZID=America/New_York:20240303T110000
DTEND;TZID=America/New_York:20240303T150000
DTSTAMP:20260420T115412
CREATED:20240105T200130Z
LAST-MODIFIED:20240105T200420Z
UID:10000050-1709463600-1709478000@www.sapelohammockgolfclub.com
SUMMARY:Sapelo Hammock Speaker Series
DESCRIPTION:  \nFor all of our baseball fans\, we are proud to host a presentation by retired Major League Baseball pitcher Jim Kaat. \nJim was one of the most recognized names in baseball from the 1960s through the 80s and is a three time All Star\, winner of 16 Gold Glove Awards and is an inductee of the National Baseball Hall of Fame in Cooperstown\, NY. He and his wife are seasonal residents of Shellman Bluff and are members of our Sapelo Hammock owners group. \nThese events are open to the public and everyone is welcome! After the one hour talks\, we invite you to join us for light snacks and a cash bar. Come and socialize with your friends and neighbors and talk further with our guest presenters!
URL:https://www.sapelohammockgolfclub.com/event/sapelo-hammock-speaker-series-2/
LOCATION:Clubhouse
END:VEVENT
BEGIN:VEVENT
DTSTART;TZID=America/New_York:20240302T050000
DTEND;TZID=America/New_York:20240302T120000
DTSTAMP:20260420T115412
CREATED:20240111T010209Z
LAST-MODIFIED:20240202T183105Z
UID:10000066-1709355600-1709380800@www.sapelohammockgolfclub.com
SUMMARY:Masonic Home Outing
DESCRIPTION:10 am shotgun \nCourse closed until completion of play
URL:https://www.sapelohammockgolfclub.com/event/marsonic-home-outing/
END:VEVENT
BEGIN:VEVENT
DTSTART;TZID=America/New_York:20240301T123000
DTEND;TZID=America/New_York:20240301T143000
DTSTAMP:20260420T115412
CREATED:20240111T010013Z
LAST-MODIFIED:20240111T010013Z
UID:10000062-1709296200-1709303400@www.sapelohammockgolfclub.com
SUMMARY:Cocktails & Sunsets
DESCRIPTION:
URL:https://www.sapelohammockgolfclub.com/event/cocktails-sunsets-23/
END:VEVENT
BEGIN:VEVENT
DTSTART;TZID=America/New_York:20240225T080000
DTEND;TZID=America/New_York:20240225T120000
DTSTAMP:20260420T115412
CREATED:20240111T005934Z
LAST-MODIFIED:20240118T001817Z
UID:10000061-1708848000-1708862400@www.sapelohammockgolfclub.com
SUMMARY:5 Club Tournament
DESCRIPTION:1 pm shotgun
URL:https://www.sapelohammockgolfclub.com/event/5-club-tournament/
END:VEVENT
BEGIN:VEVENT
DTSTART;TZID=America/New_York:20240223T123000
DTEND;TZID=America/New_York:20240223T143000
DTSTAMP:20260420T115412
CREATED:20240111T005843Z
LAST-MODIFIED:20240111T005843Z
UID:10000060-1708691400-1708698600@www.sapelohammockgolfclub.com
SUMMARY:Cocktails & Sunsets
DESCRIPTION:
URL:https://www.sapelohammockgolfclub.com/event/cocktails-sunsets-22/
END:VEVENT
BEGIN:VEVENT
DTSTART;TZID=America/New_York:20240218T030000
DTEND;TZID=America/New_York:20240218T120000
DTSTAMP:20260420T115412
CREATED:20240202T183357Z
LAST-MODIFIED:20240202T183357Z
UID:10000142-1708225200-1708257600@www.sapelohammockgolfclub.com
SUMMARY:Coastal Senior Am Tour
DESCRIPTION:
URL:https://www.sapelohammockgolfclub.com/event/coastal-senior-am-tour/
END:VEVENT
BEGIN:VEVENT
DTSTART;TZID=America/New_York:20240217T093000
DTEND;TZID=America/New_York:20240217T123000
DTSTAMP:20260420T115412
CREATED:20240118T002247Z
LAST-MODIFIED:20240212T202032Z
UID:10000138-1708162200-1708173000@www.sapelohammockgolfclub.com
SUMMARY:The Art of Putting
DESCRIPTION:
URL:https://www.sapelohammockgolfclub.com/event/the-art-of-putting/
END:VEVENT
BEGIN:VEVENT
DTSTART;TZID=America/New_York:20240216T123000
DTEND;TZID=America/New_York:20240216T143000
DTSTAMP:20260420T115412
CREATED:20240111T005818Z
LAST-MODIFIED:20240111T005818Z
UID:10000059-1708086600-1708093800@www.sapelohammockgolfclub.com
SUMMARY:Cocktails & Sunsets
DESCRIPTION:
URL:https://www.sapelohammockgolfclub.com/event/cocktails-sunsets-21/
END:VEVENT
BEGIN:VEVENT
DTSTART;TZID=America/New_York:20240209T123000
DTEND;TZID=America/New_York:20240209T160000
DTSTAMP:20260420T115412
CREATED:20240111T005752Z
LAST-MODIFIED:20240111T005752Z
UID:10000058-1707481800-1707494400@www.sapelohammockgolfclub.com
SUMMARY:Owner/Member Dinner - Mardi Gras Party
DESCRIPTION:5:30 pm cocktails \n6:30 pm dinner
URL:https://www.sapelohammockgolfclub.com/event/owner-member-dinner-mardi-gras-party/
END:VEVENT
BEGIN:VEVENT
DTSTART;TZID=America/New_York:20240204T100000
DTEND;TZID=America/New_York:20240204T140000
DTSTAMP:20260420T115412
CREATED:20240125T185111Z
LAST-MODIFIED:20240125T185111Z
UID:10000139-1707040800-1707055200@www.sapelohammockgolfclub.com
SUMMARY:SBA Annual Meeting
DESCRIPTION:
URL:https://www.sapelohammockgolfclub.com/event/sba-annual-meeting-2/
END:VEVENT
BEGIN:VEVENT
DTSTART;TZID=America/New_York:20240202T123000
DTEND;TZID=America/New_York:20240202T143000
DTSTAMP:20260420T115413
CREATED:20240111T005707Z
LAST-MODIFIED:20240111T005707Z
UID:10000057-1706877000-1706884200@www.sapelohammockgolfclub.com
SUMMARY:Cocktails & Sunsets
DESCRIPTION:
URL:https://www.sapelohammockgolfclub.com/event/cocktails-sunsets-20/
END:VEVENT
BEGIN:VEVENT
DTSTART;TZID=America/New_York:20240128T030000
DTEND;TZID=America/New_York:20240128T120000
DTSTAMP:20260420T115413
CREATED:20240111T005619Z
LAST-MODIFIED:20240111T005619Z
UID:10000056-1706410800-1706443200@www.sapelohammockgolfclub.com
SUMMARY:SBA Annual Meeting
DESCRIPTION:Time TBD
URL:https://www.sapelohammockgolfclub.com/event/sba-annual-meeting/
END:VEVENT
BEGIN:VEVENT
DTSTART;TZID=America/New_York:20240126T123000
DTEND;TZID=America/New_York:20240126T143000
DTSTAMP:20260420T115413
CREATED:20240111T005540Z
LAST-MODIFIED:20240111T005540Z
UID:10000055-1706272200-1706279400@www.sapelohammockgolfclub.com
SUMMARY:Cocktails & Sunsets
DESCRIPTION:
URL:https://www.sapelohammockgolfclub.com/event/cocktails-sunsets-19/
END:VEVENT
BEGIN:VEVENT
DTSTART;TZID=America/New_York:20240121T110000
DTEND;TZID=America/New_York:20240121T150000
DTSTAMP:20260420T115413
CREATED:20240105T195931Z
LAST-MODIFIED:20240105T200342Z
UID:10000049-1705834800-1705849200@www.sapelohammockgolfclub.com
SUMMARY:Sapelo Hammock Speaker Series
DESCRIPTION:  \nA presentation on personal financial planning will be given by Jordy Evans. \nWhether you are just getting started in planning your financial future\, you are a seasoned investor who loves being involved in all things financial\, or you reside somewhere in the middle—this presentation is for you. Jordy is one of the most recognized and involved members of the Sapelo Hammock owners group and is a retired general partner with the noted investment firm Edward Jones. NOTE: This is not a sales presentation and is intended for informational and educational purposes only. \nThese events are open to the public and everyone is welcome! After the one hour talks\, we invite you to join us for light snacks and a cash bar. Come and socialize with your friends and neighbors and talk further with our guest presenters!
URL:https://www.sapelohammockgolfclub.com/event/sapelo-hammock-speaker-series/
LOCATION:Clubhouse
END:VEVENT
BEGIN:VEVENT
DTSTART;TZID=America/New_York:20240119T123000
DTEND;TZID=America/New_York:20240119T143000
DTSTAMP:20260420T115413
CREATED:20240111T005407Z
LAST-MODIFIED:20240111T005503Z
UID:10000054-1705667400-1705674600@www.sapelohammockgolfclub.com
SUMMARY:Cocktails & Sunsets
DESCRIPTION:
URL:https://www.sapelohammockgolfclub.com/event/cocktails-sunsets-18/
END:VEVENT
BEGIN:VEVENT
DTSTART;TZID=America/New_York:20240114T080000
DTEND;TZID=America/New_York:20240114T120000
DTSTAMP:20260420T115413
CREATED:20240111T005335Z
LAST-MODIFIED:20240111T005335Z
UID:10000053-1705219200-1705233600@www.sapelohammockgolfclub.com
SUMMARY:One Man Scramble
DESCRIPTION:1:00 pm tee times
URL:https://www.sapelohammockgolfclub.com/event/one-man-scramble/
END:VEVENT
BEGIN:VEVENT
DTSTART;TZID=America/New_York:20240113T123000
DTEND;TZID=America/New_York:20240113T160000
DTSTAMP:20260420T115413
CREATED:20240111T005258Z
LAST-MODIFIED:20240111T005258Z
UID:10000052-1705149000-1705161600@www.sapelohammockgolfclub.com
SUMMARY:Owner/Member Dinner - Oyster Roast
DESCRIPTION:5:30 pm cocktails \n6:30 pm dinner
URL:https://www.sapelohammockgolfclub.com/event/owner-member-dinner-oyster-roast-2/
END:VEVENT
BEGIN:VEVENT
DTSTART;TZID=America/New_York:20231229T113000
DTEND;TZID=America/New_York:20231229T113000
DTSTAMP:20260420T115413
CREATED:20230804T035129Z
LAST-MODIFIED:20230804T035129Z
UID:10000017-1703849400-1703849400@www.sapelohammockgolfclub.com
SUMMARY:Cocktails & Sunsets
DESCRIPTION:
URL:https://www.sapelohammockgolfclub.com/event/cocktails-sunsets-17/
END:VEVENT
BEGIN:VEVENT
DTSTART;VALUE=DATE:20231224
DTEND;VALUE=DATE:20231226
DTSTAMP:20260420T115413
CREATED:20230804T040924Z
LAST-MODIFIED:20230804T040924Z
UID:10000043-1703444400-1703530799@www.sapelohammockgolfclub.com
SUMMARY:Christmas Day – Club Closed
DESCRIPTION:
URL:https://www.sapelohammockgolfclub.com/event/christmas-day-club-closed/
END:VEVENT
BEGIN:VEVENT
DTSTART;TZID=America/New_York:20231224T090000
DTEND;TZID=America/New_York:20231224T090000
DTSTAMP:20260420T115413
CREATED:20230804T040900Z
LAST-MODIFIED:20230804T040900Z
UID:10000042-1703408400-1703408400@www.sapelohammockgolfclub.com
SUMMARY:Christmas Eve – Club Closes at 2:00 pm
DESCRIPTION:
URL:https://www.sapelohammockgolfclub.com/event/christmas-eve-club-closes-at-200-pm/
END:VEVENT
BEGIN:VEVENT
DTSTART;TZID=America/New_York:20231222T113000
DTEND;TZID=America/New_York:20231222T113000
DTSTAMP:20260420T115413
CREATED:20230804T035111Z
LAST-MODIFIED:20230804T035111Z
UID:10000016-1703244600-1703244600@www.sapelohammockgolfclub.com
SUMMARY:Cocktails & Sunsets
DESCRIPTION:
URL:https://www.sapelohammockgolfclub.com/event/cocktails-sunsets-16/
END:VEVENT
END:VCALENDAR