BEGIN:VCALENDAR
VERSION:2.0
PRODID:-//Sapelo Hammock Golf Club - ECPv6.15.18//NONSGML v1.0//EN
CALSCALE:GREGORIAN
METHOD:PUBLISH
X-WR-CALNAME:Sapelo Hammock Golf Club
X-ORIGINAL-URL:https://www.sapelohammockgolfclub.com
X-WR-CALDESC:Events for Sapelo Hammock Golf Club
REFRESH-INTERVAL;VALUE=DURATION:PT1H
X-Robots-Tag:noindex
X-PUBLISHED-TTL:PT1H
BEGIN:VTIMEZONE
TZID:America/New_York
BEGIN:DAYLIGHT
TZOFFSETFROM:-0500
TZOFFSETTO:-0400
TZNAME:EDT
DTSTART:20290311T070000
END:DAYLIGHT
BEGIN:STANDARD
TZOFFSETFROM:-0400
TZOFFSETTO:-0500
TZNAME:EST
DTSTART:20291104T060000
END:STANDARD
BEGIN:DAYLIGHT
TZOFFSETFROM:-0500
TZOFFSETTO:-0400
TZNAME:EDT
DTSTART:20300310T070000
END:DAYLIGHT
BEGIN:STANDARD
TZOFFSETFROM:-0400
TZOFFSETTO:-0500
TZNAME:EST
DTSTART:20301103T060000
END:STANDARD
BEGIN:DAYLIGHT
TZOFFSETFROM:-0500
TZOFFSETTO:-0400
TZNAME:EDT
DTSTART:20310309T070000
END:DAYLIGHT
BEGIN:STANDARD
TZOFFSETFROM:-0400
TZOFFSETTO:-0500
TZNAME:EST
DTSTART:20311102T060000
END:STANDARD
END:VTIMEZONE
BEGIN:VEVENT
DTSTART;TZID=America/New_York:20300215T173000
DTEND;TZID=America/New_York:20300215T200000
DTSTAMP:20260420T113609
CREATED:20250801T170518Z
LAST-MODIFIED:20250801T170518Z
UID:10001648-1897407000-1897416000@www.sapelohammockgolfclub.com
SUMMARY:Cocktails & Sunsets
DESCRIPTION:Cocktails & Sunsets 5:30 pm – 8:00 pm  
URL:https://www.sapelohammockgolfclub.com/event/cocktails-sunsets-80/2030-02-15/
CATEGORIES:Event
END:VEVENT
BEGIN:VEVENT
DTSTART;TZID=America/New_York:20300222T173000
DTEND;TZID=America/New_York:20300222T200000
DTSTAMP:20260420T113609
CREATED:20250801T170518Z
LAST-MODIFIED:20250801T170518Z
UID:10001649-1898011800-1898020800@www.sapelohammockgolfclub.com
SUMMARY:Cocktails & Sunsets
DESCRIPTION:Cocktails & Sunsets 5:30 pm – 8:00 pm  
URL:https://www.sapelohammockgolfclub.com/event/cocktails-sunsets-80/2030-02-22/
CATEGORIES:Event
END:VEVENT
BEGIN:VEVENT
DTSTART;TZID=America/New_York:20300301T173000
DTEND;TZID=America/New_York:20300301T200000
DTSTAMP:20260420T113609
CREATED:20250801T170518Z
LAST-MODIFIED:20250801T170518Z
UID:10001650-1898616600-1898625600@www.sapelohammockgolfclub.com
SUMMARY:Cocktails & Sunsets
DESCRIPTION:Cocktails & Sunsets 5:30 pm – 8:00 pm  
URL:https://www.sapelohammockgolfclub.com/event/cocktails-sunsets-80/2030-03-01/
CATEGORIES:Event
END:VEVENT
BEGIN:VEVENT
DTSTART;TZID=America/New_York:20300308T173000
DTEND;TZID=America/New_York:20300308T200000
DTSTAMP:20260420T113609
CREATED:20250801T170518Z
LAST-MODIFIED:20250801T170518Z
UID:10001651-1899221400-1899230400@www.sapelohammockgolfclub.com
SUMMARY:Cocktails & Sunsets
DESCRIPTION:Cocktails & Sunsets 5:30 pm – 8:00 pm  
URL:https://www.sapelohammockgolfclub.com/event/cocktails-sunsets-80/2030-03-08/
CATEGORIES:Event
END:VEVENT
BEGIN:VEVENT
DTSTART;TZID=America/New_York:20300315T173000
DTEND;TZID=America/New_York:20300315T200000
DTSTAMP:20260420T113609
CREATED:20250801T170518Z
LAST-MODIFIED:20250801T170518Z
UID:10001652-1899826200-1899835200@www.sapelohammockgolfclub.com
SUMMARY:Cocktails & Sunsets
DESCRIPTION:Cocktails & Sunsets 5:30 pm – 8:00 pm  
URL:https://www.sapelohammockgolfclub.com/event/cocktails-sunsets-80/2030-03-15/
CATEGORIES:Event
END:VEVENT
BEGIN:VEVENT
DTSTART;TZID=America/New_York:20300322T173000
DTEND;TZID=America/New_York:20300322T200000
DTSTAMP:20260420T113609
CREATED:20250801T170518Z
LAST-MODIFIED:20250801T170518Z
UID:10001653-1900431000-1900440000@www.sapelohammockgolfclub.com
SUMMARY:Cocktails & Sunsets
DESCRIPTION:Cocktails & Sunsets 5:30 pm – 8:00 pm  
URL:https://www.sapelohammockgolfclub.com/event/cocktails-sunsets-80/2030-03-22/
CATEGORIES:Event
END:VEVENT
BEGIN:VEVENT
DTSTART;TZID=America/New_York:20300329T173000
DTEND;TZID=America/New_York:20300329T200000
DTSTAMP:20260420T113609
CREATED:20250801T170518Z
LAST-MODIFIED:20250801T170518Z
UID:10001654-1901035800-1901044800@www.sapelohammockgolfclub.com
SUMMARY:Cocktails & Sunsets
DESCRIPTION:Cocktails & Sunsets 5:30 pm – 8:00 pm  
URL:https://www.sapelohammockgolfclub.com/event/cocktails-sunsets-80/2030-03-29/
CATEGORIES:Event
END:VEVENT
BEGIN:VEVENT
DTSTART;TZID=America/New_York:20300405T173000
DTEND;TZID=America/New_York:20300405T200000
DTSTAMP:20260420T113609
CREATED:20250801T170518Z
LAST-MODIFIED:20250801T170518Z
UID:10001655-1901640600-1901649600@www.sapelohammockgolfclub.com
SUMMARY:Cocktails & Sunsets
DESCRIPTION:Cocktails & Sunsets 5:30 pm – 8:00 pm  
URL:https://www.sapelohammockgolfclub.com/event/cocktails-sunsets-80/2030-04-05/
CATEGORIES:Event
END:VEVENT
BEGIN:VEVENT
DTSTART;TZID=America/New_York:20300412T173000
DTEND;TZID=America/New_York:20300412T200000
DTSTAMP:20260420T113609
CREATED:20250801T170518Z
LAST-MODIFIED:20250801T170518Z
UID:10001656-1902245400-1902254400@www.sapelohammockgolfclub.com
SUMMARY:Cocktails & Sunsets
DESCRIPTION:Cocktails & Sunsets 5:30 pm – 8:00 pm  
URL:https://www.sapelohammockgolfclub.com/event/cocktails-sunsets-80/2030-04-12/
CATEGORIES:Event
END:VEVENT
BEGIN:VEVENT
DTSTART;TZID=America/New_York:20300419T173000
DTEND;TZID=America/New_York:20300419T200000
DTSTAMP:20260420T113609
CREATED:20250801T170518Z
LAST-MODIFIED:20250801T170518Z
UID:10001657-1902850200-1902859200@www.sapelohammockgolfclub.com
SUMMARY:Cocktails & Sunsets
DESCRIPTION:Cocktails & Sunsets 5:30 pm – 8:00 pm  
URL:https://www.sapelohammockgolfclub.com/event/cocktails-sunsets-80/2030-04-19/
CATEGORIES:Event
END:VEVENT
BEGIN:VEVENT
DTSTART;TZID=America/New_York:20300426T173000
DTEND;TZID=America/New_York:20300426T200000
DTSTAMP:20260420T113609
CREATED:20250801T170518Z
LAST-MODIFIED:20250801T170518Z
UID:10001658-1903455000-1903464000@www.sapelohammockgolfclub.com
SUMMARY:Cocktails & Sunsets
DESCRIPTION:Cocktails & Sunsets 5:30 pm – 8:00 pm  
URL:https://www.sapelohammockgolfclub.com/event/cocktails-sunsets-80/2030-04-26/
CATEGORIES:Event
END:VEVENT
BEGIN:VEVENT
DTSTART;TZID=America/New_York:20300503T173000
DTEND;TZID=America/New_York:20300503T200000
DTSTAMP:20260420T113609
CREATED:20250801T170518Z
LAST-MODIFIED:20250801T170518Z
UID:10001659-1904059800-1904068800@www.sapelohammockgolfclub.com
SUMMARY:Cocktails & Sunsets
DESCRIPTION:Cocktails & Sunsets 5:30 pm – 8:00 pm  
URL:https://www.sapelohammockgolfclub.com/event/cocktails-sunsets-80/2030-05-03/
CATEGORIES:Event
END:VEVENT
BEGIN:VEVENT
DTSTART;TZID=America/New_York:20300510T173000
DTEND;TZID=America/New_York:20300510T200000
DTSTAMP:20260420T113609
CREATED:20250801T170518Z
LAST-MODIFIED:20250801T170518Z
UID:10001660-1904664600-1904673600@www.sapelohammockgolfclub.com
SUMMARY:Cocktails & Sunsets
DESCRIPTION:Cocktails & Sunsets 5:30 pm – 8:00 pm  
URL:https://www.sapelohammockgolfclub.com/event/cocktails-sunsets-80/2030-05-10/
CATEGORIES:Event
END:VEVENT
BEGIN:VEVENT
DTSTART;TZID=America/New_York:20300517T173000
DTEND;TZID=America/New_York:20300517T200000
DTSTAMP:20260420T113609
CREATED:20250801T170518Z
LAST-MODIFIED:20250801T170518Z
UID:10001661-1905269400-1905278400@www.sapelohammockgolfclub.com
SUMMARY:Cocktails & Sunsets
DESCRIPTION:Cocktails & Sunsets 5:30 pm – 8:00 pm  
URL:https://www.sapelohammockgolfclub.com/event/cocktails-sunsets-80/2030-05-17/
CATEGORIES:Event
END:VEVENT
BEGIN:VEVENT
DTSTART;TZID=America/New_York:20300524T173000
DTEND;TZID=America/New_York:20300524T200000
DTSTAMP:20260420T113609
CREATED:20250801T170518Z
LAST-MODIFIED:20250801T170518Z
UID:10001662-1905874200-1905883200@www.sapelohammockgolfclub.com
SUMMARY:Cocktails & Sunsets
DESCRIPTION:Cocktails & Sunsets 5:30 pm – 8:00 pm  
URL:https://www.sapelohammockgolfclub.com/event/cocktails-sunsets-80/2030-05-24/
CATEGORIES:Event
END:VEVENT
BEGIN:VEVENT
DTSTART;TZID=America/New_York:20300531T173000
DTEND;TZID=America/New_York:20300531T200000
DTSTAMP:20260420T113609
CREATED:20250801T170518Z
LAST-MODIFIED:20250801T170518Z
UID:10001663-1906479000-1906488000@www.sapelohammockgolfclub.com
SUMMARY:Cocktails & Sunsets
DESCRIPTION:Cocktails & Sunsets 5:30 pm – 8:00 pm  
URL:https://www.sapelohammockgolfclub.com/event/cocktails-sunsets-80/2030-05-31/
CATEGORIES:Event
END:VEVENT
BEGIN:VEVENT
DTSTART;TZID=America/New_York:20300607T173000
DTEND;TZID=America/New_York:20300607T200000
DTSTAMP:20260420T113609
CREATED:20250801T170518Z
LAST-MODIFIED:20250801T170518Z
UID:10001664-1907083800-1907092800@www.sapelohammockgolfclub.com
SUMMARY:Cocktails & Sunsets
DESCRIPTION:Cocktails & Sunsets 5:30 pm – 8:00 pm  
URL:https://www.sapelohammockgolfclub.com/event/cocktails-sunsets-80/2030-06-07/
CATEGORIES:Event
END:VEVENT
BEGIN:VEVENT
DTSTART;TZID=America/New_York:20300614T173000
DTEND;TZID=America/New_York:20300614T200000
DTSTAMP:20260420T113609
CREATED:20250801T170518Z
LAST-MODIFIED:20250801T170518Z
UID:10001665-1907688600-1907697600@www.sapelohammockgolfclub.com
SUMMARY:Cocktails & Sunsets
DESCRIPTION:Cocktails & Sunsets 5:30 pm – 8:00 pm  
URL:https://www.sapelohammockgolfclub.com/event/cocktails-sunsets-80/2030-06-14/
CATEGORIES:Event
END:VEVENT
BEGIN:VEVENT
DTSTART;TZID=America/New_York:20300621T173000
DTEND;TZID=America/New_York:20300621T200000
DTSTAMP:20260420T113609
CREATED:20250801T170518Z
LAST-MODIFIED:20250801T170518Z
UID:10001666-1908293400-1908302400@www.sapelohammockgolfclub.com
SUMMARY:Cocktails & Sunsets
DESCRIPTION:Cocktails & Sunsets 5:30 pm – 8:00 pm  
URL:https://www.sapelohammockgolfclub.com/event/cocktails-sunsets-80/2030-06-21/
CATEGORIES:Event
END:VEVENT
BEGIN:VEVENT
DTSTART;TZID=America/New_York:20300628T173000
DTEND;TZID=America/New_York:20300628T200000
DTSTAMP:20260420T113610
CREATED:20250801T170518Z
LAST-MODIFIED:20250801T170518Z
UID:10001667-1908898200-1908907200@www.sapelohammockgolfclub.com
SUMMARY:Cocktails & Sunsets
DESCRIPTION:Cocktails & Sunsets 5:30 pm – 8:00 pm  
URL:https://www.sapelohammockgolfclub.com/event/cocktails-sunsets-80/2030-06-28/
CATEGORIES:Event
END:VEVENT
BEGIN:VEVENT
DTSTART;TZID=America/New_York:20300705T173000
DTEND;TZID=America/New_York:20300705T200000
DTSTAMP:20260420T113610
CREATED:20250801T170518Z
LAST-MODIFIED:20250801T170518Z
UID:10001668-1909503000-1909512000@www.sapelohammockgolfclub.com
SUMMARY:Cocktails & Sunsets
DESCRIPTION:Cocktails & Sunsets 5:30 pm – 8:00 pm  
URL:https://www.sapelohammockgolfclub.com/event/cocktails-sunsets-80/2030-07-05/
CATEGORIES:Event
END:VEVENT
BEGIN:VEVENT
DTSTART;TZID=America/New_York:20300712T173000
DTEND;TZID=America/New_York:20300712T200000
DTSTAMP:20260420T113610
CREATED:20250801T170518Z
LAST-MODIFIED:20250801T170518Z
UID:10001669-1910107800-1910116800@www.sapelohammockgolfclub.com
SUMMARY:Cocktails & Sunsets
DESCRIPTION:Cocktails & Sunsets 5:30 pm – 8:00 pm  
URL:https://www.sapelohammockgolfclub.com/event/cocktails-sunsets-80/2030-07-12/
CATEGORIES:Event
END:VEVENT
BEGIN:VEVENT
DTSTART;TZID=America/New_York:20300719T173000
DTEND;TZID=America/New_York:20300719T200000
DTSTAMP:20260420T113610
CREATED:20250801T170518Z
LAST-MODIFIED:20250801T170518Z
UID:10001670-1910712600-1910721600@www.sapelohammockgolfclub.com
SUMMARY:Cocktails & Sunsets
DESCRIPTION:Cocktails & Sunsets 5:30 pm – 8:00 pm  
URL:https://www.sapelohammockgolfclub.com/event/cocktails-sunsets-80/2030-07-19/
CATEGORIES:Event
END:VEVENT
BEGIN:VEVENT
DTSTART;TZID=America/New_York:20300726T173000
DTEND;TZID=America/New_York:20300726T200000
DTSTAMP:20260420T113610
CREATED:20250801T170518Z
LAST-MODIFIED:20250801T170518Z
UID:10001671-1911317400-1911326400@www.sapelohammockgolfclub.com
SUMMARY:Cocktails & Sunsets
DESCRIPTION:Cocktails & Sunsets 5:30 pm – 8:00 pm  
URL:https://www.sapelohammockgolfclub.com/event/cocktails-sunsets-80/2030-07-26/
CATEGORIES:Event
END:VEVENT
BEGIN:VEVENT
DTSTART;TZID=America/New_York:20300802T173000
DTEND;TZID=America/New_York:20300802T200000
DTSTAMP:20260420T113610
CREATED:20250801T170518Z
LAST-MODIFIED:20250801T170518Z
UID:10001701-1911922200-1911931200@www.sapelohammockgolfclub.com
SUMMARY:Cocktails & Sunsets
DESCRIPTION:Cocktails & Sunsets 5:30 pm – 8:00 pm  
URL:https://www.sapelohammockgolfclub.com/event/cocktails-sunsets-80/2030-08-02/
CATEGORIES:Event
END:VEVENT
BEGIN:VEVENT
DTSTART;TZID=America/New_York:20300809T173000
DTEND;TZID=America/New_York:20300809T200000
DTSTAMP:20260420T113610
CREATED:20250801T170518Z
LAST-MODIFIED:20250801T170518Z
UID:10001702-1912527000-1912536000@www.sapelohammockgolfclub.com
SUMMARY:Cocktails & Sunsets
DESCRIPTION:Cocktails & Sunsets 5:30 pm – 8:00 pm  
URL:https://www.sapelohammockgolfclub.com/event/cocktails-sunsets-80/2030-08-09/
CATEGORIES:Event
END:VEVENT
BEGIN:VEVENT
DTSTART;TZID=America/New_York:20300816T173000
DTEND;TZID=America/New_York:20300816T200000
DTSTAMP:20260420T113610
CREATED:20250801T170518Z
LAST-MODIFIED:20250801T170518Z
UID:10001703-1913131800-1913140800@www.sapelohammockgolfclub.com
SUMMARY:Cocktails & Sunsets
DESCRIPTION:Cocktails & Sunsets 5:30 pm – 8:00 pm  
URL:https://www.sapelohammockgolfclub.com/event/cocktails-sunsets-80/2030-08-16/
CATEGORIES:Event
END:VEVENT
BEGIN:VEVENT
DTSTART;TZID=America/New_York:20300823T173000
DTEND;TZID=America/New_York:20300823T200000
DTSTAMP:20260420T113610
CREATED:20250801T170518Z
LAST-MODIFIED:20250801T170518Z
UID:10001704-1913736600-1913745600@www.sapelohammockgolfclub.com
SUMMARY:Cocktails & Sunsets
DESCRIPTION:Cocktails & Sunsets 5:30 pm – 8:00 pm  
URL:https://www.sapelohammockgolfclub.com/event/cocktails-sunsets-80/2030-08-23/
CATEGORIES:Event
END:VEVENT
BEGIN:VEVENT
DTSTART;TZID=America/New_York:20300830T173000
DTEND;TZID=America/New_York:20300830T200000
DTSTAMP:20260420T113610
CREATED:20250801T170518Z
LAST-MODIFIED:20250801T170518Z
UID:10001705-1914341400-1914350400@www.sapelohammockgolfclub.com
SUMMARY:Cocktails & Sunsets
DESCRIPTION:Cocktails & Sunsets 5:30 pm – 8:00 pm  
URL:https://www.sapelohammockgolfclub.com/event/cocktails-sunsets-80/2030-08-30/
CATEGORIES:Event
END:VEVENT
BEGIN:VEVENT
DTSTART;TZID=America/New_York:20300906T173000
DTEND;TZID=America/New_York:20300906T200000
DTSTAMP:20260420T113610
CREATED:20250801T170518Z
LAST-MODIFIED:20250801T170518Z
UID:10001706-1914946200-1914955200@www.sapelohammockgolfclub.com
SUMMARY:Cocktails & Sunsets
DESCRIPTION:Cocktails & Sunsets 5:30 pm – 8:00 pm  
URL:https://www.sapelohammockgolfclub.com/event/cocktails-sunsets-80/2030-09-06/
CATEGORIES:Event
END:VEVENT
END:VCALENDAR