BEGIN:VCALENDAR
VERSION:2.0
PRODID:-//Sapelo Hammock Golf Club - ECPv6.15.18//NONSGML v1.0//EN
CALSCALE:GREGORIAN
METHOD:PUBLISH
X-ORIGINAL-URL:https://www.sapelohammockgolfclub.com
X-WR-CALDESC:Events for Sapelo Hammock Golf Club
REFRESH-INTERVAL;VALUE=DURATION:PT1H
X-Robots-Tag:noindex
X-PUBLISHED-TTL:PT1H
BEGIN:VTIMEZONE
TZID:America/New_York
BEGIN:DAYLIGHT
TZOFFSETFROM:-0500
TZOFFSETTO:-0400
TZNAME:EDT
DTSTART:20230312T070000
END:DAYLIGHT
BEGIN:STANDARD
TZOFFSETFROM:-0400
TZOFFSETTO:-0500
TZNAME:EST
DTSTART:20231105T060000
END:STANDARD
BEGIN:DAYLIGHT
TZOFFSETFROM:-0500
TZOFFSETTO:-0400
TZNAME:EDT
DTSTART:20240310T070000
END:DAYLIGHT
BEGIN:STANDARD
TZOFFSETFROM:-0400
TZOFFSETTO:-0500
TZNAME:EST
DTSTART:20241103T060000
END:STANDARD
BEGIN:DAYLIGHT
TZOFFSETFROM:-0500
TZOFFSETTO:-0400
TZNAME:EDT
DTSTART:20250309T070000
END:DAYLIGHT
BEGIN:STANDARD
TZOFFSETFROM:-0400
TZOFFSETTO:-0500
TZNAME:EST
DTSTART:20251102T060000
END:STANDARD
END:VTIMEZONE
BEGIN:VEVENT
DTSTART;TZID=America/New_York:20240712T173000
DTEND;TZID=America/New_York:20240712T200000
DTSTAMP:20260420T072114
CREATED:20240111T194332Z
LAST-MODIFIED:20240603T155042Z
UID:10000096-1720805400-1720814400@www.sapelohammockgolfclub.com
SUMMARY:Cocktails & Sunsets
DESCRIPTION:
URL:https://www.sapelohammockgolfclub.com/event/cocktails-sunsets-35/
END:VEVENT
BEGIN:VEVENT
DTSTART;TZID=America/New_York:20240705T173000
DTEND;TZID=America/New_York:20240705T200000
DTSTAMP:20260420T072114
CREATED:20240111T194318Z
LAST-MODIFIED:20240603T154949Z
UID:10000095-1720200600-1720209600@www.sapelohammockgolfclub.com
SUMMARY:Cocktails & Sunsets
DESCRIPTION:
URL:https://www.sapelohammockgolfclub.com/event/cocktails-sunsets-34/
END:VEVENT
BEGIN:VEVENT
DTSTART;TZID=America/New_York:20240704T173000
DTEND;TZID=America/New_York:20240704T210000
DTSTAMP:20260420T072114
CREATED:20240111T194251Z
LAST-MODIFIED:20240522T143944Z
UID:10000094-1720114200-1720126800@www.sapelohammockgolfclub.com
SUMMARY:Owner/Member Dinner - Cookout
DESCRIPTION: 
URL:https://www.sapelohammockgolfclub.com/event/owner-member-dinner-cookout/
END:VEVENT
BEGIN:VEVENT
DTSTART;TZID=America/New_York:20240704T120000
DTEND;TZID=America/New_York:20240704T170000
DTSTAMP:20260420T072114
CREATED:20240111T194215Z
LAST-MODIFIED:20240616T003106Z
UID:10000093-1720094400-1720112400@www.sapelohammockgolfclub.com
SUMMARY:Owner/Member July Golf: Out on an Island
DESCRIPTION:
URL:https://www.sapelohammockgolfclub.com/event/out-on-an-island/
END:VEVENT
BEGIN:VEVENT
DTSTART;TZID=America/New_York:20240628T173000
DTEND;TZID=America/New_York:20240628T200000
DTSTAMP:20260420T072114
CREATED:20240111T013204Z
LAST-MODIFIED:20240603T154918Z
UID:10000090-1719595800-1719604800@www.sapelohammockgolfclub.com
SUMMARY:Cocktails & Sunsets
DESCRIPTION:
URL:https://www.sapelohammockgolfclub.com/event/cocktails-sunsets-33/
END:VEVENT
BEGIN:VEVENT
DTSTART;TZID=America/New_York:20240626T080000
DTEND;TZID=America/New_York:20240626T170000
DTSTAMP:20260420T072114
CREATED:20240624T173943Z
LAST-MODIFIED:20240624T173943Z
UID:10000893-1719388800-1719421200@www.sapelohammockgolfclub.com
SUMMARY:Volunteer Workday
DESCRIPTION:
URL:https://www.sapelohammockgolfclub.com/event/volunteer-workday/
END:VEVENT
BEGIN:VEVENT
DTSTART;TZID=America/New_York:20240623T130000
DTEND;TZID=America/New_York:20240623T170000
DTSTAMP:20260420T072114
CREATED:20240111T013307Z
LAST-MODIFIED:20240610T182020Z
UID:10000092-1719147600-1719162000@www.sapelohammockgolfclub.com
SUMMARY:Couples Championship - 1 pm shotgun
DESCRIPTION:
URL:https://www.sapelohammockgolfclub.com/event/couples-championship/
END:VEVENT
BEGIN:VEVENT
DTSTART;TZID=America/New_York:20240621T173000
DTEND;TZID=America/New_York:20240621T210000
DTSTAMP:20260420T072114
CREATED:20240111T013246Z
LAST-MODIFIED:20240522T150813Z
UID:10000091-1718991000-1719003600@www.sapelohammockgolfclub.com
SUMMARY:Owner/Member Dinner - Super Salad Night
DESCRIPTION:
URL:https://www.sapelohammockgolfclub.com/event/owner-member-dinner-soup-salad-night/
END:VEVENT
BEGIN:VEVENT
DTSTART;VALUE=DATE:20240616
DTEND;VALUE=DATE:20240617
DTSTAMP:20260420T072114
CREATED:20240610T181938Z
LAST-MODIFIED:20240610T181938Z
UID:10000891-1718496000-1718582399@www.sapelohammockgolfclub.com
SUMMARY:Father's Day Special
DESCRIPTION:
URL:https://www.sapelohammockgolfclub.com/event/fathers-day-special/
END:VEVENT
BEGIN:VEVENT
DTSTART;TZID=America/New_York:20240614T173000
DTEND;TZID=America/New_York:20240614T200000
DTSTAMP:20260420T072114
CREATED:20240111T013150Z
LAST-MODIFIED:20240603T154825Z
UID:10000089-1718386200-1718395200@www.sapelohammockgolfclub.com
SUMMARY:Cocktails & Sunsets
DESCRIPTION:
URL:https://www.sapelohammockgolfclub.com/event/cocktails-sunsets-32/
END:VEVENT
BEGIN:VEVENT
DTSTART;VALUE=DATE:20240611
DTEND;VALUE=DATE:20240612
DTSTAMP:20260420T072114
CREATED:20240111T013004Z
LAST-MODIFIED:20240419T154924Z
UID:10000088-1718064000-1718150399@www.sapelohammockgolfclub.com
SUMMARY:Greens Aerification *Nine Holes Open Each Day*
DESCRIPTION:
URL:https://www.sapelohammockgolfclub.com/event/greens-aerification-2/
END:VEVENT
BEGIN:VEVENT
DTSTART;VALUE=DATE:20240610
DTEND;VALUE=DATE:20240611
DTSTAMP:20260420T072114
CREATED:20240111T012950Z
LAST-MODIFIED:20240419T154944Z
UID:10000087-1717977600-1718063999@www.sapelohammockgolfclub.com
SUMMARY:Greens Aerification *Nine Holes Open Each Day*
DESCRIPTION:
URL:https://www.sapelohammockgolfclub.com/event/greens-aerification/
END:VEVENT
BEGIN:VEVENT
DTSTART;TZID=America/New_York:20240607T090000
DTEND;TZID=America/New_York:20240607T130000
DTSTAMP:20260420T072114
CREATED:20240111T012913Z
LAST-MODIFIED:20240419T154842Z
UID:10000086-1717750800-1717765200@www.sapelohammockgolfclub.com
SUMMARY:CADDA *Course Closed until Completion of Play*
DESCRIPTION:9 am shotgun
URL:https://www.sapelohammockgolfclub.com/event/cadda/
END:VEVENT
BEGIN:VEVENT
DTSTART;TZID=America/New_York:20240606T090000
DTEND;TZID=America/New_York:20240606T120000
DTSTAMP:20260420T072114
CREATED:20240419T154753Z
LAST-MODIFIED:20240419T154753Z
UID:10000518-1717664400-1717675200@www.sapelohammockgolfclub.com
SUMMARY:Sapelo Hammock Junior Golf Academy
DESCRIPTION:
URL:https://www.sapelohammockgolfclub.com/event/sapelo-hammock-junior-golf-academy/2024-06-06/
END:VEVENT
BEGIN:VEVENT
DTSTART;TZID=America/New_York:20240605T090000
DTEND;TZID=America/New_York:20240605T120000
DTSTAMP:20260420T072114
CREATED:20240419T154753Z
LAST-MODIFIED:20240419T154753Z
UID:10000517-1717578000-1717588800@www.sapelohammockgolfclub.com
SUMMARY:Sapelo Hammock Junior Golf Academy
DESCRIPTION:
URL:https://www.sapelohammockgolfclub.com/event/sapelo-hammock-junior-golf-academy/2024-06-05/
END:VEVENT
BEGIN:VEVENT
DTSTART;TZID=America/New_York:20240604T090000
DTEND;TZID=America/New_York:20240604T120000
DTSTAMP:20260420T072114
CREATED:20240419T154753Z
LAST-MODIFIED:20240419T154753Z
UID:10000516-1717491600-1717502400@www.sapelohammockgolfclub.com
SUMMARY:Sapelo Hammock Junior Golf Academy
DESCRIPTION:
URL:https://www.sapelohammockgolfclub.com/event/sapelo-hammock-junior-golf-academy/2024-06-04/
END:VEVENT
BEGIN:VEVENT
DTSTART;TZID=America/New_York:20240603T090000
DTEND;TZID=America/New_York:20240603T120000
DTSTAMP:20260420T072114
CREATED:20240419T154753Z
LAST-MODIFIED:20240419T154753Z
UID:10000515-1717405200-1717416000@www.sapelohammockgolfclub.com
SUMMARY:Sapelo Hammock Junior Golf Academy
DESCRIPTION:
URL:https://www.sapelohammockgolfclub.com/event/sapelo-hammock-junior-golf-academy/2024-06-03/
END:VEVENT
BEGIN:VEVENT
DTSTART;TZID=America/New_York:20240601T090000
DTEND;TZID=America/New_York:20240601T130000
DTSTAMP:20260420T072114
CREATED:20240111T012856Z
LAST-MODIFIED:20240419T154456Z
UID:10000085-1717232400-1717246800@www.sapelohammockgolfclub.com
SUMMARY:Beautification Tournament *Course Closed until Completion of Play*
DESCRIPTION:
URL:https://www.sapelohammockgolfclub.com/event/beautification-tournament/
END:VEVENT
BEGIN:VEVENT
DTSTART;TZID=America/New_York:20240531T173000
DTEND;TZID=America/New_York:20240531T193000
DTSTAMP:20260420T072114
CREATED:20240111T012709Z
LAST-MODIFIED:20240418T184822Z
UID:10000082-1717176600-1717183800@www.sapelohammockgolfclub.com
SUMMARY:Cocktails & Sunsets
DESCRIPTION:
URL:https://www.sapelohammockgolfclub.com/event/cocktails-sunsets-31/
END:VEVENT
BEGIN:VEVENT
DTSTART;TZID=America/New_York:20240524T173000
DTEND;TZID=America/New_York:20240524T193000
DTSTAMP:20260420T072114
CREATED:20240111T012655Z
LAST-MODIFIED:20240522T143551Z
UID:10000081-1716571800-1716579000@www.sapelohammockgolfclub.com
SUMMARY:Cocktails & Sunsets
DESCRIPTION:
URL:https://www.sapelohammockgolfclub.com/event/cocktails-sunsets-30/
END:VEVENT
BEGIN:VEVENT
DTSTART;TZID=America/New_York:20240520T090000
DTEND;TZID=America/New_York:20240520T130000
DTSTAMP:20260420T072114
CREATED:20240111T012809Z
LAST-MODIFIED:20240419T160742Z
UID:10000084-1716195600-1716210000@www.sapelohammockgolfclub.com
SUMMARY:SEGIA *Course Closed until Completion of Play*
DESCRIPTION:9 am shotgun
URL:https://www.sapelohammockgolfclub.com/event/segia/
END:VEVENT
BEGIN:VEVENT
DTSTART;TZID=America/New_York:20240519T160000
DTEND;TZID=America/New_York:20240519T200000
DTSTAMP:20260420T072114
CREATED:20240105T200229Z
LAST-MODIFIED:20240418T184804Z
UID:10000051-1716134400-1716148800@www.sapelohammockgolfclub.com
SUMMARY:Sapelo Hammock Speaker Series
DESCRIPTION:  \nWe are pleased to host a presentation by members of the McIntosh County Industrial Development Authority. \nTom Draffin is the President/CEO of IDA and will be our keynote speaker for this event. Nancy Cobb\, a Shellman Bluff resident\, IDA board member\, and member of our Sapelo Hammock owners group will accompany Tom in this presentation. This is a very timely event in view of the unprecedented growth that is expected to occur along the entire Georgia coast within the very near future. \nThese events are open to the public and everyone is welcome! After the one hour talks\, we invite you to join us for light snacks and a cash bar. Come and socialize with your friends and neighbors and talk further with our guest presenters!
URL:https://www.sapelohammockgolfclub.com/event/sapelo-hammock-speaker-series-3/
LOCATION:Clubhouse
END:VEVENT
BEGIN:VEVENT
DTSTART;TZID=America/New_York:20240518T090000
DTEND;TZID=America/New_York:20240518T130000
DTSTAMP:20260420T072114
CREATED:20240111T012738Z
LAST-MODIFIED:20240419T160631Z
UID:10000083-1716022800-1716037200@www.sapelohammockgolfclub.com
SUMMARY:Sheriff's Tournament *Course Closed until Completion of Play*
DESCRIPTION:9 am shotgun
URL:https://www.sapelohammockgolfclub.com/event/sherriffs-tournament/
END:VEVENT
BEGIN:VEVENT
DTSTART;TZID=America/New_York:20240517T173000
DTEND;TZID=America/New_York:20240517T193000
DTSTAMP:20260420T072114
CREATED:20240111T012641Z
LAST-MODIFIED:20240418T184754Z
UID:10000080-1715967000-1715974200@www.sapelohammockgolfclub.com
SUMMARY:Cocktails & Sunsets
DESCRIPTION:
URL:https://www.sapelohammockgolfclub.com/event/cocktails-sunsets-29/
END:VEVENT
BEGIN:VEVENT
DTSTART;TZID=America/New_York:20240510T090000
DTEND;TZID=America/New_York:20240510T130000
DTSTAMP:20260420T072114
CREATED:20240111T012613Z
LAST-MODIFIED:20240419T160004Z
UID:10000079-1715331600-1715346000@www.sapelohammockgolfclub.com
SUMMARY:Veteran Carriers - Trucking for a Cause *Course Closed until Completion of Play*
DESCRIPTION:Course closed until completion of play
URL:https://www.sapelohammockgolfclub.com/event/veteran-carriers-trucking-for-a-cause/
END:VEVENT
BEGIN:VEVENT
DTSTART;TZID=America/New_York:20240509T170000
DTEND;TZID=America/New_York:20240509T210000
DTSTAMP:20260420T072114
CREATED:20240111T012543Z
LAST-MODIFIED:20240418T184049Z
UID:10000078-1715274000-1715288400@www.sapelohammockgolfclub.com
SUMMARY:Veteran Carriers Dinner
DESCRIPTION:
URL:https://www.sapelohammockgolfclub.com/event/veteran-carriers-dinner/
END:VEVENT
BEGIN:VEVENT
DTSTART;TZID=America/New_York:20240504T173000
DTEND;TZID=America/New_York:20240504T210000
DTSTAMP:20260420T072114
CREATED:20240111T012518Z
LAST-MODIFIED:20240419T155905Z
UID:10000077-1714843800-1714856400@www.sapelohammockgolfclub.com
SUMMARY:Owner/Member Dinner - Kentucky Derby Party
DESCRIPTION:
URL:https://www.sapelohammockgolfclub.com/event/derby-party/
END:VEVENT
BEGIN:VEVENT
DTSTART;TZID=America/New_York:20240503T173000
DTEND;TZID=America/New_York:20240503T193000
DTSTAMP:20260420T072114
CREATED:20240417T214843Z
LAST-MODIFIED:20240418T182134Z
UID:10000513-1714757400-1714764600@www.sapelohammockgolfclub.com
SUMMARY:Cocktails & Sunsets
DESCRIPTION:
URL:https://www.sapelohammockgolfclub.com/event/cocktails-sunsets-58/
END:VEVENT
BEGIN:VEVENT
DTSTART;TZID=America/New_York:20240501T090000
DTEND;TZID=America/New_York:20240501T130000
DTSTAMP:20260420T072114
CREATED:20240111T012425Z
LAST-MODIFIED:20240419T155523Z
UID:10000076-1714554000-1714568400@www.sapelohammockgolfclub.com
SUMMARY:SWGA *Course Closed until Completion of Play*
DESCRIPTION:9 am shotgun
URL:https://www.sapelohammockgolfclub.com/event/swga-2/
END:VEVENT
BEGIN:VEVENT
DTSTART;TZID=America/New_York:20240430T090000
DTEND;TZID=America/New_York:20240430T130000
DTSTAMP:20260420T072114
CREATED:20240111T012356Z
LAST-MODIFIED:20240419T155809Z
UID:10000075-1714467600-1714482000@www.sapelohammockgolfclub.com
SUMMARY:SWGA *Course Closed until Completion of Play*
DESCRIPTION:9 am shotgun
URL:https://www.sapelohammockgolfclub.com/event/swga/
END:VEVENT
END:VCALENDAR