BEGIN:VCALENDAR
VERSION:2.0
PRODID:-//Sapelo Hammock Golf Club - ECPv6.15.18//NONSGML v1.0//EN
CALSCALE:GREGORIAN
METHOD:PUBLISH
X-ORIGINAL-URL:https://www.sapelohammockgolfclub.com
X-WR-CALDESC:Events for Sapelo Hammock Golf Club
REFRESH-INTERVAL;VALUE=DURATION:PT1H
X-Robots-Tag:noindex
X-PUBLISHED-TTL:PT1H
BEGIN:VTIMEZONE
TZID:America/New_York
BEGIN:DAYLIGHT
TZOFFSETFROM:-0500
TZOFFSETTO:-0400
TZNAME:EDT
DTSTART:20230312T070000
END:DAYLIGHT
BEGIN:STANDARD
TZOFFSETFROM:-0400
TZOFFSETTO:-0500
TZNAME:EST
DTSTART:20231105T060000
END:STANDARD
BEGIN:DAYLIGHT
TZOFFSETFROM:-0500
TZOFFSETTO:-0400
TZNAME:EDT
DTSTART:20240310T070000
END:DAYLIGHT
BEGIN:STANDARD
TZOFFSETFROM:-0400
TZOFFSETTO:-0500
TZNAME:EST
DTSTART:20241103T060000
END:STANDARD
BEGIN:DAYLIGHT
TZOFFSETFROM:-0500
TZOFFSETTO:-0400
TZNAME:EDT
DTSTART:20250309T070000
END:DAYLIGHT
BEGIN:STANDARD
TZOFFSETFROM:-0400
TZOFFSETTO:-0500
TZNAME:EST
DTSTART:20251102T060000
END:STANDARD
END:VTIMEZONE
BEGIN:VEVENT
DTSTART;TZID=America/New_York:20241003T163000
DTEND;TZID=America/New_York:20241003T173000
DTSTAMP:20260420T041445
CREATED:20240930T135037Z
LAST-MODIFIED:20240930T135037Z
UID:10001315-1727973000-1727976600@www.sapelohammockgolfclub.com
SUMMARY:W.E.S. Wine Tasting
DESCRIPTION:
URL:https://www.sapelohammockgolfclub.com/event/w-e-s-wine-tasting/
END:VEVENT
BEGIN:VEVENT
DTSTART;TZID=America/New_York:20240927T173000
DTEND;TZID=America/New_York:20240927T200000
DTSTAMP:20260420T041445
CREATED:20240111T194620Z
LAST-MODIFIED:20240815T144900Z
UID:10000105-1727458200-1727467200@www.sapelohammockgolfclub.com
SUMMARY:Cocktails & Sunsets
DESCRIPTION:
URL:https://www.sapelohammockgolfclub.com/event/cocktails-sunsets-44/
END:VEVENT
BEGIN:VEVENT
DTSTART;TZID=America/New_York:20240924T080000
DTEND;TZID=America/New_York:20240924T170000
DTSTAMP:20260420T041445
CREATED:20240111T195516Z
LAST-MODIFIED:20240418T174112Z
UID:10000125-1727164800-1727197200@www.sapelohammockgolfclub.com
SUMMARY:Georgia PGA Seniors Division – Veteran Carriers Senior Classic
DESCRIPTION:
URL:https://www.sapelohammockgolfclub.com/event/georgia-pga-seniors-division-veteran-carriers-senior-classic-2/
END:VEVENT
BEGIN:VEVENT
DTSTART;TZID=America/New_York:20240923T080000
DTEND;TZID=America/New_York:20240923T170000
DTSTAMP:20260420T041445
CREATED:20240111T195503Z
LAST-MODIFIED:20240418T174132Z
UID:10000124-1727078400-1727110800@www.sapelohammockgolfclub.com
SUMMARY:Georgia PGA Seniors Division – Veteran Carriers Senior Classic
DESCRIPTION:
URL:https://www.sapelohammockgolfclub.com/event/georgia-pga-seniors-division-veteran-carriers-senior-classic/
END:VEVENT
BEGIN:VEVENT
DTSTART;VALUE=DATE:20240923
DTEND;VALUE=DATE:20240925
DTSTAMP:20260420T041445
CREATED:20240827T152432Z
LAST-MODIFIED:20240827T152432Z
UID:10001313-1727049600-1727222399@www.sapelohammockgolfclub.com
SUMMARY:Georgia PGA Seniors
DESCRIPTION:Course Closed until completion of play both days
URL:https://www.sapelohammockgolfclub.com/event/georgia-pga-seniors-2/
END:VEVENT
BEGIN:VEVENT
DTSTART;TZID=America/New_York:20240920T173000
DTEND;TZID=America/New_York:20240920T183000
DTSTAMP:20260420T041445
CREATED:20240827T152237Z
LAST-MODIFIED:20240827T152237Z
UID:10001312-1726853400-1726857000@www.sapelohammockgolfclub.com
SUMMARY:Owner / Member Dinner
DESCRIPTION:Italian NIght \n5:30 pm Cocktails \n6:30 pm Dinner
URL:https://www.sapelohammockgolfclub.com/event/owner-member-dinner-3/
END:VEVENT
BEGIN:VEVENT
DTSTART;TZID=America/New_York:20240908T080000
DTEND;TZID=America/New_York:20240908T170000
DTSTAMP:20260420T041445
CREATED:20240111T195339Z
LAST-MODIFIED:20240708T164943Z
UID:10000122-1725782400-1725814800@www.sapelohammockgolfclub.com
SUMMARY:Club Championship
DESCRIPTION:
URL:https://www.sapelohammockgolfclub.com/event/club-championship-2/2024-09-08/
END:VEVENT
BEGIN:VEVENT
DTSTART;TZID=America/New_York:20240907T090000
DTEND;TZID=America/New_York:20240908T090000
DTSTAMP:20260420T041445
CREATED:20240827T151807Z
LAST-MODIFIED:20240827T151807Z
UID:10001308-1725699600-1725786000@www.sapelohammockgolfclub.com
SUMMARY:SHGC Club Championship
DESCRIPTION:Tee Times
URL:https://www.sapelohammockgolfclub.com/event/shgc-club-championship-2/
END:VEVENT
BEGIN:VEVENT
DTSTART;TZID=America/New_York:20240907T080000
DTEND;TZID=America/New_York:20240907T170000
DTSTAMP:20260420T041445
CREATED:20240111T195339Z
LAST-MODIFIED:20240708T164943Z
UID:10000912-1725696000-1725728400@www.sapelohammockgolfclub.com
SUMMARY:Club Championship
DESCRIPTION:
URL:https://www.sapelohammockgolfclub.com/event/club-championship-2/2024-09-07/
END:VEVENT
BEGIN:VEVENT
DTSTART;TZID=America/New_York:20240903T173000
DTEND;TZID=America/New_York:20240903T193000
DTSTAMP:20260420T041445
CREATED:20240827T151501Z
LAST-MODIFIED:20240827T151501Z
UID:10001306-1725384600-1725391800@www.sapelohammockgolfclub.com
SUMMARY:JB Harris Reception
DESCRIPTION:
URL:https://www.sapelohammockgolfclub.com/event/jb-harris-reception/
END:VEVENT
BEGIN:VEVENT
DTSTART;TZID=America/New_York:20240830T173000
DTEND;TZID=America/New_York:20240830T200000
DTSTAMP:20260420T041445
CREATED:20240111T194512Z
LAST-MODIFIED:20240708T165324Z
UID:10000102-1725039000-1725048000@www.sapelohammockgolfclub.com
SUMMARY:Cocktails & Sunsets
DESCRIPTION:
URL:https://www.sapelohammockgolfclub.com/event/cocktails-sunsets-41/
END:VEVENT
BEGIN:VEVENT
DTSTART;TZID=America/New_York:20240823T173000
DTEND;TZID=America/New_York:20240823T200000
DTSTAMP:20260420T041445
CREATED:20240111T194458Z
LAST-MODIFIED:20240708T165354Z
UID:10000101-1724434200-1724443200@www.sapelohammockgolfclub.com
SUMMARY:Cocktails & Sunsets
DESCRIPTION:
URL:https://www.sapelohammockgolfclub.com/event/cocktails-sunsets-40/
END:VEVENT
BEGIN:VEVENT
DTSTART;TZID=America/New_York:20240818T153000
DTEND;TZID=America/New_York:20240818T200000
DTSTAMP:20260420T041445
CREATED:20240111T195252Z
LAST-MODIFIED:20240708T164709Z
UID:10000120-1723995000-1724011200@www.sapelohammockgolfclub.com
SUMMARY:Putting Championship
DESCRIPTION:
URL:https://www.sapelohammockgolfclub.com/event/putting-championship/
END:VEVENT
BEGIN:VEVENT
DTSTART;TZID=America/New_York:20240816T173000
DTEND;TZID=America/New_York:20240816T210000
DTSTAMP:20260420T041445
CREATED:20240111T195224Z
LAST-MODIFIED:20240708T164603Z
UID:10000119-1723829400-1723842000@www.sapelohammockgolfclub.com
SUMMARY:Owner/Member Dinner - Jordy & Laura's Asian Extravaganza
DESCRIPTION: 
URL:https://www.sapelohammockgolfclub.com/event/owner-member-dinner-jordys-dinner/
END:VEVENT
BEGIN:VEVENT
DTSTART;TZID=America/New_York:20240809T173000
DTEND;TZID=America/New_York:20240809T200000
DTSTAMP:20260420T041445
CREATED:20240111T194441Z
LAST-MODIFIED:20240708T165434Z
UID:10000100-1723224600-1723233600@www.sapelohammockgolfclub.com
SUMMARY:Cocktails & Sunsets
DESCRIPTION:
URL:https://www.sapelohammockgolfclub.com/event/cocktails-sunsets-39/
END:VEVENT
BEGIN:VEVENT
DTSTART;TZID=America/New_York:20240802T173000
DTEND;TZID=America/New_York:20240802T200000
DTSTAMP:20260420T041445
CREATED:20240111T194429Z
LAST-MODIFIED:20240603T172849Z
UID:10000099-1722619800-1722628800@www.sapelohammockgolfclub.com
SUMMARY:Cocktails & Sunsets
DESCRIPTION:
URL:https://www.sapelohammockgolfclub.com/event/cocktails-sunsets-38/
END:VEVENT
BEGIN:VEVENT
DTSTART;TZID=America/New_York:20240726T173000
DTEND;TZID=America/New_York:20240726T200000
DTSTAMP:20260420T041445
CREATED:20240111T194359Z
LAST-MODIFIED:20240603T155133Z
UID:10000098-1722015000-1722024000@www.sapelohammockgolfclub.com
SUMMARY:Cocktails & Sunsets
DESCRIPTION:
URL:https://www.sapelohammockgolfclub.com/event/cocktails-sunsets-37/
END:VEVENT
BEGIN:VEVENT
DTSTART;TZID=America/New_York:20240725T090000
DTEND;TZID=America/New_York:20240725T120000
DTSTAMP:20260420T041445
CREATED:20240603T155441Z
LAST-MODIFIED:20240603T155621Z
UID:10000890-1721898000-1721908800@www.sapelohammockgolfclub.com
SUMMARY:Junior Golf Academy
DESCRIPTION:
URL:https://www.sapelohammockgolfclub.com/event/junior-golf-academy/2024-07-25/
END:VEVENT
BEGIN:VEVENT
DTSTART;TZID=America/New_York:20240724T090000
DTEND;TZID=America/New_York:20240724T120000
DTSTAMP:20260420T041445
CREATED:20240603T155441Z
LAST-MODIFIED:20240603T155621Z
UID:10000889-1721811600-1721822400@www.sapelohammockgolfclub.com
SUMMARY:Junior Golf Academy
DESCRIPTION:
URL:https://www.sapelohammockgolfclub.com/event/junior-golf-academy/2024-07-24/
END:VEVENT
BEGIN:VEVENT
DTSTART;TZID=America/New_York:20240723T090000
DTEND;TZID=America/New_York:20240723T120000
DTSTAMP:20260420T041445
CREATED:20240603T155441Z
LAST-MODIFIED:20240603T155621Z
UID:10000888-1721725200-1721736000@www.sapelohammockgolfclub.com
SUMMARY:Junior Golf Academy
DESCRIPTION:
URL:https://www.sapelohammockgolfclub.com/event/junior-golf-academy/2024-07-23/
END:VEVENT
BEGIN:VEVENT
DTSTART;TZID=America/New_York:20240722T090000
DTEND;TZID=America/New_York:20240722T120000
DTSTAMP:20260420T041445
CREATED:20240603T155441Z
LAST-MODIFIED:20240603T155621Z
UID:10000887-1721638800-1721649600@www.sapelohammockgolfclub.com
SUMMARY:Junior Golf Academy
DESCRIPTION:
URL:https://www.sapelohammockgolfclub.com/event/junior-golf-academy/2024-07-22/
END:VEVENT
BEGIN:VEVENT
DTSTART;TZID=America/New_York:20240719T173000
DTEND;TZID=America/New_York:20240719T200000
DTSTAMP:20260420T041445
CREATED:20240111T194345Z
LAST-MODIFIED:20240603T155109Z
UID:10000097-1721410200-1721419200@www.sapelohammockgolfclub.com
SUMMARY:Cocktails & Sunsets
DESCRIPTION:
URL:https://www.sapelohammockgolfclub.com/event/cocktails-sunsets-36/
END:VEVENT
BEGIN:VEVENT
DTSTART;TZID=America/New_York:20240718T090000
DTEND;TZID=America/New_York:20240718T130000
DTSTAMP:20260420T041445
CREATED:20240111T195111Z
LAST-MODIFIED:20240603T155257Z
UID:10000118-1721293200-1721307600@www.sapelohammockgolfclub.com
SUMMARY:CLASP League Play - Course Closed Until Completion of Play
DESCRIPTION:9 am shotgun
URL:https://www.sapelohammockgolfclub.com/event/clasp/
END:VEVENT
BEGIN:VEVENT
DTSTART;TZID=America/New_York:20240717T070000
DTEND;TZID=America/New_York:20240717T120000
DTSTAMP:20260420T041445
CREATED:20240701T143613Z
LAST-MODIFIED:20240701T143613Z
UID:10000894-1721199600-1721217600@www.sapelohammockgolfclub.com
SUMMARY:Volunteer Workday
DESCRIPTION:
URL:https://www.sapelohammockgolfclub.com/event/volunteer-workday-2-2/
END:VEVENT
BEGIN:VEVENT
DTSTART;TZID=America/New_York:20240712T173000
DTEND;TZID=America/New_York:20240712T200000
DTSTAMP:20260420T041445
CREATED:20240111T194332Z
LAST-MODIFIED:20240603T155042Z
UID:10000096-1720805400-1720814400@www.sapelohammockgolfclub.com
SUMMARY:Cocktails & Sunsets
DESCRIPTION:
URL:https://www.sapelohammockgolfclub.com/event/cocktails-sunsets-35/
END:VEVENT
BEGIN:VEVENT
DTSTART;TZID=America/New_York:20240705T173000
DTEND;TZID=America/New_York:20240705T200000
DTSTAMP:20260420T041445
CREATED:20240111T194318Z
LAST-MODIFIED:20240603T154949Z
UID:10000095-1720200600-1720209600@www.sapelohammockgolfclub.com
SUMMARY:Cocktails & Sunsets
DESCRIPTION:
URL:https://www.sapelohammockgolfclub.com/event/cocktails-sunsets-34/
END:VEVENT
BEGIN:VEVENT
DTSTART;TZID=America/New_York:20240704T173000
DTEND;TZID=America/New_York:20240704T210000
DTSTAMP:20260420T041445
CREATED:20240111T194251Z
LAST-MODIFIED:20240522T143944Z
UID:10000094-1720114200-1720126800@www.sapelohammockgolfclub.com
SUMMARY:Owner/Member Dinner - Cookout
DESCRIPTION: 
URL:https://www.sapelohammockgolfclub.com/event/owner-member-dinner-cookout/
END:VEVENT
BEGIN:VEVENT
DTSTART;TZID=America/New_York:20240704T120000
DTEND;TZID=America/New_York:20240704T170000
DTSTAMP:20260420T041445
CREATED:20240111T194215Z
LAST-MODIFIED:20240616T003106Z
UID:10000093-1720094400-1720112400@www.sapelohammockgolfclub.com
SUMMARY:Owner/Member July Golf: Out on an Island
DESCRIPTION:
URL:https://www.sapelohammockgolfclub.com/event/out-on-an-island/
END:VEVENT
BEGIN:VEVENT
DTSTART;TZID=America/New_York:20240628T173000
DTEND;TZID=America/New_York:20240628T200000
DTSTAMP:20260420T041445
CREATED:20240111T013204Z
LAST-MODIFIED:20240603T154918Z
UID:10000090-1719595800-1719604800@www.sapelohammockgolfclub.com
SUMMARY:Cocktails & Sunsets
DESCRIPTION:
URL:https://www.sapelohammockgolfclub.com/event/cocktails-sunsets-33/
END:VEVENT
BEGIN:VEVENT
DTSTART;TZID=America/New_York:20240626T080000
DTEND;TZID=America/New_York:20240626T170000
DTSTAMP:20260420T041445
CREATED:20240624T173943Z
LAST-MODIFIED:20240624T173943Z
UID:10000893-1719388800-1719421200@www.sapelohammockgolfclub.com
SUMMARY:Volunteer Workday
DESCRIPTION:
URL:https://www.sapelohammockgolfclub.com/event/volunteer-workday/
END:VEVENT
END:VCALENDAR