BEGIN:VCALENDAR
VERSION:2.0
PRODID:-//Sapelo Hammock Golf Club - ECPv6.15.18//NONSGML v1.0//EN
CALSCALE:GREGORIAN
METHOD:PUBLISH
X-WR-CALNAME:Sapelo Hammock Golf Club
X-ORIGINAL-URL:https://www.sapelohammockgolfclub.com
X-WR-CALDESC:Events for Sapelo Hammock Golf Club
REFRESH-INTERVAL;VALUE=DURATION:PT1H
X-Robots-Tag:noindex
X-PUBLISHED-TTL:PT1H
BEGIN:VTIMEZONE
TZID:America/New_York
BEGIN:DAYLIGHT
TZOFFSETFROM:-0500
TZOFFSETTO:-0400
TZNAME:EDT
DTSTART:20260308T070000
END:DAYLIGHT
BEGIN:STANDARD
TZOFFSETFROM:-0400
TZOFFSETTO:-0500
TZNAME:EST
DTSTART:20261101T060000
END:STANDARD
BEGIN:DAYLIGHT
TZOFFSETFROM:-0500
TZOFFSETTO:-0400
TZNAME:EDT
DTSTART:20270314T070000
END:DAYLIGHT
BEGIN:STANDARD
TZOFFSETFROM:-0400
TZOFFSETTO:-0500
TZNAME:EST
DTSTART:20271107T060000
END:STANDARD
BEGIN:DAYLIGHT
TZOFFSETFROM:-0500
TZOFFSETTO:-0400
TZNAME:EDT
DTSTART:20280312T070000
END:DAYLIGHT
BEGIN:STANDARD
TZOFFSETFROM:-0400
TZOFFSETTO:-0500
TZNAME:EST
DTSTART:20281105T060000
END:STANDARD
BEGIN:DAYLIGHT
TZOFFSETFROM:-0500
TZOFFSETTO:-0400
TZNAME:EDT
DTSTART:20290311T070000
END:DAYLIGHT
BEGIN:STANDARD
TZOFFSETFROM:-0400
TZOFFSETTO:-0500
TZNAME:EST
DTSTART:20291104T060000
END:STANDARD
END:VTIMEZONE
BEGIN:VEVENT
DTSTART;TZID=America/New_York:20271112T173000
DTEND;TZID=America/New_York:20271112T200000
DTSTAMP:20260420T033323
CREATED:20250801T170518Z
LAST-MODIFIED:20250801T170518Z
UID:10001530-1826040600-1826049600@www.sapelohammockgolfclub.com
SUMMARY:Cocktails & Sunsets
DESCRIPTION:Cocktails & Sunsets 5:30 pm – 8:00 pm  
URL:https://www.sapelohammockgolfclub.com/event/cocktails-sunsets-80/2027-11-12/
CATEGORIES:Event
END:VEVENT
BEGIN:VEVENT
DTSTART;TZID=America/New_York:20271119T173000
DTEND;TZID=America/New_York:20271119T200000
DTSTAMP:20260420T033323
CREATED:20250801T170518Z
LAST-MODIFIED:20250801T170518Z
UID:10001531-1826645400-1826654400@www.sapelohammockgolfclub.com
SUMMARY:Cocktails & Sunsets
DESCRIPTION:Cocktails & Sunsets 5:30 pm – 8:00 pm  
URL:https://www.sapelohammockgolfclub.com/event/cocktails-sunsets-80/2027-11-19/
CATEGORIES:Event
END:VEVENT
BEGIN:VEVENT
DTSTART;TZID=America/New_York:20271126T173000
DTEND;TZID=America/New_York:20271126T200000
DTSTAMP:20260420T033323
CREATED:20250801T170518Z
LAST-MODIFIED:20250801T170518Z
UID:10001532-1827250200-1827259200@www.sapelohammockgolfclub.com
SUMMARY:Cocktails & Sunsets
DESCRIPTION:Cocktails & Sunsets 5:30 pm – 8:00 pm  
URL:https://www.sapelohammockgolfclub.com/event/cocktails-sunsets-80/2027-11-26/
CATEGORIES:Event
END:VEVENT
BEGIN:VEVENT
DTSTART;TZID=America/New_York:20271203T173000
DTEND;TZID=America/New_York:20271203T200000
DTSTAMP:20260420T033323
CREATED:20250801T170518Z
LAST-MODIFIED:20250801T170518Z
UID:10001533-1827855000-1827864000@www.sapelohammockgolfclub.com
SUMMARY:Cocktails & Sunsets
DESCRIPTION:Cocktails & Sunsets 5:30 pm – 8:00 pm  
URL:https://www.sapelohammockgolfclub.com/event/cocktails-sunsets-80/2027-12-03/
CATEGORIES:Event
END:VEVENT
BEGIN:VEVENT
DTSTART;TZID=America/New_York:20271210T173000
DTEND;TZID=America/New_York:20271210T200000
DTSTAMP:20260420T033323
CREATED:20250801T170518Z
LAST-MODIFIED:20250801T170518Z
UID:10001534-1828459800-1828468800@www.sapelohammockgolfclub.com
SUMMARY:Cocktails & Sunsets
DESCRIPTION:Cocktails & Sunsets 5:30 pm – 8:00 pm  
URL:https://www.sapelohammockgolfclub.com/event/cocktails-sunsets-80/2027-12-10/
CATEGORIES:Event
END:VEVENT
BEGIN:VEVENT
DTSTART;TZID=America/New_York:20271217T173000
DTEND;TZID=America/New_York:20271217T200000
DTSTAMP:20260420T033323
CREATED:20250801T170518Z
LAST-MODIFIED:20250801T170518Z
UID:10001535-1829064600-1829073600@www.sapelohammockgolfclub.com
SUMMARY:Cocktails & Sunsets
DESCRIPTION:Cocktails & Sunsets 5:30 pm – 8:00 pm  
URL:https://www.sapelohammockgolfclub.com/event/cocktails-sunsets-80/2027-12-17/
CATEGORIES:Event
END:VEVENT
BEGIN:VEVENT
DTSTART;TZID=America/New_York:20271224T173000
DTEND;TZID=America/New_York:20271224T200000
DTSTAMP:20260420T033323
CREATED:20250801T170518Z
LAST-MODIFIED:20250801T170518Z
UID:10001536-1829669400-1829678400@www.sapelohammockgolfclub.com
SUMMARY:Cocktails & Sunsets
DESCRIPTION:Cocktails & Sunsets 5:30 pm – 8:00 pm  
URL:https://www.sapelohammockgolfclub.com/event/cocktails-sunsets-80/2027-12-24/
CATEGORIES:Event
END:VEVENT
BEGIN:VEVENT
DTSTART;TZID=America/New_York:20271231T173000
DTEND;TZID=America/New_York:20271231T200000
DTSTAMP:20260420T033323
CREATED:20250801T170518Z
LAST-MODIFIED:20250801T170518Z
UID:10001537-1830274200-1830283200@www.sapelohammockgolfclub.com
SUMMARY:Cocktails & Sunsets
DESCRIPTION:Cocktails & Sunsets 5:30 pm – 8:00 pm  
URL:https://www.sapelohammockgolfclub.com/event/cocktails-sunsets-80/2027-12-31/
CATEGORIES:Event
END:VEVENT
BEGIN:VEVENT
DTSTART;TZID=America/New_York:20280107T173000
DTEND;TZID=America/New_York:20280107T200000
DTSTAMP:20260420T033323
CREATED:20250801T170518Z
LAST-MODIFIED:20250801T170518Z
UID:10001538-1830879000-1830888000@www.sapelohammockgolfclub.com
SUMMARY:Cocktails & Sunsets
DESCRIPTION:Cocktails & Sunsets 5:30 pm – 8:00 pm  
URL:https://www.sapelohammockgolfclub.com/event/cocktails-sunsets-80/2028-01-07/
CATEGORIES:Event
END:VEVENT
BEGIN:VEVENT
DTSTART;TZID=America/New_York:20280114T173000
DTEND;TZID=America/New_York:20280114T200000
DTSTAMP:20260420T033323
CREATED:20250801T170518Z
LAST-MODIFIED:20250801T170518Z
UID:10001539-1831483800-1831492800@www.sapelohammockgolfclub.com
SUMMARY:Cocktails & Sunsets
DESCRIPTION:Cocktails & Sunsets 5:30 pm – 8:00 pm  
URL:https://www.sapelohammockgolfclub.com/event/cocktails-sunsets-80/2028-01-14/
CATEGORIES:Event
END:VEVENT
BEGIN:VEVENT
DTSTART;TZID=America/New_York:20280121T173000
DTEND;TZID=America/New_York:20280121T200000
DTSTAMP:20260420T033323
CREATED:20250801T170518Z
LAST-MODIFIED:20250801T170518Z
UID:10001540-1832088600-1832097600@www.sapelohammockgolfclub.com
SUMMARY:Cocktails & Sunsets
DESCRIPTION:Cocktails & Sunsets 5:30 pm – 8:00 pm  
URL:https://www.sapelohammockgolfclub.com/event/cocktails-sunsets-80/2028-01-21/
CATEGORIES:Event
END:VEVENT
BEGIN:VEVENT
DTSTART;TZID=America/New_York:20280128T173000
DTEND;TZID=America/New_York:20280128T200000
DTSTAMP:20260420T033323
CREATED:20250801T170518Z
LAST-MODIFIED:20250801T170518Z
UID:10001541-1832693400-1832702400@www.sapelohammockgolfclub.com
SUMMARY:Cocktails & Sunsets
DESCRIPTION:Cocktails & Sunsets 5:30 pm – 8:00 pm  
URL:https://www.sapelohammockgolfclub.com/event/cocktails-sunsets-80/2028-01-28/
CATEGORIES:Event
END:VEVENT
BEGIN:VEVENT
DTSTART;TZID=America/New_York:20280204T173000
DTEND;TZID=America/New_York:20280204T200000
DTSTAMP:20260420T033323
CREATED:20250801T170518Z
LAST-MODIFIED:20250801T170518Z
UID:10001542-1833298200-1833307200@www.sapelohammockgolfclub.com
SUMMARY:Cocktails & Sunsets
DESCRIPTION:Cocktails & Sunsets 5:30 pm – 8:00 pm  
URL:https://www.sapelohammockgolfclub.com/event/cocktails-sunsets-80/2028-02-04/
CATEGORIES:Event
END:VEVENT
BEGIN:VEVENT
DTSTART;TZID=America/New_York:20280211T173000
DTEND;TZID=America/New_York:20280211T200000
DTSTAMP:20260420T033323
CREATED:20250801T170518Z
LAST-MODIFIED:20250801T170518Z
UID:10001543-1833903000-1833912000@www.sapelohammockgolfclub.com
SUMMARY:Cocktails & Sunsets
DESCRIPTION:Cocktails & Sunsets 5:30 pm – 8:00 pm  
URL:https://www.sapelohammockgolfclub.com/event/cocktails-sunsets-80/2028-02-11/
CATEGORIES:Event
END:VEVENT
BEGIN:VEVENT
DTSTART;TZID=America/New_York:20280218T173000
DTEND;TZID=America/New_York:20280218T200000
DTSTAMP:20260420T033323
CREATED:20250801T170518Z
LAST-MODIFIED:20250801T170518Z
UID:10001544-1834507800-1834516800@www.sapelohammockgolfclub.com
SUMMARY:Cocktails & Sunsets
DESCRIPTION:Cocktails & Sunsets 5:30 pm – 8:00 pm  
URL:https://www.sapelohammockgolfclub.com/event/cocktails-sunsets-80/2028-02-18/
CATEGORIES:Event
END:VEVENT
BEGIN:VEVENT
DTSTART;TZID=America/New_York:20280225T173000
DTEND;TZID=America/New_York:20280225T200000
DTSTAMP:20260420T033323
CREATED:20250801T170518Z
LAST-MODIFIED:20250801T170518Z
UID:10001545-1835112600-1835121600@www.sapelohammockgolfclub.com
SUMMARY:Cocktails & Sunsets
DESCRIPTION:Cocktails & Sunsets 5:30 pm – 8:00 pm  
URL:https://www.sapelohammockgolfclub.com/event/cocktails-sunsets-80/2028-02-25/
CATEGORIES:Event
END:VEVENT
BEGIN:VEVENT
DTSTART;TZID=America/New_York:20280303T173000
DTEND;TZID=America/New_York:20280303T200000
DTSTAMP:20260420T033323
CREATED:20250801T170518Z
LAST-MODIFIED:20250801T170518Z
UID:10001546-1835717400-1835726400@www.sapelohammockgolfclub.com
SUMMARY:Cocktails & Sunsets
DESCRIPTION:Cocktails & Sunsets 5:30 pm – 8:00 pm  
URL:https://www.sapelohammockgolfclub.com/event/cocktails-sunsets-80/2028-03-03/
CATEGORIES:Event
END:VEVENT
BEGIN:VEVENT
DTSTART;TZID=America/New_York:20280310T173000
DTEND;TZID=America/New_York:20280310T200000
DTSTAMP:20260420T033323
CREATED:20250801T170518Z
LAST-MODIFIED:20250801T170518Z
UID:10001547-1836322200-1836331200@www.sapelohammockgolfclub.com
SUMMARY:Cocktails & Sunsets
DESCRIPTION:Cocktails & Sunsets 5:30 pm – 8:00 pm  
URL:https://www.sapelohammockgolfclub.com/event/cocktails-sunsets-80/2028-03-10/
CATEGORIES:Event
END:VEVENT
BEGIN:VEVENT
DTSTART;TZID=America/New_York:20280317T173000
DTEND;TZID=America/New_York:20280317T200000
DTSTAMP:20260420T033323
CREATED:20250801T170518Z
LAST-MODIFIED:20250801T170518Z
UID:10001548-1836927000-1836936000@www.sapelohammockgolfclub.com
SUMMARY:Cocktails & Sunsets
DESCRIPTION:Cocktails & Sunsets 5:30 pm – 8:00 pm  
URL:https://www.sapelohammockgolfclub.com/event/cocktails-sunsets-80/2028-03-17/
CATEGORIES:Event
END:VEVENT
BEGIN:VEVENT
DTSTART;TZID=America/New_York:20280324T173000
DTEND;TZID=America/New_York:20280324T200000
DTSTAMP:20260420T033323
CREATED:20250801T170518Z
LAST-MODIFIED:20250801T170518Z
UID:10001549-1837531800-1837540800@www.sapelohammockgolfclub.com
SUMMARY:Cocktails & Sunsets
DESCRIPTION:Cocktails & Sunsets 5:30 pm – 8:00 pm  
URL:https://www.sapelohammockgolfclub.com/event/cocktails-sunsets-80/2028-03-24/
CATEGORIES:Event
END:VEVENT
BEGIN:VEVENT
DTSTART;TZID=America/New_York:20280331T173000
DTEND;TZID=America/New_York:20280331T200000
DTSTAMP:20260420T033323
CREATED:20250801T170518Z
LAST-MODIFIED:20250801T170518Z
UID:10001550-1838136600-1838145600@www.sapelohammockgolfclub.com
SUMMARY:Cocktails & Sunsets
DESCRIPTION:Cocktails & Sunsets 5:30 pm – 8:00 pm  
URL:https://www.sapelohammockgolfclub.com/event/cocktails-sunsets-80/2028-03-31/
CATEGORIES:Event
END:VEVENT
BEGIN:VEVENT
DTSTART;TZID=America/New_York:20280407T173000
DTEND;TZID=America/New_York:20280407T200000
DTSTAMP:20260420T033323
CREATED:20250801T170518Z
LAST-MODIFIED:20250801T170518Z
UID:10001551-1838741400-1838750400@www.sapelohammockgolfclub.com
SUMMARY:Cocktails & Sunsets
DESCRIPTION:Cocktails & Sunsets 5:30 pm – 8:00 pm  
URL:https://www.sapelohammockgolfclub.com/event/cocktails-sunsets-80/2028-04-07/
CATEGORIES:Event
END:VEVENT
BEGIN:VEVENT
DTSTART;TZID=America/New_York:20280414T173000
DTEND;TZID=America/New_York:20280414T200000
DTSTAMP:20260420T033323
CREATED:20250801T170518Z
LAST-MODIFIED:20250801T170518Z
UID:10001552-1839346200-1839355200@www.sapelohammockgolfclub.com
SUMMARY:Cocktails & Sunsets
DESCRIPTION:Cocktails & Sunsets 5:30 pm – 8:00 pm  
URL:https://www.sapelohammockgolfclub.com/event/cocktails-sunsets-80/2028-04-14/
CATEGORIES:Event
END:VEVENT
BEGIN:VEVENT
DTSTART;TZID=America/New_York:20280421T173000
DTEND;TZID=America/New_York:20280421T200000
DTSTAMP:20260420T033323
CREATED:20250801T170518Z
LAST-MODIFIED:20250801T170518Z
UID:10001553-1839951000-1839960000@www.sapelohammockgolfclub.com
SUMMARY:Cocktails & Sunsets
DESCRIPTION:Cocktails & Sunsets 5:30 pm – 8:00 pm  
URL:https://www.sapelohammockgolfclub.com/event/cocktails-sunsets-80/2028-04-21/
CATEGORIES:Event
END:VEVENT
BEGIN:VEVENT
DTSTART;TZID=America/New_York:20280428T173000
DTEND;TZID=America/New_York:20280428T200000
DTSTAMP:20260420T033323
CREATED:20250801T170518Z
LAST-MODIFIED:20250801T170518Z
UID:10001554-1840555800-1840564800@www.sapelohammockgolfclub.com
SUMMARY:Cocktails & Sunsets
DESCRIPTION:Cocktails & Sunsets 5:30 pm – 8:00 pm  
URL:https://www.sapelohammockgolfclub.com/event/cocktails-sunsets-80/2028-04-28/
CATEGORIES:Event
END:VEVENT
BEGIN:VEVENT
DTSTART;TZID=America/New_York:20280505T173000
DTEND;TZID=America/New_York:20280505T200000
DTSTAMP:20260420T033323
CREATED:20250801T170518Z
LAST-MODIFIED:20250801T170518Z
UID:10001555-1841160600-1841169600@www.sapelohammockgolfclub.com
SUMMARY:Cocktails & Sunsets
DESCRIPTION:Cocktails & Sunsets 5:30 pm – 8:00 pm  
URL:https://www.sapelohammockgolfclub.com/event/cocktails-sunsets-80/2028-05-05/
CATEGORIES:Event
END:VEVENT
BEGIN:VEVENT
DTSTART;TZID=America/New_York:20280512T173000
DTEND;TZID=America/New_York:20280512T200000
DTSTAMP:20260420T033323
CREATED:20250801T170518Z
LAST-MODIFIED:20250801T170518Z
UID:10001556-1841765400-1841774400@www.sapelohammockgolfclub.com
SUMMARY:Cocktails & Sunsets
DESCRIPTION:Cocktails & Sunsets 5:30 pm – 8:00 pm  
URL:https://www.sapelohammockgolfclub.com/event/cocktails-sunsets-80/2028-05-12/
CATEGORIES:Event
END:VEVENT
BEGIN:VEVENT
DTSTART;TZID=America/New_York:20280519T173000
DTEND;TZID=America/New_York:20280519T200000
DTSTAMP:20260420T033323
CREATED:20250801T170518Z
LAST-MODIFIED:20250801T170518Z
UID:10001557-1842370200-1842379200@www.sapelohammockgolfclub.com
SUMMARY:Cocktails & Sunsets
DESCRIPTION:Cocktails & Sunsets 5:30 pm – 8:00 pm  
URL:https://www.sapelohammockgolfclub.com/event/cocktails-sunsets-80/2028-05-19/
CATEGORIES:Event
END:VEVENT
BEGIN:VEVENT
DTSTART;TZID=America/New_York:20280526T173000
DTEND;TZID=America/New_York:20280526T200000
DTSTAMP:20260420T033323
CREATED:20250801T170518Z
LAST-MODIFIED:20250801T170518Z
UID:10001558-1842975000-1842984000@www.sapelohammockgolfclub.com
SUMMARY:Cocktails & Sunsets
DESCRIPTION:Cocktails & Sunsets 5:30 pm – 8:00 pm  
URL:https://www.sapelohammockgolfclub.com/event/cocktails-sunsets-80/2028-05-26/
CATEGORIES:Event
END:VEVENT
BEGIN:VEVENT
DTSTART;TZID=America/New_York:20280602T173000
DTEND;TZID=America/New_York:20280602T200000
DTSTAMP:20260420T033323
CREATED:20250801T170518Z
LAST-MODIFIED:20250801T170518Z
UID:10001559-1843579800-1843588800@www.sapelohammockgolfclub.com
SUMMARY:Cocktails & Sunsets
DESCRIPTION:Cocktails & Sunsets 5:30 pm – 8:00 pm  
URL:https://www.sapelohammockgolfclub.com/event/cocktails-sunsets-80/2028-06-02/
CATEGORIES:Event
END:VEVENT
END:VCALENDAR