BEGIN:VCALENDAR
VERSION:2.0
PRODID:-//Sapelo Hammock Golf Club - ECPv6.15.18//NONSGML v1.0//EN
CALSCALE:GREGORIAN
METHOD:PUBLISH
X-ORIGINAL-URL:https://www.sapelohammockgolfclub.com
X-WR-CALDESC:Events for Sapelo Hammock Golf Club
REFRESH-INTERVAL;VALUE=DURATION:PT1H
X-Robots-Tag:noindex
X-PUBLISHED-TTL:PT1H
BEGIN:VTIMEZONE
TZID:America/New_York
BEGIN:DAYLIGHT
TZOFFSETFROM:-0500
TZOFFSETTO:-0400
TZNAME:EDT
DTSTART:20250309T070000
END:DAYLIGHT
BEGIN:STANDARD
TZOFFSETFROM:-0400
TZOFFSETTO:-0500
TZNAME:EST
DTSTART:20251102T060000
END:STANDARD
BEGIN:DAYLIGHT
TZOFFSETFROM:-0500
TZOFFSETTO:-0400
TZNAME:EDT
DTSTART:20260308T070000
END:DAYLIGHT
BEGIN:STANDARD
TZOFFSETFROM:-0400
TZOFFSETTO:-0500
TZNAME:EST
DTSTART:20261101T060000
END:STANDARD
BEGIN:DAYLIGHT
TZOFFSETFROM:-0500
TZOFFSETTO:-0400
TZNAME:EDT
DTSTART:20270314T070000
END:DAYLIGHT
BEGIN:STANDARD
TZOFFSETFROM:-0400
TZOFFSETTO:-0500
TZNAME:EST
DTSTART:20271107T060000
END:STANDARD
BEGIN:DAYLIGHT
TZOFFSETFROM:-0500
TZOFFSETTO:-0400
TZNAME:EDT
DTSTART:20280312T070000
END:DAYLIGHT
BEGIN:STANDARD
TZOFFSETFROM:-0400
TZOFFSETTO:-0500
TZNAME:EST
DTSTART:20281105T060000
END:STANDARD
END:VTIMEZONE
BEGIN:VEVENT
DTSTART;TZID=America/New_York:20261218T173000
DTEND;TZID=America/New_York:20261218T200000
DTSTAMP:20260419T121453
CREATED:20250801T170518Z
LAST-MODIFIED:20250801T170518Z
UID:10001483-1797615000-1797624000@www.sapelohammockgolfclub.com
SUMMARY:Cocktails & Sunsets
DESCRIPTION:Cocktails & Sunsets 5:30 pm – 8:00 pm  
URL:https://www.sapelohammockgolfclub.com/event/cocktails-sunsets-80/2026-12-18/
CATEGORIES:Event
END:VEVENT
BEGIN:VEVENT
DTSTART;TZID=America/New_York:20261225T173000
DTEND;TZID=America/New_York:20261225T200000
DTSTAMP:20260419T121453
CREATED:20250801T170518Z
LAST-MODIFIED:20250801T170518Z
UID:10001484-1798219800-1798228800@www.sapelohammockgolfclub.com
SUMMARY:Cocktails & Sunsets
DESCRIPTION:Cocktails & Sunsets 5:30 pm – 8:00 pm  
URL:https://www.sapelohammockgolfclub.com/event/cocktails-sunsets-80/2026-12-25/
CATEGORIES:Event
END:VEVENT
BEGIN:VEVENT
DTSTART;TZID=America/New_York:20270101T173000
DTEND;TZID=America/New_York:20270101T200000
DTSTAMP:20260419T121453
CREATED:20250801T170518Z
LAST-MODIFIED:20250801T170518Z
UID:10001485-1798824600-1798833600@www.sapelohammockgolfclub.com
SUMMARY:Cocktails & Sunsets
DESCRIPTION:Cocktails & Sunsets 5:30 pm – 8:00 pm  
URL:https://www.sapelohammockgolfclub.com/event/cocktails-sunsets-80/2027-01-01/
CATEGORIES:Event
END:VEVENT
BEGIN:VEVENT
DTSTART;TZID=America/New_York:20270108T173000
DTEND;TZID=America/New_York:20270108T200000
DTSTAMP:20260419T121453
CREATED:20250801T170518Z
LAST-MODIFIED:20250801T170518Z
UID:10001486-1799429400-1799438400@www.sapelohammockgolfclub.com
SUMMARY:Cocktails & Sunsets
DESCRIPTION:Cocktails & Sunsets 5:30 pm – 8:00 pm  
URL:https://www.sapelohammockgolfclub.com/event/cocktails-sunsets-80/2027-01-08/
CATEGORIES:Event
END:VEVENT
BEGIN:VEVENT
DTSTART;TZID=America/New_York:20270115T173000
DTEND;TZID=America/New_York:20270115T200000
DTSTAMP:20260419T121453
CREATED:20250801T170518Z
LAST-MODIFIED:20250801T170518Z
UID:10001487-1800034200-1800043200@www.sapelohammockgolfclub.com
SUMMARY:Cocktails & Sunsets
DESCRIPTION:Cocktails & Sunsets 5:30 pm – 8:00 pm  
URL:https://www.sapelohammockgolfclub.com/event/cocktails-sunsets-80/2027-01-15/
CATEGORIES:Event
END:VEVENT
BEGIN:VEVENT
DTSTART;TZID=America/New_York:20270122T173000
DTEND;TZID=America/New_York:20270122T200000
DTSTAMP:20260419T121453
CREATED:20250801T170518Z
LAST-MODIFIED:20250801T170518Z
UID:10001488-1800639000-1800648000@www.sapelohammockgolfclub.com
SUMMARY:Cocktails & Sunsets
DESCRIPTION:Cocktails & Sunsets 5:30 pm – 8:00 pm  
URL:https://www.sapelohammockgolfclub.com/event/cocktails-sunsets-80/2027-01-22/
CATEGORIES:Event
END:VEVENT
BEGIN:VEVENT
DTSTART;TZID=America/New_York:20270129T173000
DTEND;TZID=America/New_York:20270129T200000
DTSTAMP:20260419T121453
CREATED:20250801T170518Z
LAST-MODIFIED:20250801T170518Z
UID:10001489-1801243800-1801252800@www.sapelohammockgolfclub.com
SUMMARY:Cocktails & Sunsets
DESCRIPTION:Cocktails & Sunsets 5:30 pm – 8:00 pm  
URL:https://www.sapelohammockgolfclub.com/event/cocktails-sunsets-80/2027-01-29/
CATEGORIES:Event
END:VEVENT
BEGIN:VEVENT
DTSTART;TZID=America/New_York:20270205T173000
DTEND;TZID=America/New_York:20270205T200000
DTSTAMP:20260419T121453
CREATED:20250801T170518Z
LAST-MODIFIED:20250801T170518Z
UID:10001490-1801848600-1801857600@www.sapelohammockgolfclub.com
SUMMARY:Cocktails & Sunsets
DESCRIPTION:Cocktails & Sunsets 5:30 pm – 8:00 pm  
URL:https://www.sapelohammockgolfclub.com/event/cocktails-sunsets-80/2027-02-05/
CATEGORIES:Event
END:VEVENT
BEGIN:VEVENT
DTSTART;TZID=America/New_York:20270212T173000
DTEND;TZID=America/New_York:20270212T200000
DTSTAMP:20260419T121453
CREATED:20250801T170518Z
LAST-MODIFIED:20250801T170518Z
UID:10001491-1802453400-1802462400@www.sapelohammockgolfclub.com
SUMMARY:Cocktails & Sunsets
DESCRIPTION:Cocktails & Sunsets 5:30 pm – 8:00 pm  
URL:https://www.sapelohammockgolfclub.com/event/cocktails-sunsets-80/2027-02-12/
CATEGORIES:Event
END:VEVENT
BEGIN:VEVENT
DTSTART;TZID=America/New_York:20270219T173000
DTEND;TZID=America/New_York:20270219T200000
DTSTAMP:20260419T121453
CREATED:20250801T170518Z
LAST-MODIFIED:20250801T170518Z
UID:10001492-1803058200-1803067200@www.sapelohammockgolfclub.com
SUMMARY:Cocktails & Sunsets
DESCRIPTION:Cocktails & Sunsets 5:30 pm – 8:00 pm  
URL:https://www.sapelohammockgolfclub.com/event/cocktails-sunsets-80/2027-02-19/
CATEGORIES:Event
END:VEVENT
BEGIN:VEVENT
DTSTART;TZID=America/New_York:20270226T173000
DTEND;TZID=America/New_York:20270226T200000
DTSTAMP:20260419T121453
CREATED:20250801T170518Z
LAST-MODIFIED:20250801T170518Z
UID:10001493-1803663000-1803672000@www.sapelohammockgolfclub.com
SUMMARY:Cocktails & Sunsets
DESCRIPTION:Cocktails & Sunsets 5:30 pm – 8:00 pm  
URL:https://www.sapelohammockgolfclub.com/event/cocktails-sunsets-80/2027-02-26/
CATEGORIES:Event
END:VEVENT
BEGIN:VEVENT
DTSTART;TZID=America/New_York:20270305T173000
DTEND;TZID=America/New_York:20270305T200000
DTSTAMP:20260419T121453
CREATED:20250801T170518Z
LAST-MODIFIED:20250801T170518Z
UID:10001494-1804267800-1804276800@www.sapelohammockgolfclub.com
SUMMARY:Cocktails & Sunsets
DESCRIPTION:Cocktails & Sunsets 5:30 pm – 8:00 pm  
URL:https://www.sapelohammockgolfclub.com/event/cocktails-sunsets-80/2027-03-05/
CATEGORIES:Event
END:VEVENT
BEGIN:VEVENT
DTSTART;TZID=America/New_York:20270312T173000
DTEND;TZID=America/New_York:20270312T200000
DTSTAMP:20260419T121453
CREATED:20250801T170518Z
LAST-MODIFIED:20250801T170518Z
UID:10001495-1804872600-1804881600@www.sapelohammockgolfclub.com
SUMMARY:Cocktails & Sunsets
DESCRIPTION:Cocktails & Sunsets 5:30 pm – 8:00 pm  
URL:https://www.sapelohammockgolfclub.com/event/cocktails-sunsets-80/2027-03-12/
CATEGORIES:Event
END:VEVENT
BEGIN:VEVENT
DTSTART;TZID=America/New_York:20270319T173000
DTEND;TZID=America/New_York:20270319T200000
DTSTAMP:20260419T121453
CREATED:20250801T170518Z
LAST-MODIFIED:20250801T170518Z
UID:10001496-1805477400-1805486400@www.sapelohammockgolfclub.com
SUMMARY:Cocktails & Sunsets
DESCRIPTION:Cocktails & Sunsets 5:30 pm – 8:00 pm  
URL:https://www.sapelohammockgolfclub.com/event/cocktails-sunsets-80/2027-03-19/
CATEGORIES:Event
END:VEVENT
BEGIN:VEVENT
DTSTART;TZID=America/New_York:20270326T173000
DTEND;TZID=America/New_York:20270326T200000
DTSTAMP:20260419T121453
CREATED:20250801T170518Z
LAST-MODIFIED:20250801T170518Z
UID:10001497-1806082200-1806091200@www.sapelohammockgolfclub.com
SUMMARY:Cocktails & Sunsets
DESCRIPTION:Cocktails & Sunsets 5:30 pm – 8:00 pm  
URL:https://www.sapelohammockgolfclub.com/event/cocktails-sunsets-80/2027-03-26/
CATEGORIES:Event
END:VEVENT
BEGIN:VEVENT
DTSTART;TZID=America/New_York:20270402T173000
DTEND;TZID=America/New_York:20270402T200000
DTSTAMP:20260419T121453
CREATED:20250801T170518Z
LAST-MODIFIED:20250801T170518Z
UID:10001498-1806687000-1806696000@www.sapelohammockgolfclub.com
SUMMARY:Cocktails & Sunsets
DESCRIPTION:Cocktails & Sunsets 5:30 pm – 8:00 pm  
URL:https://www.sapelohammockgolfclub.com/event/cocktails-sunsets-80/2027-04-02/
CATEGORIES:Event
END:VEVENT
BEGIN:VEVENT
DTSTART;TZID=America/New_York:20270409T173000
DTEND;TZID=America/New_York:20270409T200000
DTSTAMP:20260419T121453
CREATED:20250801T170518Z
LAST-MODIFIED:20250801T170518Z
UID:10001499-1807291800-1807300800@www.sapelohammockgolfclub.com
SUMMARY:Cocktails & Sunsets
DESCRIPTION:Cocktails & Sunsets 5:30 pm – 8:00 pm  
URL:https://www.sapelohammockgolfclub.com/event/cocktails-sunsets-80/2027-04-09/
CATEGORIES:Event
END:VEVENT
BEGIN:VEVENT
DTSTART;TZID=America/New_York:20270416T173000
DTEND;TZID=America/New_York:20270416T200000
DTSTAMP:20260419T121453
CREATED:20250801T170518Z
LAST-MODIFIED:20250801T170518Z
UID:10001500-1807896600-1807905600@www.sapelohammockgolfclub.com
SUMMARY:Cocktails & Sunsets
DESCRIPTION:Cocktails & Sunsets 5:30 pm – 8:00 pm  
URL:https://www.sapelohammockgolfclub.com/event/cocktails-sunsets-80/2027-04-16/
CATEGORIES:Event
END:VEVENT
BEGIN:VEVENT
DTSTART;TZID=America/New_York:20270423T173000
DTEND;TZID=America/New_York:20270423T200000
DTSTAMP:20260419T121453
CREATED:20250801T170518Z
LAST-MODIFIED:20250801T170518Z
UID:10001501-1808501400-1808510400@www.sapelohammockgolfclub.com
SUMMARY:Cocktails & Sunsets
DESCRIPTION:Cocktails & Sunsets 5:30 pm – 8:00 pm  
URL:https://www.sapelohammockgolfclub.com/event/cocktails-sunsets-80/2027-04-23/
CATEGORIES:Event
END:VEVENT
BEGIN:VEVENT
DTSTART;TZID=America/New_York:20270430T173000
DTEND;TZID=America/New_York:20270430T200000
DTSTAMP:20260419T121453
CREATED:20250801T170518Z
LAST-MODIFIED:20250801T170518Z
UID:10001502-1809106200-1809115200@www.sapelohammockgolfclub.com
SUMMARY:Cocktails & Sunsets
DESCRIPTION:Cocktails & Sunsets 5:30 pm – 8:00 pm  
URL:https://www.sapelohammockgolfclub.com/event/cocktails-sunsets-80/2027-04-30/
CATEGORIES:Event
END:VEVENT
BEGIN:VEVENT
DTSTART;TZID=America/New_York:20270507T173000
DTEND;TZID=America/New_York:20270507T200000
DTSTAMP:20260419T121453
CREATED:20250801T170518Z
LAST-MODIFIED:20250801T170518Z
UID:10001503-1809711000-1809720000@www.sapelohammockgolfclub.com
SUMMARY:Cocktails & Sunsets
DESCRIPTION:Cocktails & Sunsets 5:30 pm – 8:00 pm  
URL:https://www.sapelohammockgolfclub.com/event/cocktails-sunsets-80/2027-05-07/
CATEGORIES:Event
END:VEVENT
BEGIN:VEVENT
DTSTART;TZID=America/New_York:20270514T173000
DTEND;TZID=America/New_York:20270514T200000
DTSTAMP:20260419T121453
CREATED:20250801T170518Z
LAST-MODIFIED:20250801T170518Z
UID:10001504-1810315800-1810324800@www.sapelohammockgolfclub.com
SUMMARY:Cocktails & Sunsets
DESCRIPTION:Cocktails & Sunsets 5:30 pm – 8:00 pm  
URL:https://www.sapelohammockgolfclub.com/event/cocktails-sunsets-80/2027-05-14/
CATEGORIES:Event
END:VEVENT
BEGIN:VEVENT
DTSTART;TZID=America/New_York:20270521T173000
DTEND;TZID=America/New_York:20270521T200000
DTSTAMP:20260419T121453
CREATED:20250801T170518Z
LAST-MODIFIED:20250801T170518Z
UID:10001505-1810920600-1810929600@www.sapelohammockgolfclub.com
SUMMARY:Cocktails & Sunsets
DESCRIPTION:Cocktails & Sunsets 5:30 pm – 8:00 pm  
URL:https://www.sapelohammockgolfclub.com/event/cocktails-sunsets-80/2027-05-21/
CATEGORIES:Event
END:VEVENT
BEGIN:VEVENT
DTSTART;TZID=America/New_York:20270528T173000
DTEND;TZID=America/New_York:20270528T200000
DTSTAMP:20260419T121453
CREATED:20250801T170518Z
LAST-MODIFIED:20250801T170518Z
UID:10001506-1811525400-1811534400@www.sapelohammockgolfclub.com
SUMMARY:Cocktails & Sunsets
DESCRIPTION:Cocktails & Sunsets 5:30 pm – 8:00 pm  
URL:https://www.sapelohammockgolfclub.com/event/cocktails-sunsets-80/2027-05-28/
CATEGORIES:Event
END:VEVENT
BEGIN:VEVENT
DTSTART;TZID=America/New_York:20270604T173000
DTEND;TZID=America/New_York:20270604T200000
DTSTAMP:20260419T121453
CREATED:20250801T170518Z
LAST-MODIFIED:20250801T170518Z
UID:10001507-1812130200-1812139200@www.sapelohammockgolfclub.com
SUMMARY:Cocktails & Sunsets
DESCRIPTION:Cocktails & Sunsets 5:30 pm – 8:00 pm  
URL:https://www.sapelohammockgolfclub.com/event/cocktails-sunsets-80/2027-06-04/
CATEGORIES:Event
END:VEVENT
BEGIN:VEVENT
DTSTART;TZID=America/New_York:20270611T173000
DTEND;TZID=America/New_York:20270611T200000
DTSTAMP:20260419T121453
CREATED:20250801T170518Z
LAST-MODIFIED:20250801T170518Z
UID:10001508-1812735000-1812744000@www.sapelohammockgolfclub.com
SUMMARY:Cocktails & Sunsets
DESCRIPTION:Cocktails & Sunsets 5:30 pm – 8:00 pm  
URL:https://www.sapelohammockgolfclub.com/event/cocktails-sunsets-80/2027-06-11/
CATEGORIES:Event
END:VEVENT
BEGIN:VEVENT
DTSTART;TZID=America/New_York:20270618T173000
DTEND;TZID=America/New_York:20270618T200000
DTSTAMP:20260419T121453
CREATED:20250801T170518Z
LAST-MODIFIED:20250801T170518Z
UID:10001509-1813339800-1813348800@www.sapelohammockgolfclub.com
SUMMARY:Cocktails & Sunsets
DESCRIPTION:Cocktails & Sunsets 5:30 pm – 8:00 pm  
URL:https://www.sapelohammockgolfclub.com/event/cocktails-sunsets-80/2027-06-18/
CATEGORIES:Event
END:VEVENT
BEGIN:VEVENT
DTSTART;TZID=America/New_York:20270625T173000
DTEND;TZID=America/New_York:20270625T200000
DTSTAMP:20260419T121453
CREATED:20250801T170518Z
LAST-MODIFIED:20250801T170518Z
UID:10001510-1813944600-1813953600@www.sapelohammockgolfclub.com
SUMMARY:Cocktails & Sunsets
DESCRIPTION:Cocktails & Sunsets 5:30 pm – 8:00 pm  
URL:https://www.sapelohammockgolfclub.com/event/cocktails-sunsets-80/2027-06-25/
CATEGORIES:Event
END:VEVENT
BEGIN:VEVENT
DTSTART;TZID=America/New_York:20270702T173000
DTEND;TZID=America/New_York:20270702T200000
DTSTAMP:20260419T121453
CREATED:20250801T170518Z
LAST-MODIFIED:20250801T170518Z
UID:10001511-1814549400-1814558400@www.sapelohammockgolfclub.com
SUMMARY:Cocktails & Sunsets
DESCRIPTION:Cocktails & Sunsets 5:30 pm – 8:00 pm  
URL:https://www.sapelohammockgolfclub.com/event/cocktails-sunsets-80/2027-07-02/
CATEGORIES:Event
END:VEVENT
BEGIN:VEVENT
DTSTART;TZID=America/New_York:20270709T173000
DTEND;TZID=America/New_York:20270709T200000
DTSTAMP:20260419T121453
CREATED:20250801T170518Z
LAST-MODIFIED:20250801T170518Z
UID:10001512-1815154200-1815163200@www.sapelohammockgolfclub.com
SUMMARY:Cocktails & Sunsets
DESCRIPTION:Cocktails & Sunsets 5:30 pm – 8:00 pm  
URL:https://www.sapelohammockgolfclub.com/event/cocktails-sunsets-80/2027-07-09/
CATEGORIES:Event
END:VEVENT
END:VCALENDAR