BEGIN:VCALENDAR
VERSION:2.0
PRODID:-//Sapelo Hammock Golf Club - ECPv6.15.18//NONSGML v1.0//EN
CALSCALE:GREGORIAN
METHOD:PUBLISH
X-ORIGINAL-URL:https://www.sapelohammockgolfclub.com
X-WR-CALDESC:Events for Sapelo Hammock Golf Club
REFRESH-INTERVAL;VALUE=DURATION:PT1H
X-Robots-Tag:noindex
X-PUBLISHED-TTL:PT1H
BEGIN:VTIMEZONE
TZID:America/New_York
BEGIN:DAYLIGHT
TZOFFSETFROM:-0500
TZOFFSETTO:-0400
TZNAME:EDT
DTSTART:20260308T070000
END:DAYLIGHT
BEGIN:STANDARD
TZOFFSETFROM:-0400
TZOFFSETTO:-0500
TZNAME:EST
DTSTART:20261101T060000
END:STANDARD
BEGIN:DAYLIGHT
TZOFFSETFROM:-0500
TZOFFSETTO:-0400
TZNAME:EDT
DTSTART:20270314T070000
END:DAYLIGHT
BEGIN:STANDARD
TZOFFSETFROM:-0400
TZOFFSETTO:-0500
TZNAME:EST
DTSTART:20271107T060000
END:STANDARD
BEGIN:DAYLIGHT
TZOFFSETFROM:-0500
TZOFFSETTO:-0400
TZNAME:EDT
DTSTART:20280312T070000
END:DAYLIGHT
BEGIN:STANDARD
TZOFFSETFROM:-0400
TZOFFSETTO:-0500
TZNAME:EST
DTSTART:20281105T060000
END:STANDARD
BEGIN:DAYLIGHT
TZOFFSETFROM:-0500
TZOFFSETTO:-0400
TZNAME:EDT
DTSTART:20290311T070000
END:DAYLIGHT
BEGIN:STANDARD
TZOFFSETFROM:-0400
TZOFFSETTO:-0500
TZNAME:EST
DTSTART:20291104T060000
END:STANDARD
END:VTIMEZONE
BEGIN:VEVENT
DTSTART;TZID=America/New_York:20270625T173000
DTEND;TZID=America/New_York:20270625T200000
DTSTAMP:20260420T015254
CREATED:20250801T170518Z
LAST-MODIFIED:20250801T170518Z
UID:10001510-1813944600-1813953600@www.sapelohammockgolfclub.com
SUMMARY:Cocktails & Sunsets
DESCRIPTION:Cocktails & Sunsets 5:30 pm – 8:00 pm  
URL:https://www.sapelohammockgolfclub.com/event/cocktails-sunsets-80/2027-06-25/
CATEGORIES:Event
END:VEVENT
BEGIN:VEVENT
DTSTART;TZID=America/New_York:20270702T173000
DTEND;TZID=America/New_York:20270702T200000
DTSTAMP:20260420T015254
CREATED:20250801T170518Z
LAST-MODIFIED:20250801T170518Z
UID:10001511-1814549400-1814558400@www.sapelohammockgolfclub.com
SUMMARY:Cocktails & Sunsets
DESCRIPTION:Cocktails & Sunsets 5:30 pm – 8:00 pm  
URL:https://www.sapelohammockgolfclub.com/event/cocktails-sunsets-80/2027-07-02/
CATEGORIES:Event
END:VEVENT
BEGIN:VEVENT
DTSTART;TZID=America/New_York:20270709T173000
DTEND;TZID=America/New_York:20270709T200000
DTSTAMP:20260420T015254
CREATED:20250801T170518Z
LAST-MODIFIED:20250801T170518Z
UID:10001512-1815154200-1815163200@www.sapelohammockgolfclub.com
SUMMARY:Cocktails & Sunsets
DESCRIPTION:Cocktails & Sunsets 5:30 pm – 8:00 pm  
URL:https://www.sapelohammockgolfclub.com/event/cocktails-sunsets-80/2027-07-09/
CATEGORIES:Event
END:VEVENT
BEGIN:VEVENT
DTSTART;TZID=America/New_York:20270716T173000
DTEND;TZID=America/New_York:20270716T200000
DTSTAMP:20260420T015254
CREATED:20250801T170518Z
LAST-MODIFIED:20250801T170518Z
UID:10001513-1815759000-1815768000@www.sapelohammockgolfclub.com
SUMMARY:Cocktails & Sunsets
DESCRIPTION:Cocktails & Sunsets 5:30 pm – 8:00 pm  
URL:https://www.sapelohammockgolfclub.com/event/cocktails-sunsets-80/2027-07-16/
CATEGORIES:Event
END:VEVENT
BEGIN:VEVENT
DTSTART;TZID=America/New_York:20270723T173000
DTEND;TZID=America/New_York:20270723T200000
DTSTAMP:20260420T015254
CREATED:20250801T170518Z
LAST-MODIFIED:20250801T170518Z
UID:10001514-1816363800-1816372800@www.sapelohammockgolfclub.com
SUMMARY:Cocktails & Sunsets
DESCRIPTION:Cocktails & Sunsets 5:30 pm – 8:00 pm  
URL:https://www.sapelohammockgolfclub.com/event/cocktails-sunsets-80/2027-07-23/
CATEGORIES:Event
END:VEVENT
BEGIN:VEVENT
DTSTART;TZID=America/New_York:20270730T173000
DTEND;TZID=America/New_York:20270730T200000
DTSTAMP:20260420T015254
CREATED:20250801T170518Z
LAST-MODIFIED:20250801T170518Z
UID:10001515-1816968600-1816977600@www.sapelohammockgolfclub.com
SUMMARY:Cocktails & Sunsets
DESCRIPTION:Cocktails & Sunsets 5:30 pm – 8:00 pm  
URL:https://www.sapelohammockgolfclub.com/event/cocktails-sunsets-80/2027-07-30/
CATEGORIES:Event
END:VEVENT
BEGIN:VEVENT
DTSTART;TZID=America/New_York:20270806T173000
DTEND;TZID=America/New_York:20270806T200000
DTSTAMP:20260420T015254
CREATED:20250801T170518Z
LAST-MODIFIED:20250801T170518Z
UID:10001516-1817573400-1817582400@www.sapelohammockgolfclub.com
SUMMARY:Cocktails & Sunsets
DESCRIPTION:Cocktails & Sunsets 5:30 pm – 8:00 pm  
URL:https://www.sapelohammockgolfclub.com/event/cocktails-sunsets-80/2027-08-06/
CATEGORIES:Event
END:VEVENT
BEGIN:VEVENT
DTSTART;TZID=America/New_York:20270813T173000
DTEND;TZID=America/New_York:20270813T200000
DTSTAMP:20260420T015254
CREATED:20250801T170518Z
LAST-MODIFIED:20250801T170518Z
UID:10001517-1818178200-1818187200@www.sapelohammockgolfclub.com
SUMMARY:Cocktails & Sunsets
DESCRIPTION:Cocktails & Sunsets 5:30 pm – 8:00 pm  
URL:https://www.sapelohammockgolfclub.com/event/cocktails-sunsets-80/2027-08-13/
CATEGORIES:Event
END:VEVENT
BEGIN:VEVENT
DTSTART;TZID=America/New_York:20270820T173000
DTEND;TZID=America/New_York:20270820T200000
DTSTAMP:20260420T015254
CREATED:20250801T170518Z
LAST-MODIFIED:20250801T170518Z
UID:10001518-1818783000-1818792000@www.sapelohammockgolfclub.com
SUMMARY:Cocktails & Sunsets
DESCRIPTION:Cocktails & Sunsets 5:30 pm – 8:00 pm  
URL:https://www.sapelohammockgolfclub.com/event/cocktails-sunsets-80/2027-08-20/
CATEGORIES:Event
END:VEVENT
BEGIN:VEVENT
DTSTART;TZID=America/New_York:20270827T173000
DTEND;TZID=America/New_York:20270827T200000
DTSTAMP:20260420T015254
CREATED:20250801T170518Z
LAST-MODIFIED:20250801T170518Z
UID:10001519-1819387800-1819396800@www.sapelohammockgolfclub.com
SUMMARY:Cocktails & Sunsets
DESCRIPTION:Cocktails & Sunsets 5:30 pm – 8:00 pm  
URL:https://www.sapelohammockgolfclub.com/event/cocktails-sunsets-80/2027-08-27/
CATEGORIES:Event
END:VEVENT
BEGIN:VEVENT
DTSTART;TZID=America/New_York:20270903T173000
DTEND;TZID=America/New_York:20270903T200000
DTSTAMP:20260420T015254
CREATED:20250801T170518Z
LAST-MODIFIED:20250801T170518Z
UID:10001520-1819992600-1820001600@www.sapelohammockgolfclub.com
SUMMARY:Cocktails & Sunsets
DESCRIPTION:Cocktails & Sunsets 5:30 pm – 8:00 pm  
URL:https://www.sapelohammockgolfclub.com/event/cocktails-sunsets-80/2027-09-03/
CATEGORIES:Event
END:VEVENT
BEGIN:VEVENT
DTSTART;TZID=America/New_York:20270910T173000
DTEND;TZID=America/New_York:20270910T200000
DTSTAMP:20260420T015254
CREATED:20250801T170518Z
LAST-MODIFIED:20250801T170518Z
UID:10001521-1820597400-1820606400@www.sapelohammockgolfclub.com
SUMMARY:Cocktails & Sunsets
DESCRIPTION:Cocktails & Sunsets 5:30 pm – 8:00 pm  
URL:https://www.sapelohammockgolfclub.com/event/cocktails-sunsets-80/2027-09-10/
CATEGORIES:Event
END:VEVENT
BEGIN:VEVENT
DTSTART;TZID=America/New_York:20270917T173000
DTEND;TZID=America/New_York:20270917T200000
DTSTAMP:20260420T015254
CREATED:20250801T170518Z
LAST-MODIFIED:20250801T170518Z
UID:10001522-1821202200-1821211200@www.sapelohammockgolfclub.com
SUMMARY:Cocktails & Sunsets
DESCRIPTION:Cocktails & Sunsets 5:30 pm – 8:00 pm  
URL:https://www.sapelohammockgolfclub.com/event/cocktails-sunsets-80/2027-09-17/
CATEGORIES:Event
END:VEVENT
BEGIN:VEVENT
DTSTART;TZID=America/New_York:20270924T173000
DTEND;TZID=America/New_York:20270924T200000
DTSTAMP:20260420T015254
CREATED:20250801T170518Z
LAST-MODIFIED:20250801T170518Z
UID:10001523-1821807000-1821816000@www.sapelohammockgolfclub.com
SUMMARY:Cocktails & Sunsets
DESCRIPTION:Cocktails & Sunsets 5:30 pm – 8:00 pm  
URL:https://www.sapelohammockgolfclub.com/event/cocktails-sunsets-80/2027-09-24/
CATEGORIES:Event
END:VEVENT
BEGIN:VEVENT
DTSTART;TZID=America/New_York:20271001T173000
DTEND;TZID=America/New_York:20271001T200000
DTSTAMP:20260420T015254
CREATED:20250801T170518Z
LAST-MODIFIED:20250801T170518Z
UID:10001524-1822411800-1822420800@www.sapelohammockgolfclub.com
SUMMARY:Cocktails & Sunsets
DESCRIPTION:Cocktails & Sunsets 5:30 pm – 8:00 pm  
URL:https://www.sapelohammockgolfclub.com/event/cocktails-sunsets-80/2027-10-01/
CATEGORIES:Event
END:VEVENT
BEGIN:VEVENT
DTSTART;TZID=America/New_York:20271008T173000
DTEND;TZID=America/New_York:20271008T200000
DTSTAMP:20260420T015254
CREATED:20250801T170518Z
LAST-MODIFIED:20250801T170518Z
UID:10001525-1823016600-1823025600@www.sapelohammockgolfclub.com
SUMMARY:Cocktails & Sunsets
DESCRIPTION:Cocktails & Sunsets 5:30 pm – 8:00 pm  
URL:https://www.sapelohammockgolfclub.com/event/cocktails-sunsets-80/2027-10-08/
CATEGORIES:Event
END:VEVENT
BEGIN:VEVENT
DTSTART;TZID=America/New_York:20271015T173000
DTEND;TZID=America/New_York:20271015T200000
DTSTAMP:20260420T015254
CREATED:20250801T170518Z
LAST-MODIFIED:20250801T170518Z
UID:10001526-1823621400-1823630400@www.sapelohammockgolfclub.com
SUMMARY:Cocktails & Sunsets
DESCRIPTION:Cocktails & Sunsets 5:30 pm – 8:00 pm  
URL:https://www.sapelohammockgolfclub.com/event/cocktails-sunsets-80/2027-10-15/
CATEGORIES:Event
END:VEVENT
BEGIN:VEVENT
DTSTART;TZID=America/New_York:20271022T173000
DTEND;TZID=America/New_York:20271022T200000
DTSTAMP:20260420T015254
CREATED:20250801T170518Z
LAST-MODIFIED:20250801T170518Z
UID:10001527-1824226200-1824235200@www.sapelohammockgolfclub.com
SUMMARY:Cocktails & Sunsets
DESCRIPTION:Cocktails & Sunsets 5:30 pm – 8:00 pm  
URL:https://www.sapelohammockgolfclub.com/event/cocktails-sunsets-80/2027-10-22/
CATEGORIES:Event
END:VEVENT
BEGIN:VEVENT
DTSTART;TZID=America/New_York:20271029T173000
DTEND;TZID=America/New_York:20271029T200000
DTSTAMP:20260420T015254
CREATED:20250801T170518Z
LAST-MODIFIED:20250801T170518Z
UID:10001528-1824831000-1824840000@www.sapelohammockgolfclub.com
SUMMARY:Cocktails & Sunsets
DESCRIPTION:Cocktails & Sunsets 5:30 pm – 8:00 pm  
URL:https://www.sapelohammockgolfclub.com/event/cocktails-sunsets-80/2027-10-29/
CATEGORIES:Event
END:VEVENT
BEGIN:VEVENT
DTSTART;TZID=America/New_York:20271105T173000
DTEND;TZID=America/New_York:20271105T200000
DTSTAMP:20260420T015254
CREATED:20250801T170518Z
LAST-MODIFIED:20250801T170518Z
UID:10001529-1825435800-1825444800@www.sapelohammockgolfclub.com
SUMMARY:Cocktails & Sunsets
DESCRIPTION:Cocktails & Sunsets 5:30 pm – 8:00 pm  
URL:https://www.sapelohammockgolfclub.com/event/cocktails-sunsets-80/2027-11-05/
CATEGORIES:Event
END:VEVENT
BEGIN:VEVENT
DTSTART;TZID=America/New_York:20271112T173000
DTEND;TZID=America/New_York:20271112T200000
DTSTAMP:20260420T015254
CREATED:20250801T170518Z
LAST-MODIFIED:20250801T170518Z
UID:10001530-1826040600-1826049600@www.sapelohammockgolfclub.com
SUMMARY:Cocktails & Sunsets
DESCRIPTION:Cocktails & Sunsets 5:30 pm – 8:00 pm  
URL:https://www.sapelohammockgolfclub.com/event/cocktails-sunsets-80/2027-11-12/
CATEGORIES:Event
END:VEVENT
BEGIN:VEVENT
DTSTART;TZID=America/New_York:20271119T173000
DTEND;TZID=America/New_York:20271119T200000
DTSTAMP:20260420T015254
CREATED:20250801T170518Z
LAST-MODIFIED:20250801T170518Z
UID:10001531-1826645400-1826654400@www.sapelohammockgolfclub.com
SUMMARY:Cocktails & Sunsets
DESCRIPTION:Cocktails & Sunsets 5:30 pm – 8:00 pm  
URL:https://www.sapelohammockgolfclub.com/event/cocktails-sunsets-80/2027-11-19/
CATEGORIES:Event
END:VEVENT
BEGIN:VEVENT
DTSTART;TZID=America/New_York:20271126T173000
DTEND;TZID=America/New_York:20271126T200000
DTSTAMP:20260420T015254
CREATED:20250801T170518Z
LAST-MODIFIED:20250801T170518Z
UID:10001532-1827250200-1827259200@www.sapelohammockgolfclub.com
SUMMARY:Cocktails & Sunsets
DESCRIPTION:Cocktails & Sunsets 5:30 pm – 8:00 pm  
URL:https://www.sapelohammockgolfclub.com/event/cocktails-sunsets-80/2027-11-26/
CATEGORIES:Event
END:VEVENT
BEGIN:VEVENT
DTSTART;TZID=America/New_York:20271203T173000
DTEND;TZID=America/New_York:20271203T200000
DTSTAMP:20260420T015254
CREATED:20250801T170518Z
LAST-MODIFIED:20250801T170518Z
UID:10001533-1827855000-1827864000@www.sapelohammockgolfclub.com
SUMMARY:Cocktails & Sunsets
DESCRIPTION:Cocktails & Sunsets 5:30 pm – 8:00 pm  
URL:https://www.sapelohammockgolfclub.com/event/cocktails-sunsets-80/2027-12-03/
CATEGORIES:Event
END:VEVENT
BEGIN:VEVENT
DTSTART;TZID=America/New_York:20271210T173000
DTEND;TZID=America/New_York:20271210T200000
DTSTAMP:20260420T015254
CREATED:20250801T170518Z
LAST-MODIFIED:20250801T170518Z
UID:10001534-1828459800-1828468800@www.sapelohammockgolfclub.com
SUMMARY:Cocktails & Sunsets
DESCRIPTION:Cocktails & Sunsets 5:30 pm – 8:00 pm  
URL:https://www.sapelohammockgolfclub.com/event/cocktails-sunsets-80/2027-12-10/
CATEGORIES:Event
END:VEVENT
BEGIN:VEVENT
DTSTART;TZID=America/New_York:20271217T173000
DTEND;TZID=America/New_York:20271217T200000
DTSTAMP:20260420T015254
CREATED:20250801T170518Z
LAST-MODIFIED:20250801T170518Z
UID:10001535-1829064600-1829073600@www.sapelohammockgolfclub.com
SUMMARY:Cocktails & Sunsets
DESCRIPTION:Cocktails & Sunsets 5:30 pm – 8:00 pm  
URL:https://www.sapelohammockgolfclub.com/event/cocktails-sunsets-80/2027-12-17/
CATEGORIES:Event
END:VEVENT
BEGIN:VEVENT
DTSTART;TZID=America/New_York:20271224T173000
DTEND;TZID=America/New_York:20271224T200000
DTSTAMP:20260420T015254
CREATED:20250801T170518Z
LAST-MODIFIED:20250801T170518Z
UID:10001536-1829669400-1829678400@www.sapelohammockgolfclub.com
SUMMARY:Cocktails & Sunsets
DESCRIPTION:Cocktails & Sunsets 5:30 pm – 8:00 pm  
URL:https://www.sapelohammockgolfclub.com/event/cocktails-sunsets-80/2027-12-24/
CATEGORIES:Event
END:VEVENT
BEGIN:VEVENT
DTSTART;TZID=America/New_York:20271231T173000
DTEND;TZID=America/New_York:20271231T200000
DTSTAMP:20260420T015254
CREATED:20250801T170518Z
LAST-MODIFIED:20250801T170518Z
UID:10001537-1830274200-1830283200@www.sapelohammockgolfclub.com
SUMMARY:Cocktails & Sunsets
DESCRIPTION:Cocktails & Sunsets 5:30 pm – 8:00 pm  
URL:https://www.sapelohammockgolfclub.com/event/cocktails-sunsets-80/2027-12-31/
CATEGORIES:Event
END:VEVENT
BEGIN:VEVENT
DTSTART;TZID=America/New_York:20280107T173000
DTEND;TZID=America/New_York:20280107T200000
DTSTAMP:20260420T015254
CREATED:20250801T170518Z
LAST-MODIFIED:20250801T170518Z
UID:10001538-1830879000-1830888000@www.sapelohammockgolfclub.com
SUMMARY:Cocktails & Sunsets
DESCRIPTION:Cocktails & Sunsets 5:30 pm – 8:00 pm  
URL:https://www.sapelohammockgolfclub.com/event/cocktails-sunsets-80/2028-01-07/
CATEGORIES:Event
END:VEVENT
BEGIN:VEVENT
DTSTART;TZID=America/New_York:20280114T173000
DTEND;TZID=America/New_York:20280114T200000
DTSTAMP:20260420T015254
CREATED:20250801T170518Z
LAST-MODIFIED:20250801T170518Z
UID:10001539-1831483800-1831492800@www.sapelohammockgolfclub.com
SUMMARY:Cocktails & Sunsets
DESCRIPTION:Cocktails & Sunsets 5:30 pm – 8:00 pm  
URL:https://www.sapelohammockgolfclub.com/event/cocktails-sunsets-80/2028-01-14/
CATEGORIES:Event
END:VEVENT
END:VCALENDAR