BEGIN:VCALENDAR
VERSION:2.0
PRODID:-//Sapelo Hammock Golf Club - ECPv6.15.18//NONSGML v1.0//EN
CALSCALE:GREGORIAN
METHOD:PUBLISH
X-WR-CALNAME:Sapelo Hammock Golf Club
X-ORIGINAL-URL:https://www.sapelohammockgolfclub.com
X-WR-CALDESC:Events for Sapelo Hammock Golf Club
REFRESH-INTERVAL;VALUE=DURATION:PT1H
X-Robots-Tag:noindex
X-PUBLISHED-TTL:PT1H
BEGIN:VTIMEZONE
TZID:America/New_York
BEGIN:DAYLIGHT
TZOFFSETFROM:-0500
TZOFFSETTO:-0400
TZNAME:EDT
DTSTART:20290311T070000
END:DAYLIGHT
BEGIN:STANDARD
TZOFFSETFROM:-0400
TZOFFSETTO:-0500
TZNAME:EST
DTSTART:20291104T060000
END:STANDARD
BEGIN:DAYLIGHT
TZOFFSETFROM:-0500
TZOFFSETTO:-0400
TZNAME:EDT
DTSTART:20300310T070000
END:DAYLIGHT
BEGIN:STANDARD
TZOFFSETFROM:-0400
TZOFFSETTO:-0500
TZNAME:EST
DTSTART:20301103T060000
END:STANDARD
BEGIN:DAYLIGHT
TZOFFSETFROM:-0500
TZOFFSETTO:-0400
TZNAME:EDT
DTSTART:20310309T070000
END:DAYLIGHT
BEGIN:STANDARD
TZOFFSETFROM:-0400
TZOFFSETTO:-0500
TZNAME:EST
DTSTART:20311102T060000
END:STANDARD
BEGIN:DAYLIGHT
TZOFFSETFROM:-0500
TZOFFSETTO:-0400
TZNAME:EDT
DTSTART:20320314T070000
END:DAYLIGHT
BEGIN:STANDARD
TZOFFSETFROM:-0400
TZOFFSETTO:-0500
TZNAME:EST
DTSTART:20321107T060000
END:STANDARD
END:VTIMEZONE
BEGIN:VEVENT
DTSTART;TZID=America/New_York:20300816T173000
DTEND;TZID=America/New_York:20300816T200000
DTSTAMP:20260420T213327
CREATED:20250801T170518Z
LAST-MODIFIED:20250801T170518Z
UID:10001703-1913131800-1913140800@www.sapelohammockgolfclub.com
SUMMARY:Cocktails & Sunsets
DESCRIPTION:Cocktails & Sunsets 5:30 pm – 8:00 pm  
URL:https://www.sapelohammockgolfclub.com/event/cocktails-sunsets-80/2030-08-16/
CATEGORIES:Event
END:VEVENT
BEGIN:VEVENT
DTSTART;TZID=America/New_York:20300823T173000
DTEND;TZID=America/New_York:20300823T200000
DTSTAMP:20260420T213327
CREATED:20250801T170518Z
LAST-MODIFIED:20250801T170518Z
UID:10001704-1913736600-1913745600@www.sapelohammockgolfclub.com
SUMMARY:Cocktails & Sunsets
DESCRIPTION:Cocktails & Sunsets 5:30 pm – 8:00 pm  
URL:https://www.sapelohammockgolfclub.com/event/cocktails-sunsets-80/2030-08-23/
CATEGORIES:Event
END:VEVENT
BEGIN:VEVENT
DTSTART;TZID=America/New_York:20300830T173000
DTEND;TZID=America/New_York:20300830T200000
DTSTAMP:20260420T213327
CREATED:20250801T170518Z
LAST-MODIFIED:20250801T170518Z
UID:10001705-1914341400-1914350400@www.sapelohammockgolfclub.com
SUMMARY:Cocktails & Sunsets
DESCRIPTION:Cocktails & Sunsets 5:30 pm – 8:00 pm  
URL:https://www.sapelohammockgolfclub.com/event/cocktails-sunsets-80/2030-08-30/
CATEGORIES:Event
END:VEVENT
BEGIN:VEVENT
DTSTART;TZID=America/New_York:20300906T173000
DTEND;TZID=America/New_York:20300906T200000
DTSTAMP:20260420T213327
CREATED:20250801T170518Z
LAST-MODIFIED:20250801T170518Z
UID:10001706-1914946200-1914955200@www.sapelohammockgolfclub.com
SUMMARY:Cocktails & Sunsets
DESCRIPTION:Cocktails & Sunsets 5:30 pm – 8:00 pm  
URL:https://www.sapelohammockgolfclub.com/event/cocktails-sunsets-80/2030-09-06/
CATEGORIES:Event
END:VEVENT
BEGIN:VEVENT
DTSTART;TZID=America/New_York:20300913T173000
DTEND;TZID=America/New_York:20300913T200000
DTSTAMP:20260420T213327
CREATED:20250801T170518Z
LAST-MODIFIED:20250801T170518Z
UID:10001707-1915551000-1915560000@www.sapelohammockgolfclub.com
SUMMARY:Cocktails & Sunsets
DESCRIPTION:Cocktails & Sunsets 5:30 pm – 8:00 pm  
URL:https://www.sapelohammockgolfclub.com/event/cocktails-sunsets-80/2030-09-13/
CATEGORIES:Event
END:VEVENT
BEGIN:VEVENT
DTSTART;TZID=America/New_York:20300920T173000
DTEND;TZID=America/New_York:20300920T200000
DTSTAMP:20260420T213327
CREATED:20250801T170518Z
LAST-MODIFIED:20250801T170518Z
UID:10001708-1916155800-1916164800@www.sapelohammockgolfclub.com
SUMMARY:Cocktails & Sunsets
DESCRIPTION:Cocktails & Sunsets 5:30 pm – 8:00 pm  
URL:https://www.sapelohammockgolfclub.com/event/cocktails-sunsets-80/2030-09-20/
CATEGORIES:Event
END:VEVENT
BEGIN:VEVENT
DTSTART;TZID=America/New_York:20300927T173000
DTEND;TZID=America/New_York:20300927T200000
DTSTAMP:20260420T213327
CREATED:20250801T170518Z
LAST-MODIFIED:20250801T170518Z
UID:10001709-1916760600-1916769600@www.sapelohammockgolfclub.com
SUMMARY:Cocktails & Sunsets
DESCRIPTION:Cocktails & Sunsets 5:30 pm – 8:00 pm  
URL:https://www.sapelohammockgolfclub.com/event/cocktails-sunsets-80/2030-09-27/
CATEGORIES:Event
END:VEVENT
BEGIN:VEVENT
DTSTART;TZID=America/New_York:20301004T173000
DTEND;TZID=America/New_York:20301004T200000
DTSTAMP:20260420T213327
CREATED:20250801T170518Z
LAST-MODIFIED:20250801T170518Z
UID:10001710-1917365400-1917374400@www.sapelohammockgolfclub.com
SUMMARY:Cocktails & Sunsets
DESCRIPTION:Cocktails & Sunsets 5:30 pm – 8:00 pm  
URL:https://www.sapelohammockgolfclub.com/event/cocktails-sunsets-80/2030-10-04/
CATEGORIES:Event
END:VEVENT
BEGIN:VEVENT
DTSTART;TZID=America/New_York:20301011T173000
DTEND;TZID=America/New_York:20301011T200000
DTSTAMP:20260420T213327
CREATED:20250801T170518Z
LAST-MODIFIED:20250801T170518Z
UID:10001711-1917970200-1917979200@www.sapelohammockgolfclub.com
SUMMARY:Cocktails & Sunsets
DESCRIPTION:Cocktails & Sunsets 5:30 pm – 8:00 pm  
URL:https://www.sapelohammockgolfclub.com/event/cocktails-sunsets-80/2030-10-11/
CATEGORIES:Event
END:VEVENT
BEGIN:VEVENT
DTSTART;TZID=America/New_York:20301018T173000
DTEND;TZID=America/New_York:20301018T200000
DTSTAMP:20260420T213327
CREATED:20250801T170518Z
LAST-MODIFIED:20250801T170518Z
UID:10001712-1918575000-1918584000@www.sapelohammockgolfclub.com
SUMMARY:Cocktails & Sunsets
DESCRIPTION:Cocktails & Sunsets 5:30 pm – 8:00 pm  
URL:https://www.sapelohammockgolfclub.com/event/cocktails-sunsets-80/2030-10-18/
CATEGORIES:Event
END:VEVENT
BEGIN:VEVENT
DTSTART;TZID=America/New_York:20301025T173000
DTEND;TZID=America/New_York:20301025T200000
DTSTAMP:20260420T213327
CREATED:20250801T170518Z
LAST-MODIFIED:20250801T170518Z
UID:10001713-1919179800-1919188800@www.sapelohammockgolfclub.com
SUMMARY:Cocktails & Sunsets
DESCRIPTION:Cocktails & Sunsets 5:30 pm – 8:00 pm  
URL:https://www.sapelohammockgolfclub.com/event/cocktails-sunsets-80/2030-10-25/
CATEGORIES:Event
END:VEVENT
BEGIN:VEVENT
DTSTART;TZID=America/New_York:20301101T173000
DTEND;TZID=America/New_York:20301101T200000
DTSTAMP:20260420T213327
CREATED:20250801T170518Z
LAST-MODIFIED:20250801T170518Z
UID:10001741-1919784600-1919793600@www.sapelohammockgolfclub.com
SUMMARY:Cocktails & Sunsets
DESCRIPTION:Cocktails & Sunsets 5:30 pm – 8:00 pm  
URL:https://www.sapelohammockgolfclub.com/event/cocktails-sunsets-80/2030-11-01/
CATEGORIES:Event
END:VEVENT
BEGIN:VEVENT
DTSTART;TZID=America/New_York:20301108T173000
DTEND;TZID=America/New_York:20301108T200000
DTSTAMP:20260420T213327
CREATED:20250801T170518Z
LAST-MODIFIED:20250801T170518Z
UID:10001742-1920389400-1920398400@www.sapelohammockgolfclub.com
SUMMARY:Cocktails & Sunsets
DESCRIPTION:Cocktails & Sunsets 5:30 pm – 8:00 pm  
URL:https://www.sapelohammockgolfclub.com/event/cocktails-sunsets-80/2030-11-08/
CATEGORIES:Event
END:VEVENT
BEGIN:VEVENT
DTSTART;TZID=America/New_York:20301115T173000
DTEND;TZID=America/New_York:20301115T200000
DTSTAMP:20260420T213327
CREATED:20250801T170518Z
LAST-MODIFIED:20250801T170518Z
UID:10001743-1920994200-1921003200@www.sapelohammockgolfclub.com
SUMMARY:Cocktails & Sunsets
DESCRIPTION:Cocktails & Sunsets 5:30 pm – 8:00 pm  
URL:https://www.sapelohammockgolfclub.com/event/cocktails-sunsets-80/2030-11-15/
CATEGORIES:Event
END:VEVENT
BEGIN:VEVENT
DTSTART;TZID=America/New_York:20301122T173000
DTEND;TZID=America/New_York:20301122T200000
DTSTAMP:20260420T213327
CREATED:20250801T170518Z
LAST-MODIFIED:20250801T170518Z
UID:10001744-1921599000-1921608000@www.sapelohammockgolfclub.com
SUMMARY:Cocktails & Sunsets
DESCRIPTION:Cocktails & Sunsets 5:30 pm – 8:00 pm  
URL:https://www.sapelohammockgolfclub.com/event/cocktails-sunsets-80/2030-11-22/
CATEGORIES:Event
END:VEVENT
BEGIN:VEVENT
DTSTART;TZID=America/New_York:20301129T173000
DTEND;TZID=America/New_York:20301129T200000
DTSTAMP:20260420T213327
CREATED:20250801T170518Z
LAST-MODIFIED:20250801T170518Z
UID:10001745-1922203800-1922212800@www.sapelohammockgolfclub.com
SUMMARY:Cocktails & Sunsets
DESCRIPTION:Cocktails & Sunsets 5:30 pm – 8:00 pm  
URL:https://www.sapelohammockgolfclub.com/event/cocktails-sunsets-80/2030-11-29/
CATEGORIES:Event
END:VEVENT
BEGIN:VEVENT
DTSTART;TZID=America/New_York:20301206T173000
DTEND;TZID=America/New_York:20301206T200000
DTSTAMP:20260420T213327
CREATED:20250801T170518Z
LAST-MODIFIED:20250801T170518Z
UID:10001746-1922808600-1922817600@www.sapelohammockgolfclub.com
SUMMARY:Cocktails & Sunsets
DESCRIPTION:Cocktails & Sunsets 5:30 pm – 8:00 pm  
URL:https://www.sapelohammockgolfclub.com/event/cocktails-sunsets-80/2030-12-06/
CATEGORIES:Event
END:VEVENT
BEGIN:VEVENT
DTSTART;TZID=America/New_York:20301213T173000
DTEND;TZID=America/New_York:20301213T200000
DTSTAMP:20260420T213327
CREATED:20250801T170518Z
LAST-MODIFIED:20250801T170518Z
UID:10001747-1923413400-1923422400@www.sapelohammockgolfclub.com
SUMMARY:Cocktails & Sunsets
DESCRIPTION:Cocktails & Sunsets 5:30 pm – 8:00 pm  
URL:https://www.sapelohammockgolfclub.com/event/cocktails-sunsets-80/2030-12-13/
CATEGORIES:Event
END:VEVENT
BEGIN:VEVENT
DTSTART;TZID=America/New_York:20301220T173000
DTEND;TZID=America/New_York:20301220T200000
DTSTAMP:20260420T213327
CREATED:20250801T170518Z
LAST-MODIFIED:20250801T170518Z
UID:10001748-1924018200-1924027200@www.sapelohammockgolfclub.com
SUMMARY:Cocktails & Sunsets
DESCRIPTION:Cocktails & Sunsets 5:30 pm – 8:00 pm  
URL:https://www.sapelohammockgolfclub.com/event/cocktails-sunsets-80/2030-12-20/
CATEGORIES:Event
END:VEVENT
BEGIN:VEVENT
DTSTART;TZID=America/New_York:20301227T173000
DTEND;TZID=America/New_York:20301227T200000
DTSTAMP:20260420T213327
CREATED:20250801T170518Z
LAST-MODIFIED:20250801T170518Z
UID:10001749-1924623000-1924632000@www.sapelohammockgolfclub.com
SUMMARY:Cocktails & Sunsets
DESCRIPTION:Cocktails & Sunsets 5:30 pm – 8:00 pm  
URL:https://www.sapelohammockgolfclub.com/event/cocktails-sunsets-80/2030-12-27/
CATEGORIES:Event
END:VEVENT
BEGIN:VEVENT
DTSTART;TZID=America/New_York:20310103T173000
DTEND;TZID=America/New_York:20310103T200000
DTSTAMP:20260420T213327
CREATED:20250801T170518Z
LAST-MODIFIED:20250801T170518Z
UID:10001750-1925227800-1925236800@www.sapelohammockgolfclub.com
SUMMARY:Cocktails & Sunsets
DESCRIPTION:Cocktails & Sunsets 5:30 pm – 8:00 pm  
URL:https://www.sapelohammockgolfclub.com/event/cocktails-sunsets-80/2031-01-03/
CATEGORIES:Event
END:VEVENT
BEGIN:VEVENT
DTSTART;TZID=America/New_York:20310110T173000
DTEND;TZID=America/New_York:20310110T200000
DTSTAMP:20260420T213327
CREATED:20250801T170518Z
LAST-MODIFIED:20250801T170518Z
UID:10001751-1925832600-1925841600@www.sapelohammockgolfclub.com
SUMMARY:Cocktails & Sunsets
DESCRIPTION:Cocktails & Sunsets 5:30 pm – 8:00 pm  
URL:https://www.sapelohammockgolfclub.com/event/cocktails-sunsets-80/2031-01-10/
CATEGORIES:Event
END:VEVENT
BEGIN:VEVENT
DTSTART;TZID=America/New_York:20310117T173000
DTEND;TZID=America/New_York:20310117T200000
DTSTAMP:20260420T213327
CREATED:20250801T170518Z
LAST-MODIFIED:20250801T170518Z
UID:10001752-1926437400-1926446400@www.sapelohammockgolfclub.com
SUMMARY:Cocktails & Sunsets
DESCRIPTION:Cocktails & Sunsets 5:30 pm – 8:00 pm  
URL:https://www.sapelohammockgolfclub.com/event/cocktails-sunsets-80/2031-01-17/
CATEGORIES:Event
END:VEVENT
BEGIN:VEVENT
DTSTART;TZID=America/New_York:20310124T173000
DTEND;TZID=America/New_York:20310124T200000
DTSTAMP:20260420T213327
CREATED:20250801T170518Z
LAST-MODIFIED:20250801T170518Z
UID:10001753-1927042200-1927051200@www.sapelohammockgolfclub.com
SUMMARY:Cocktails & Sunsets
DESCRIPTION:Cocktails & Sunsets 5:30 pm – 8:00 pm  
URL:https://www.sapelohammockgolfclub.com/event/cocktails-sunsets-80/2031-01-24/
CATEGORIES:Event
END:VEVENT
BEGIN:VEVENT
DTSTART;TZID=America/New_York:20310131T173000
DTEND;TZID=America/New_York:20310131T200000
DTSTAMP:20260420T213327
CREATED:20250801T170518Z
LAST-MODIFIED:20250801T170518Z
UID:10001754-1927647000-1927656000@www.sapelohammockgolfclub.com
SUMMARY:Cocktails & Sunsets
DESCRIPTION:Cocktails & Sunsets 5:30 pm – 8:00 pm  
URL:https://www.sapelohammockgolfclub.com/event/cocktails-sunsets-80/2031-01-31/
CATEGORIES:Event
END:VEVENT
BEGIN:VEVENT
DTSTART;TZID=America/New_York:20310207T173000
DTEND;TZID=America/New_York:20310207T200000
DTSTAMP:20260420T213327
CREATED:20250801T170518Z
LAST-MODIFIED:20250801T170518Z
UID:10001755-1928251800-1928260800@www.sapelohammockgolfclub.com
SUMMARY:Cocktails & Sunsets
DESCRIPTION:Cocktails & Sunsets 5:30 pm – 8:00 pm  
URL:https://www.sapelohammockgolfclub.com/event/cocktails-sunsets-80/2031-02-07/
CATEGORIES:Event
END:VEVENT
BEGIN:VEVENT
DTSTART;TZID=America/New_York:20310214T173000
DTEND;TZID=America/New_York:20310214T200000
DTSTAMP:20260420T213327
CREATED:20250801T170518Z
LAST-MODIFIED:20250801T170518Z
UID:10001756-1928856600-1928865600@www.sapelohammockgolfclub.com
SUMMARY:Cocktails & Sunsets
DESCRIPTION:Cocktails & Sunsets 5:30 pm – 8:00 pm  
URL:https://www.sapelohammockgolfclub.com/event/cocktails-sunsets-80/2031-02-14/
CATEGORIES:Event
END:VEVENT
BEGIN:VEVENT
DTSTART;TZID=America/New_York:20310221T173000
DTEND;TZID=America/New_York:20310221T200000
DTSTAMP:20260420T213327
CREATED:20250801T170518Z
LAST-MODIFIED:20250801T170518Z
UID:10001757-1929461400-1929470400@www.sapelohammockgolfclub.com
SUMMARY:Cocktails & Sunsets
DESCRIPTION:Cocktails & Sunsets 5:30 pm – 8:00 pm  
URL:https://www.sapelohammockgolfclub.com/event/cocktails-sunsets-80/2031-02-21/
CATEGORIES:Event
END:VEVENT
BEGIN:VEVENT
DTSTART;TZID=America/New_York:20310228T173000
DTEND;TZID=America/New_York:20310228T200000
DTSTAMP:20260420T213327
CREATED:20250801T170518Z
LAST-MODIFIED:20250801T170518Z
UID:10001758-1930066200-1930075200@www.sapelohammockgolfclub.com
SUMMARY:Cocktails & Sunsets
DESCRIPTION:Cocktails & Sunsets 5:30 pm – 8:00 pm  
URL:https://www.sapelohammockgolfclub.com/event/cocktails-sunsets-80/2031-02-28/
CATEGORIES:Event
END:VEVENT
BEGIN:VEVENT
DTSTART;TZID=America/New_York:20310307T173000
DTEND;TZID=America/New_York:20310307T200000
DTSTAMP:20260420T213327
CREATED:20250801T170518Z
LAST-MODIFIED:20250801T170518Z
UID:10001759-1930671000-1930680000@www.sapelohammockgolfclub.com
SUMMARY:Cocktails & Sunsets
DESCRIPTION:Cocktails & Sunsets 5:30 pm – 8:00 pm  
URL:https://www.sapelohammockgolfclub.com/event/cocktails-sunsets-80/2031-03-07/
CATEGORIES:Event
END:VEVENT
END:VCALENDAR