BEGIN:VCALENDAR
VERSION:2.0
PRODID:-//Sapelo Hammock Golf Club - ECPv6.15.18//NONSGML v1.0//EN
CALSCALE:GREGORIAN
METHOD:PUBLISH
X-WR-CALNAME:Sapelo Hammock Golf Club
X-ORIGINAL-URL:https://www.sapelohammockgolfclub.com
X-WR-CALDESC:Events for Sapelo Hammock Golf Club
REFRESH-INTERVAL;VALUE=DURATION:PT1H
X-Robots-Tag:noindex
X-PUBLISHED-TTL:PT1H
BEGIN:VTIMEZONE
TZID:America/New_York
BEGIN:DAYLIGHT
TZOFFSETFROM:-0500
TZOFFSETTO:-0400
TZNAME:EDT
DTSTART:20270314T070000
END:DAYLIGHT
BEGIN:STANDARD
TZOFFSETFROM:-0400
TZOFFSETTO:-0500
TZNAME:EST
DTSTART:20271107T060000
END:STANDARD
BEGIN:DAYLIGHT
TZOFFSETFROM:-0500
TZOFFSETTO:-0400
TZNAME:EDT
DTSTART:20280312T070000
END:DAYLIGHT
BEGIN:STANDARD
TZOFFSETFROM:-0400
TZOFFSETTO:-0500
TZNAME:EST
DTSTART:20281105T060000
END:STANDARD
BEGIN:DAYLIGHT
TZOFFSETFROM:-0500
TZOFFSETTO:-0400
TZNAME:EDT
DTSTART:20290311T070000
END:DAYLIGHT
BEGIN:STANDARD
TZOFFSETFROM:-0400
TZOFFSETTO:-0500
TZNAME:EST
DTSTART:20291104T060000
END:STANDARD
BEGIN:DAYLIGHT
TZOFFSETFROM:-0500
TZOFFSETTO:-0400
TZNAME:EDT
DTSTART:20300310T070000
END:DAYLIGHT
BEGIN:STANDARD
TZOFFSETFROM:-0400
TZOFFSETTO:-0500
TZNAME:EST
DTSTART:20301103T060000
END:STANDARD
END:VTIMEZONE
BEGIN:VEVENT
DTSTART;TZID=America/New_York:20280728T173000
DTEND;TZID=America/New_York:20280728T200000
DTSTAMP:20260419T235007
CREATED:20250801T170518Z
LAST-MODIFIED:20250801T170518Z
UID:10001567-1848418200-1848427200@www.sapelohammockgolfclub.com
SUMMARY:Cocktails & Sunsets
DESCRIPTION:Cocktails & Sunsets 5:30 pm – 8:00 pm  
URL:https://www.sapelohammockgolfclub.com/event/cocktails-sunsets-80/2028-07-28/
CATEGORIES:Event
END:VEVENT
BEGIN:VEVENT
DTSTART;TZID=America/New_York:20280804T173000
DTEND;TZID=America/New_York:20280804T200000
DTSTAMP:20260419T235007
CREATED:20250801T170518Z
LAST-MODIFIED:20250801T170518Z
UID:10001568-1849023000-1849032000@www.sapelohammockgolfclub.com
SUMMARY:Cocktails & Sunsets
DESCRIPTION:Cocktails & Sunsets 5:30 pm – 8:00 pm  
URL:https://www.sapelohammockgolfclub.com/event/cocktails-sunsets-80/2028-08-04/
CATEGORIES:Event
END:VEVENT
BEGIN:VEVENT
DTSTART;TZID=America/New_York:20280811T173000
DTEND;TZID=America/New_York:20280811T200000
DTSTAMP:20260419T235007
CREATED:20250801T170518Z
LAST-MODIFIED:20250801T170518Z
UID:10001569-1849627800-1849636800@www.sapelohammockgolfclub.com
SUMMARY:Cocktails & Sunsets
DESCRIPTION:Cocktails & Sunsets 5:30 pm – 8:00 pm  
URL:https://www.sapelohammockgolfclub.com/event/cocktails-sunsets-80/2028-08-11/
CATEGORIES:Event
END:VEVENT
BEGIN:VEVENT
DTSTART;TZID=America/New_York:20280818T173000
DTEND;TZID=America/New_York:20280818T200000
DTSTAMP:20260419T235007
CREATED:20250801T170518Z
LAST-MODIFIED:20250801T170518Z
UID:10001570-1850232600-1850241600@www.sapelohammockgolfclub.com
SUMMARY:Cocktails & Sunsets
DESCRIPTION:Cocktails & Sunsets 5:30 pm – 8:00 pm  
URL:https://www.sapelohammockgolfclub.com/event/cocktails-sunsets-80/2028-08-18/
CATEGORIES:Event
END:VEVENT
BEGIN:VEVENT
DTSTART;TZID=America/New_York:20280825T173000
DTEND;TZID=America/New_York:20280825T200000
DTSTAMP:20260419T235007
CREATED:20250801T170518Z
LAST-MODIFIED:20250801T170518Z
UID:10001571-1850837400-1850846400@www.sapelohammockgolfclub.com
SUMMARY:Cocktails & Sunsets
DESCRIPTION:Cocktails & Sunsets 5:30 pm – 8:00 pm  
URL:https://www.sapelohammockgolfclub.com/event/cocktails-sunsets-80/2028-08-25/
CATEGORIES:Event
END:VEVENT
BEGIN:VEVENT
DTSTART;TZID=America/New_York:20280901T173000
DTEND;TZID=America/New_York:20280901T200000
DTSTAMP:20260419T235007
CREATED:20250801T170518Z
LAST-MODIFIED:20250801T170518Z
UID:10001572-1851442200-1851451200@www.sapelohammockgolfclub.com
SUMMARY:Cocktails & Sunsets
DESCRIPTION:Cocktails & Sunsets 5:30 pm – 8:00 pm  
URL:https://www.sapelohammockgolfclub.com/event/cocktails-sunsets-80/2028-09-01/
CATEGORIES:Event
END:VEVENT
BEGIN:VEVENT
DTSTART;TZID=America/New_York:20280908T173000
DTEND;TZID=America/New_York:20280908T200000
DTSTAMP:20260419T235007
CREATED:20250801T170518Z
LAST-MODIFIED:20250801T170518Z
UID:10001573-1852047000-1852056000@www.sapelohammockgolfclub.com
SUMMARY:Cocktails & Sunsets
DESCRIPTION:Cocktails & Sunsets 5:30 pm – 8:00 pm  
URL:https://www.sapelohammockgolfclub.com/event/cocktails-sunsets-80/2028-09-08/
CATEGORIES:Event
END:VEVENT
BEGIN:VEVENT
DTSTART;TZID=America/New_York:20280915T173000
DTEND;TZID=America/New_York:20280915T200000
DTSTAMP:20260419T235007
CREATED:20250801T170518Z
LAST-MODIFIED:20250801T170518Z
UID:10001574-1852651800-1852660800@www.sapelohammockgolfclub.com
SUMMARY:Cocktails & Sunsets
DESCRIPTION:Cocktails & Sunsets 5:30 pm – 8:00 pm  
URL:https://www.sapelohammockgolfclub.com/event/cocktails-sunsets-80/2028-09-15/
CATEGORIES:Event
END:VEVENT
BEGIN:VEVENT
DTSTART;TZID=America/New_York:20280922T173000
DTEND;TZID=America/New_York:20280922T200000
DTSTAMP:20260419T235007
CREATED:20250801T170518Z
LAST-MODIFIED:20250801T170518Z
UID:10001575-1853256600-1853265600@www.sapelohammockgolfclub.com
SUMMARY:Cocktails & Sunsets
DESCRIPTION:Cocktails & Sunsets 5:30 pm – 8:00 pm  
URL:https://www.sapelohammockgolfclub.com/event/cocktails-sunsets-80/2028-09-22/
CATEGORIES:Event
END:VEVENT
BEGIN:VEVENT
DTSTART;TZID=America/New_York:20280929T173000
DTEND;TZID=America/New_York:20280929T200000
DTSTAMP:20260419T235007
CREATED:20250801T170518Z
LAST-MODIFIED:20250801T170518Z
UID:10001576-1853861400-1853870400@www.sapelohammockgolfclub.com
SUMMARY:Cocktails & Sunsets
DESCRIPTION:Cocktails & Sunsets 5:30 pm – 8:00 pm  
URL:https://www.sapelohammockgolfclub.com/event/cocktails-sunsets-80/2028-09-29/
CATEGORIES:Event
END:VEVENT
BEGIN:VEVENT
DTSTART;TZID=America/New_York:20281006T173000
DTEND;TZID=America/New_York:20281006T200000
DTSTAMP:20260419T235007
CREATED:20250801T170518Z
LAST-MODIFIED:20250801T170518Z
UID:10001577-1854466200-1854475200@www.sapelohammockgolfclub.com
SUMMARY:Cocktails & Sunsets
DESCRIPTION:Cocktails & Sunsets 5:30 pm – 8:00 pm  
URL:https://www.sapelohammockgolfclub.com/event/cocktails-sunsets-80/2028-10-06/
CATEGORIES:Event
END:VEVENT
BEGIN:VEVENT
DTSTART;TZID=America/New_York:20281013T173000
DTEND;TZID=America/New_York:20281013T200000
DTSTAMP:20260419T235007
CREATED:20250801T170518Z
LAST-MODIFIED:20250801T170518Z
UID:10001578-1855071000-1855080000@www.sapelohammockgolfclub.com
SUMMARY:Cocktails & Sunsets
DESCRIPTION:Cocktails & Sunsets 5:30 pm – 8:00 pm  
URL:https://www.sapelohammockgolfclub.com/event/cocktails-sunsets-80/2028-10-13/
CATEGORIES:Event
END:VEVENT
BEGIN:VEVENT
DTSTART;TZID=America/New_York:20281020T173000
DTEND;TZID=America/New_York:20281020T200000
DTSTAMP:20260419T235007
CREATED:20250801T170518Z
LAST-MODIFIED:20250801T170518Z
UID:10001579-1855675800-1855684800@www.sapelohammockgolfclub.com
SUMMARY:Cocktails & Sunsets
DESCRIPTION:Cocktails & Sunsets 5:30 pm – 8:00 pm  
URL:https://www.sapelohammockgolfclub.com/event/cocktails-sunsets-80/2028-10-20/
CATEGORIES:Event
END:VEVENT
BEGIN:VEVENT
DTSTART;TZID=America/New_York:20281027T173000
DTEND;TZID=America/New_York:20281027T200000
DTSTAMP:20260419T235007
CREATED:20250801T170518Z
LAST-MODIFIED:20250801T170518Z
UID:10001580-1856280600-1856289600@www.sapelohammockgolfclub.com
SUMMARY:Cocktails & Sunsets
DESCRIPTION:Cocktails & Sunsets 5:30 pm – 8:00 pm  
URL:https://www.sapelohammockgolfclub.com/event/cocktails-sunsets-80/2028-10-27/
CATEGORIES:Event
END:VEVENT
BEGIN:VEVENT
DTSTART;TZID=America/New_York:20281103T173000
DTEND;TZID=America/New_York:20281103T200000
DTSTAMP:20260419T235007
CREATED:20250801T170518Z
LAST-MODIFIED:20250801T170518Z
UID:10001581-1856885400-1856894400@www.sapelohammockgolfclub.com
SUMMARY:Cocktails & Sunsets
DESCRIPTION:Cocktails & Sunsets 5:30 pm – 8:00 pm  
URL:https://www.sapelohammockgolfclub.com/event/cocktails-sunsets-80/2028-11-03/
CATEGORIES:Event
END:VEVENT
BEGIN:VEVENT
DTSTART;TZID=America/New_York:20281110T173000
DTEND;TZID=America/New_York:20281110T200000
DTSTAMP:20260419T235007
CREATED:20250801T170518Z
LAST-MODIFIED:20250801T170518Z
UID:10001582-1857490200-1857499200@www.sapelohammockgolfclub.com
SUMMARY:Cocktails & Sunsets
DESCRIPTION:Cocktails & Sunsets 5:30 pm – 8:00 pm  
URL:https://www.sapelohammockgolfclub.com/event/cocktails-sunsets-80/2028-11-10/
CATEGORIES:Event
END:VEVENT
BEGIN:VEVENT
DTSTART;TZID=America/New_York:20281117T173000
DTEND;TZID=America/New_York:20281117T200000
DTSTAMP:20260419T235007
CREATED:20250801T170518Z
LAST-MODIFIED:20250801T170518Z
UID:10001583-1858095000-1858104000@www.sapelohammockgolfclub.com
SUMMARY:Cocktails & Sunsets
DESCRIPTION:Cocktails & Sunsets 5:30 pm – 8:00 pm  
URL:https://www.sapelohammockgolfclub.com/event/cocktails-sunsets-80/2028-11-17/
CATEGORIES:Event
END:VEVENT
BEGIN:VEVENT
DTSTART;TZID=America/New_York:20281124T173000
DTEND;TZID=America/New_York:20281124T200000
DTSTAMP:20260419T235007
CREATED:20250801T170518Z
LAST-MODIFIED:20250801T170518Z
UID:10001584-1858699800-1858708800@www.sapelohammockgolfclub.com
SUMMARY:Cocktails & Sunsets
DESCRIPTION:Cocktails & Sunsets 5:30 pm – 8:00 pm  
URL:https://www.sapelohammockgolfclub.com/event/cocktails-sunsets-80/2028-11-24/
CATEGORIES:Event
END:VEVENT
BEGIN:VEVENT
DTSTART;TZID=America/New_York:20281201T173000
DTEND;TZID=America/New_York:20281201T200000
DTSTAMP:20260419T235007
CREATED:20250801T170518Z
LAST-MODIFIED:20250801T170518Z
UID:10001585-1859304600-1859313600@www.sapelohammockgolfclub.com
SUMMARY:Cocktails & Sunsets
DESCRIPTION:Cocktails & Sunsets 5:30 pm – 8:00 pm  
URL:https://www.sapelohammockgolfclub.com/event/cocktails-sunsets-80/2028-12-01/
CATEGORIES:Event
END:VEVENT
BEGIN:VEVENT
DTSTART;TZID=America/New_York:20281208T173000
DTEND;TZID=America/New_York:20281208T200000
DTSTAMP:20260419T235007
CREATED:20250801T170518Z
LAST-MODIFIED:20250801T170518Z
UID:10001586-1859909400-1859918400@www.sapelohammockgolfclub.com
SUMMARY:Cocktails & Sunsets
DESCRIPTION:Cocktails & Sunsets 5:30 pm – 8:00 pm  
URL:https://www.sapelohammockgolfclub.com/event/cocktails-sunsets-80/2028-12-08/
CATEGORIES:Event
END:VEVENT
BEGIN:VEVENT
DTSTART;TZID=America/New_York:20281215T173000
DTEND;TZID=America/New_York:20281215T200000
DTSTAMP:20260419T235007
CREATED:20250801T170518Z
LAST-MODIFIED:20250801T170518Z
UID:10001587-1860514200-1860523200@www.sapelohammockgolfclub.com
SUMMARY:Cocktails & Sunsets
DESCRIPTION:Cocktails & Sunsets 5:30 pm – 8:00 pm  
URL:https://www.sapelohammockgolfclub.com/event/cocktails-sunsets-80/2028-12-15/
CATEGORIES:Event
END:VEVENT
BEGIN:VEVENT
DTSTART;TZID=America/New_York:20281222T173000
DTEND;TZID=America/New_York:20281222T200000
DTSTAMP:20260419T235007
CREATED:20250801T170518Z
LAST-MODIFIED:20250801T170518Z
UID:10001588-1861119000-1861128000@www.sapelohammockgolfclub.com
SUMMARY:Cocktails & Sunsets
DESCRIPTION:Cocktails & Sunsets 5:30 pm – 8:00 pm  
URL:https://www.sapelohammockgolfclub.com/event/cocktails-sunsets-80/2028-12-22/
CATEGORIES:Event
END:VEVENT
BEGIN:VEVENT
DTSTART;TZID=America/New_York:20281229T173000
DTEND;TZID=America/New_York:20281229T200000
DTSTAMP:20260419T235007
CREATED:20250801T170518Z
LAST-MODIFIED:20250801T170518Z
UID:10001589-1861723800-1861732800@www.sapelohammockgolfclub.com
SUMMARY:Cocktails & Sunsets
DESCRIPTION:Cocktails & Sunsets 5:30 pm – 8:00 pm  
URL:https://www.sapelohammockgolfclub.com/event/cocktails-sunsets-80/2028-12-29/
CATEGORIES:Event
END:VEVENT
BEGIN:VEVENT
DTSTART;TZID=America/New_York:20290105T173000
DTEND;TZID=America/New_York:20290105T200000
DTSTAMP:20260419T235007
CREATED:20250801T170518Z
LAST-MODIFIED:20250801T170518Z
UID:10001590-1862328600-1862337600@www.sapelohammockgolfclub.com
SUMMARY:Cocktails & Sunsets
DESCRIPTION:Cocktails & Sunsets 5:30 pm – 8:00 pm  
URL:https://www.sapelohammockgolfclub.com/event/cocktails-sunsets-80/2029-01-05/
CATEGORIES:Event
END:VEVENT
BEGIN:VEVENT
DTSTART;TZID=America/New_York:20290112T173000
DTEND;TZID=America/New_York:20290112T200000
DTSTAMP:20260419T235007
CREATED:20250801T170518Z
LAST-MODIFIED:20250801T170518Z
UID:10001591-1862933400-1862942400@www.sapelohammockgolfclub.com
SUMMARY:Cocktails & Sunsets
DESCRIPTION:Cocktails & Sunsets 5:30 pm – 8:00 pm  
URL:https://www.sapelohammockgolfclub.com/event/cocktails-sunsets-80/2029-01-12/
CATEGORIES:Event
END:VEVENT
BEGIN:VEVENT
DTSTART;TZID=America/New_York:20290119T173000
DTEND;TZID=America/New_York:20290119T200000
DTSTAMP:20260419T235007
CREATED:20250801T170518Z
LAST-MODIFIED:20250801T170518Z
UID:10001592-1863538200-1863547200@www.sapelohammockgolfclub.com
SUMMARY:Cocktails & Sunsets
DESCRIPTION:Cocktails & Sunsets 5:30 pm – 8:00 pm  
URL:https://www.sapelohammockgolfclub.com/event/cocktails-sunsets-80/2029-01-19/
CATEGORIES:Event
END:VEVENT
BEGIN:VEVENT
DTSTART;TZID=America/New_York:20290126T173000
DTEND;TZID=America/New_York:20290126T200000
DTSTAMP:20260419T235007
CREATED:20250801T170518Z
LAST-MODIFIED:20250801T170518Z
UID:10001593-1864143000-1864152000@www.sapelohammockgolfclub.com
SUMMARY:Cocktails & Sunsets
DESCRIPTION:Cocktails & Sunsets 5:30 pm – 8:00 pm  
URL:https://www.sapelohammockgolfclub.com/event/cocktails-sunsets-80/2029-01-26/
CATEGORIES:Event
END:VEVENT
BEGIN:VEVENT
DTSTART;TZID=America/New_York:20290202T173000
DTEND;TZID=America/New_York:20290202T200000
DTSTAMP:20260419T235007
CREATED:20250801T170518Z
LAST-MODIFIED:20250801T170518Z
UID:10001594-1864747800-1864756800@www.sapelohammockgolfclub.com
SUMMARY:Cocktails & Sunsets
DESCRIPTION:Cocktails & Sunsets 5:30 pm – 8:00 pm  
URL:https://www.sapelohammockgolfclub.com/event/cocktails-sunsets-80/2029-02-02/
CATEGORIES:Event
END:VEVENT
BEGIN:VEVENT
DTSTART;TZID=America/New_York:20290209T173000
DTEND;TZID=America/New_York:20290209T200000
DTSTAMP:20260419T235007
CREATED:20250801T170518Z
LAST-MODIFIED:20250801T170518Z
UID:10001595-1865352600-1865361600@www.sapelohammockgolfclub.com
SUMMARY:Cocktails & Sunsets
DESCRIPTION:Cocktails & Sunsets 5:30 pm – 8:00 pm  
URL:https://www.sapelohammockgolfclub.com/event/cocktails-sunsets-80/2029-02-09/
CATEGORIES:Event
END:VEVENT
BEGIN:VEVENT
DTSTART;TZID=America/New_York:20290216T173000
DTEND;TZID=America/New_York:20290216T200000
DTSTAMP:20260419T235007
CREATED:20250801T170518Z
LAST-MODIFIED:20250801T170518Z
UID:10001596-1865957400-1865966400@www.sapelohammockgolfclub.com
SUMMARY:Cocktails & Sunsets
DESCRIPTION:Cocktails & Sunsets 5:30 pm – 8:00 pm  
URL:https://www.sapelohammockgolfclub.com/event/cocktails-sunsets-80/2029-02-16/
CATEGORIES:Event
END:VEVENT
END:VCALENDAR