BEGIN:VCALENDAR
VERSION:2.0
PRODID:-//Sapelo Hammock Golf Club - ECPv6.15.18//NONSGML v1.0//EN
CALSCALE:GREGORIAN
METHOD:PUBLISH
X-ORIGINAL-URL:https://www.sapelohammockgolfclub.com
X-WR-CALDESC:Events for Sapelo Hammock Golf Club
REFRESH-INTERVAL;VALUE=DURATION:PT1H
X-Robots-Tag:noindex
X-PUBLISHED-TTL:PT1H
BEGIN:VTIMEZONE
TZID:America/New_York
BEGIN:DAYLIGHT
TZOFFSETFROM:-0500
TZOFFSETTO:-0400
TZNAME:EDT
DTSTART:20290311T070000
END:DAYLIGHT
BEGIN:STANDARD
TZOFFSETFROM:-0400
TZOFFSETTO:-0500
TZNAME:EST
DTSTART:20291104T060000
END:STANDARD
BEGIN:DAYLIGHT
TZOFFSETFROM:-0500
TZOFFSETTO:-0400
TZNAME:EDT
DTSTART:20300310T070000
END:DAYLIGHT
BEGIN:STANDARD
TZOFFSETFROM:-0400
TZOFFSETTO:-0500
TZNAME:EST
DTSTART:20301103T060000
END:STANDARD
BEGIN:DAYLIGHT
TZOFFSETFROM:-0500
TZOFFSETTO:-0400
TZNAME:EDT
DTSTART:20310309T070000
END:DAYLIGHT
BEGIN:STANDARD
TZOFFSETFROM:-0400
TZOFFSETTO:-0500
TZNAME:EST
DTSTART:20311102T060000
END:STANDARD
END:VTIMEZONE
BEGIN:VEVENT
DTSTART;TZID=America/New_York:20300405T173000
DTEND;TZID=America/New_York:20300405T200000
DTSTAMP:20260422T033458
CREATED:20250801T170518Z
LAST-MODIFIED:20250801T170518Z
UID:10001655-1901640600-1901649600@www.sapelohammockgolfclub.com
SUMMARY:Cocktails & Sunsets
DESCRIPTION:Cocktails & Sunsets 5:30 pm – 8:00 pm  
URL:https://www.sapelohammockgolfclub.com/event/cocktails-sunsets-80/2030-04-05/
CATEGORIES:Event
END:VEVENT
BEGIN:VEVENT
DTSTART;TZID=America/New_York:20300412T173000
DTEND;TZID=America/New_York:20300412T200000
DTSTAMP:20260422T033458
CREATED:20250801T170518Z
LAST-MODIFIED:20250801T170518Z
UID:10001656-1902245400-1902254400@www.sapelohammockgolfclub.com
SUMMARY:Cocktails & Sunsets
DESCRIPTION:Cocktails & Sunsets 5:30 pm – 8:00 pm  
URL:https://www.sapelohammockgolfclub.com/event/cocktails-sunsets-80/2030-04-12/
CATEGORIES:Event
END:VEVENT
BEGIN:VEVENT
DTSTART;TZID=America/New_York:20300419T173000
DTEND;TZID=America/New_York:20300419T200000
DTSTAMP:20260422T033458
CREATED:20250801T170518Z
LAST-MODIFIED:20250801T170518Z
UID:10001657-1902850200-1902859200@www.sapelohammockgolfclub.com
SUMMARY:Cocktails & Sunsets
DESCRIPTION:Cocktails & Sunsets 5:30 pm – 8:00 pm  
URL:https://www.sapelohammockgolfclub.com/event/cocktails-sunsets-80/2030-04-19/
CATEGORIES:Event
END:VEVENT
BEGIN:VEVENT
DTSTART;TZID=America/New_York:20300426T173000
DTEND;TZID=America/New_York:20300426T200000
DTSTAMP:20260422T033458
CREATED:20250801T170518Z
LAST-MODIFIED:20250801T170518Z
UID:10001658-1903455000-1903464000@www.sapelohammockgolfclub.com
SUMMARY:Cocktails & Sunsets
DESCRIPTION:Cocktails & Sunsets 5:30 pm – 8:00 pm  
URL:https://www.sapelohammockgolfclub.com/event/cocktails-sunsets-80/2030-04-26/
CATEGORIES:Event
END:VEVENT
END:VCALENDAR