BEGIN:VCALENDAR
VERSION:2.0
PRODID:-//Sapelo Hammock Golf Club - ECPv6.15.18//NONSGML v1.0//EN
CALSCALE:GREGORIAN
METHOD:PUBLISH
X-WR-CALNAME:Sapelo Hammock Golf Club
X-ORIGINAL-URL:https://www.sapelohammockgolfclub.com
X-WR-CALDESC:Events for Sapelo Hammock Golf Club
REFRESH-INTERVAL;VALUE=DURATION:PT1H
X-Robots-Tag:noindex
X-PUBLISHED-TTL:PT1H
BEGIN:VTIMEZONE
TZID:America/New_York
BEGIN:DAYLIGHT
TZOFFSETFROM:-0500
TZOFFSETTO:-0400
TZNAME:EDT
DTSTART:20240310T070000
END:DAYLIGHT
BEGIN:STANDARD
TZOFFSETFROM:-0400
TZOFFSETTO:-0500
TZNAME:EST
DTSTART:20241103T060000
END:STANDARD
BEGIN:DAYLIGHT
TZOFFSETFROM:-0500
TZOFFSETTO:-0400
TZNAME:EDT
DTSTART:20250309T070000
END:DAYLIGHT
BEGIN:STANDARD
TZOFFSETFROM:-0400
TZOFFSETTO:-0500
TZNAME:EST
DTSTART:20251102T060000
END:STANDARD
BEGIN:DAYLIGHT
TZOFFSETFROM:-0500
TZOFFSETTO:-0400
TZNAME:EDT
DTSTART:20260308T070000
END:DAYLIGHT
BEGIN:STANDARD
TZOFFSETFROM:-0400
TZOFFSETTO:-0500
TZNAME:EST
DTSTART:20261101T060000
END:STANDARD
END:VTIMEZONE
BEGIN:VEVENT
DTSTART;VALUE=DATE:20251201
DTEND;VALUE=DATE:20260101
DTSTAMP:20260421T074928
CREATED:20251030T181835Z
LAST-MODIFIED:20251030T181835Z
UID:10001716-1764547200-1767225599@www.sapelohammockgolfclub.com
SUMMARY:Spin The Wheel for Discounts in Golf Shop
DESCRIPTION:All month long\, Spin The Wheel for Discounts in the Golf Shop
URL:https://www.sapelohammockgolfclub.com/event/spin-the-wheel-for-discounts-in-golf-shop/
CATEGORIES:Event
END:VEVENT
BEGIN:VEVENT
DTSTART;TZID=America/New_York:20251205T173000
DTEND;TZID=America/New_York:20251205T200000
DTSTAMP:20260421T074928
CREATED:20250801T170518Z
LAST-MODIFIED:20250801T170518Z
UID:10001429-1764955800-1764964800@www.sapelohammockgolfclub.com
SUMMARY:Cocktails & Sunsets
DESCRIPTION:Cocktails & Sunsets 5:30 pm – 8:00 pm  
URL:https://www.sapelohammockgolfclub.com/event/cocktails-sunsets-80/2025-12-05/
CATEGORIES:Event
END:VEVENT
BEGIN:VEVENT
DTSTART;TZID=America/New_York:20251211T173000
DTEND;TZID=America/New_York:20251211T183000
DTSTAMP:20260421T074928
CREATED:20251030T182050Z
LAST-MODIFIED:20251030T182050Z
UID:10001717-1765474200-1765477800@www.sapelohammockgolfclub.com
SUMMARY:Sapelo Hammock Christmas Dinner Owners and Members invited
DESCRIPTION:Sapelo Hammock Christmas Dinner Owners and Members invited \n5:30 pm Cocktail \n6:30 pm Dinner
URL:https://www.sapelohammockgolfclub.com/event/sapelo-hammock-christmas-dinner-owners-and-members-invited/
CATEGORIES:Event
END:VEVENT
BEGIN:VEVENT
DTSTART;TZID=America/New_York:20251212T173000
DTEND;TZID=America/New_York:20251212T200000
DTSTAMP:20260421T074928
CREATED:20250801T170518Z
LAST-MODIFIED:20250801T170518Z
UID:10001430-1765560600-1765569600@www.sapelohammockgolfclub.com
SUMMARY:Cocktails & Sunsets
DESCRIPTION:Cocktails & Sunsets 5:30 pm – 8:00 pm  
URL:https://www.sapelohammockgolfclub.com/event/cocktails-sunsets-80/2025-12-12/
CATEGORIES:Event
END:VEVENT
BEGIN:VEVENT
DTSTART;TZID=America/New_York:20251214T140000
DTEND;TZID=America/New_York:20251214T160000
DTSTAMP:20260421T074928
CREATED:20251030T182235Z
LAST-MODIFIED:20251030T182235Z
UID:10001718-1765720800-1765728000@www.sapelohammockgolfclub.com
SUMMARY:Santa at Sapelo
DESCRIPTION:Santa at Sapelo \n2:00 pm – 4:00 pm
URL:https://www.sapelohammockgolfclub.com/event/santa-at-sapelo-2/
CATEGORIES:Event
END:VEVENT
BEGIN:VEVENT
DTSTART;TZID=America/New_York:20251219T173000
DTEND;TZID=America/New_York:20251219T200000
DTSTAMP:20260421T074928
CREATED:20250801T170518Z
LAST-MODIFIED:20250801T170518Z
UID:10001431-1766165400-1766174400@www.sapelohammockgolfclub.com
SUMMARY:Cocktails & Sunsets
DESCRIPTION:Cocktails & Sunsets 5:30 pm – 8:00 pm  
URL:https://www.sapelohammockgolfclub.com/event/cocktails-sunsets-80/2025-12-19/
CATEGORIES:Event
END:VEVENT
BEGIN:VEVENT
DTSTART;TZID=America/New_York:20251224T090000
DTEND;TZID=America/New_York:20251224T130000
DTSTAMP:20260421T074928
CREATED:20251030T182412Z
LAST-MODIFIED:20251030T182412Z
UID:10001719-1766566800-1766581200@www.sapelohammockgolfclub.com
SUMMARY:Christmas Eve Club Closes at 1:00 pm
DESCRIPTION:Christmas Eve Club \n9:00 am Shotgun \nCloses at 1:00 pm
URL:https://www.sapelohammockgolfclub.com/event/christmas-eve-club-closes-at-100-pm/
CATEGORIES:Event
END:VEVENT
BEGIN:VEVENT
DTSTART;TZID=America/New_York:20251226T173000
DTEND;TZID=America/New_York:20251226T200000
DTSTAMP:20260421T074928
CREATED:20250801T170518Z
LAST-MODIFIED:20250801T170518Z
UID:10001432-1766770200-1766779200@www.sapelohammockgolfclub.com
SUMMARY:Cocktails & Sunsets
DESCRIPTION:Cocktails & Sunsets 5:30 pm – 8:00 pm  
URL:https://www.sapelohammockgolfclub.com/event/cocktails-sunsets-80/2025-12-26/
CATEGORIES:Event
END:VEVENT
END:VCALENDAR