BEGIN:VCALENDAR
VERSION:2.0
PRODID:-//Sapelo Hammock Golf Club - ECPv6.15.18//NONSGML v1.0//EN
CALSCALE:GREGORIAN
METHOD:PUBLISH
X-WR-CALNAME:Sapelo Hammock Golf Club
X-ORIGINAL-URL:https://www.sapelohammockgolfclub.com
X-WR-CALDESC:Events for Sapelo Hammock Golf Club
REFRESH-INTERVAL;VALUE=DURATION:PT1H
X-Robots-Tag:noindex
X-PUBLISHED-TTL:PT1H
BEGIN:VTIMEZONE
TZID:America/New_York
BEGIN:DAYLIGHT
TZOFFSETFROM:-0500
TZOFFSETTO:-0400
TZNAME:EDT
DTSTART:20240310T070000
END:DAYLIGHT
BEGIN:STANDARD
TZOFFSETFROM:-0400
TZOFFSETTO:-0500
TZNAME:EST
DTSTART:20241103T060000
END:STANDARD
BEGIN:DAYLIGHT
TZOFFSETFROM:-0500
TZOFFSETTO:-0400
TZNAME:EDT
DTSTART:20250309T070000
END:DAYLIGHT
BEGIN:STANDARD
TZOFFSETFROM:-0400
TZOFFSETTO:-0500
TZNAME:EST
DTSTART:20251102T060000
END:STANDARD
BEGIN:DAYLIGHT
TZOFFSETFROM:-0500
TZOFFSETTO:-0400
TZNAME:EDT
DTSTART:20260308T070000
END:DAYLIGHT
BEGIN:STANDARD
TZOFFSETFROM:-0400
TZOFFSETTO:-0500
TZNAME:EST
DTSTART:20261101T060000
END:STANDARD
END:VTIMEZONE
BEGIN:VEVENT
DTSTART;TZID=America/New_York:20250402T170000
DTEND;TZID=America/New_York:20250402T170000
DTSTAMP:20260421T185022
CREATED:20250331T170229Z
LAST-MODIFIED:20250331T170350Z
UID:10001382-1743613200-1743613200@www.sapelohammockgolfclub.com
SUMMARY:Pre-Masters Champion Dinner
DESCRIPTION:
URL:https://www.sapelohammockgolfclub.com/event/pre-masters-champion-dinner/
CATEGORIES:Event
END:VEVENT
BEGIN:VEVENT
DTSTART;TZID=America/New_York:20250404T173000
DTEND;TZID=America/New_York:20250404T200000
DTSTAMP:20260421T185022
CREATED:20250303T164025Z
LAST-MODIFIED:20250331T170412Z
UID:10001374-1743787800-1743796800@www.sapelohammockgolfclub.com
SUMMARY:Cocktails & Sunsets
DESCRIPTION:
URL:https://www.sapelohammockgolfclub.com/event/cocktails-sunsets-69/
CATEGORIES:Event
END:VEVENT
BEGIN:VEVENT
DTSTART;VALUE=DATE:20250405
DTEND;VALUE=DATE:20250406
DTSTAMP:20260421T185022
CREATED:20250303T164048Z
LAST-MODIFIED:20250331T170441Z
UID:10001375-1743811200-1743897599@www.sapelohammockgolfclub.com
SUMMARY:MGA Match Play Begins
DESCRIPTION:
URL:https://www.sapelohammockgolfclub.com/event/mga-match-play-begins/
CATEGORIES:Event
END:VEVENT
BEGIN:VEVENT
DTSTART;TZID=America/New_York:20250409T150000
DTEND;TZID=America/New_York:20250409T150000
DTSTAMP:20260421T185022
CREATED:20250331T171008Z
LAST-MODIFIED:20250331T171008Z
UID:10001385-1744210800-1744210800@www.sapelohammockgolfclub.com
SUMMARY:MCA High School Match
DESCRIPTION:
URL:https://www.sapelohammockgolfclub.com/event/mca-high-school-match-2/2025-04-09/
CATEGORIES:Event
END:VEVENT
BEGIN:VEVENT
DTSTART;TZID=America/New_York:20250411T173000
DTEND;TZID=America/New_York:20250411T200000
DTSTAMP:20260421T185022
CREATED:20250331T170705Z
LAST-MODIFIED:20250331T170705Z
UID:10001384-1744392600-1744401600@www.sapelohammockgolfclub.com
SUMMARY:Cocktails & Sunsets
DESCRIPTION:April 11th Cocktails & Sunsets 5:30 – 8:00 pm
URL:https://www.sapelohammockgolfclub.com/event/cocktails-sunsets-72/
CATEGORIES:Event
END:VEVENT
BEGIN:VEVENT
DTSTART;TZID=America/New_York:20250414T150000
DTEND;TZID=America/New_York:20250414T150000
DTSTAMP:20260421T185022
CREATED:20250331T170549Z
LAST-MODIFIED:20250331T170549Z
UID:10001383-1744642800-1744642800@www.sapelohammockgolfclub.com
SUMMARY:MCA High School Match
DESCRIPTION:
URL:https://www.sapelohammockgolfclub.com/event/mca-high-school-match/
CATEGORIES:Event
END:VEVENT
BEGIN:VEVENT
DTSTART;TZID=America/New_York:20250416T150000
DTEND;TZID=America/New_York:20250416T150000
DTSTAMP:20260421T185022
CREATED:20250331T171008Z
LAST-MODIFIED:20250331T171008Z
UID:10001386-1744815600-1744815600@www.sapelohammockgolfclub.com
SUMMARY:MCA High School Match
DESCRIPTION:
URL:https://www.sapelohammockgolfclub.com/event/mca-high-school-match-2/2025-04-16/
CATEGORIES:Event
END:VEVENT
BEGIN:VEVENT
DTSTART;TZID=America/New_York:20250418T173000
DTEND;TZID=America/New_York:20250418T200000
DTSTAMP:20260421T185022
CREATED:20250303T164223Z
LAST-MODIFIED:20250331T171158Z
UID:10001377-1744997400-1745006400@www.sapelohammockgolfclub.com
SUMMARY:Cocktails & Sunsets
DESCRIPTION:
URL:https://www.sapelohammockgolfclub.com/event/cocktails-sunsets-70/
CATEGORIES:Event
END:VEVENT
BEGIN:VEVENT
DTSTART;TZID=America/New_York:20250422T090000
DTEND;TZID=America/New_York:20250423T090000
DTSTAMP:20260421T185022
CREATED:20250303T164402Z
LAST-MODIFIED:20250331T171239Z
UID:10001379-1745312400-1745398800@www.sapelohammockgolfclub.com
SUMMARY:Savannah Women’s Golf Association
DESCRIPTION:9:00 am Shotgun \nCourse Closed until Completion of Play both days. 
URL:https://www.sapelohammockgolfclub.com/event/savannah-womens-golf-association/
CATEGORIES:Event
END:VEVENT
BEGIN:VEVENT
DTSTART;TZID=America/New_York:20250425T173000
DTEND;TZID=America/New_York:20250425T200000
DTSTAMP:20260421T185022
CREATED:20250303T164443Z
LAST-MODIFIED:20250331T171327Z
UID:10001380-1745602200-1745611200@www.sapelohammockgolfclub.com
SUMMARY:Cocktails & Sunsets
DESCRIPTION:
URL:https://www.sapelohammockgolfclub.com/event/cocktails-sunsets-71/
CATEGORIES:Event
END:VEVENT
END:VCALENDAR